{"text_format":"1","workbook":"xlsx","n_sheets":8,"sheets":["1_申請書","2_施設一覧","3_平面図一覧","4_部屋一覧","5_機器一覧","6_領収証等一覧","7_台紙","リスト"],"not_rendered":{"charts":0,"images":0,"macros":1,"external_links":0,"defined_names":12,"comments":1,"pivot_tables":0},"unopened":[],"bounds":{"document_bytes":16777216,"sheet_cells":100000,"rows_first":2000,"rows_last":500,"rows_between":2000,"halvings":0,"cell_chars":16384,"cell_head_chars":4096},"cells_cut":0,"cells_raw":0,"read":"whole","date_system":"1900"}

{"sheet":"1_申請書","index":0,"n_rows":31,"n_cols":41,"rows_kept":31,"cut":false,"hidden":false,"merged":[[2,0,2,38],[4,29,4,30],[4,32,4,33],[4,35,4,36],[5,0,5,6],[5,10,5,13],[5,14,5,19],[9,0,16,0],[9,1,9,10],[9,11,9,38],[10,1,10,10],[10,11,10,38],[11,1,12,10],[11,16,11,17],[11,19,11,21],[12,11,12,38],[13,1,14,10],[13,11,13,17],[13,18,13,24],[13,25,13,31],[13,32,13,38],[14,11,14,17],[14,18,14,38],[23,0,23,38],[25,0,25,38],[18,11,18,38],[19,11,19,38],[26,0,26,5],[26,6,26,11],[26,12,26,13],[26,14,26,20],[26,21,26,38],[24,0,24,38],[21,0,21,38],[22,2,22,38],[22,0,22,1],[18,0,18,10],[19,0,19,10],[27,20,28,20],[27,21,27,38],[28,0,28,1],[28,6,28,8],[28,21,28,38],[27,15,28,15],[27,16,28,16],[27,17,28,17],[27,18,28,18],[27,19,28,19],[27,0,27,3],[27,4,27,5],[27,6,27,11],[27,12,28,13],[27,14,28,14],[29,0,29,6],[29,7,29,12],[29,13,29,20],[29,21,29,38],[30,0,31,6],[30,7,31,7],[30,8,31,8],[30,9,31,9],[30,10,31,10],[30,11,31,11],[30,12,31,12],[30,13,31,13],[30,14,31,14],[30,15,31,15],[30,16,31,16],[30,17,31,17],[32,0,32,38],[30,18,31,18],[30,19,31,19],[30,20,31,20],[30,21,30,38],[31,21,31,38],[11,23,11,38],[17,0,17,38],[20,0,20,38],[0,0,1,38],[3,0,3,38],[4,0,4,24],[15,1,15,10],[15,11,15,17],[15,18,15,24],[15,25,15,31],[15,32,15,38],[16,1,16,10],[16,11,16,17],[16,18,16,24],[16,25,16,31],[16,32,16,38]]}
[]
[]
["山梨県社会福祉施設等エアロゾル感染対策強化事業費補助金申請書"]
[]
[null,null,null,null,null,null,null,null,null,null,null,null,null,null,null,null,null,null,null,null,null,null,null,null,null,null,null,null,"　　令和",null,null,"年",null,null,"月",null,null,"日"]
["山梨県知事",null,null,null,null,null,null,null,"殿",null,"（提出先）"]
[]
["　標記について、次のとおり申請します。"]
[]
["申請者","フリガナ"]
[null,"名　　称"]
[null,"所在地",null,null,null,null,null,null,null,null,null,"（郵便番号",null,null,null,null,null,null,"‐",null,null,null,"）"]
[]
[null,"連絡先",null,null,null,null,null,null,null,null,null,"電話番号",null,null,null,null,null,null,null,null,null,null,null,null,null,"FAX番号"]
[null,null,null,null,null,null,null,null,null,null,null,"E-mail"]
[null,"代表者の職・氏名",null,null,null,null,null,null,null,null,null,"職　　名",null,null,null,null,null,null,null,null,null,null,null,null,null,"氏　　名"]
[null,"申請に関する担当者",null,null,null,null,null,null,null,null,null,"職　　名",null,null,null,null,null,null,null,null,null,null,null,null,null,"氏　　名"]
[]
["施設分類",null,null,null,null,null,null,null,null,null,null,null,null,null,null,null,null,null,null,null,null,null,null,null,null,null,null,null,null,null,null,null,null,null,null,null,null,null,null,null,{"$f":"IFERROR(MATCH($L$19,リスト!$B$2:$G$2,0),0)","v":0}]
["申請額",null,null,null,null,null,null,null,null,null,null,{"$f":"SUM('2_施設一覧'!G4:G73)","v":0}]
[]
["誓約事項"]
[null,null,"補助金の申請に当たり、下記の事項を誓約する。"]
["・この助成金と対象経費を重複して、他の助成金を受けていない。\n・この助成金に係る収入及び支出等に係る証拠書類を適切に整備保管する。\n・施設分類、サービス種別、申請金額等の申請内容に相違ない。\n・申請に係る機器は、令和4年7月1日から同年9月30日までの間に発注したものである。"]
[]
["口座情報"]
["金融機関名\n（ゆうちょ銀行を除く）",null,null,null,null,null,"支店名",null,null,null,null,null,"分類",null,"口座番号\n（右詰めでお書きください）",null,null,null,null,null,null,"（フリガナ）\n口座名義"]
[]
["金融機関コード",null,null,null,null,null,"支店コード"]
["ゆうちょ銀行",null,null,null,null,null,null,"通帳記号\n（６桁目がある場合は、※欄に御記入ください。）",null,null,null,null,null,"口座番号\n（右詰めでお書きください）",null,null,null,null,null,null,null,"（フリガナ）\n口座名義"]
["ゆうちょ銀行を選択された場合は、貯金通帳の見開き左上またはキャッシュカードに記載された記号・番号をお書きください。"]

{"sheet":"2_施設一覧","index":1,"n_rows":73,"n_cols":9,"rows_kept":73,"cut":false,"hidden":false,"merged":[]}
["（様式２）施設一覧"]
[]
["施設№","事業所番号","施設名","サービス種別など","郵便番号","所在地","申請額合計"]
[1,null,null,null,null,null,{"$f":"IF(SUMIF('3_平面図一覧'!$A$4:$A$116,A4,'3_平面図一覧'!$E$4:$E$116)<>0,SUMIF('3_平面図一覧'!$A$4:$A$116,A4,'3_平面図一覧'!$E$4:$E$116),\"\")","v":""},null,{"$f":"OR(B4<>\"\",C4<>\"\",D4<>\"\",E4<>\"\",F4<>\"\",G4<>\"\")","v":false}]
[2,null,null,null,null,null,{"$f":"IF(SUMIF('3_平面図一覧'!$A$4:$A$116,A5,'3_平面図一覧'!$E$4:$E$116)<>0,SUMIF('3_平面図一覧'!$A$4:$A$116,A5,'3_平面図一覧'!$E$4:$E$116),\"\")","v":""},null,{"$f":"OR(B5<>\"\",C5<>\"\",D5<>\"\",E5<>\"\",F5<>\"\",G5<>\"\")","v":false}]
[3,null,null,null,null,null,{"$f":"IF(SUMIF('3_平面図一覧'!$A$4:$A$116,A6,'3_平面図一覧'!$E$4:$E$116)<>0,SUMIF('3_平面図一覧'!$A$4:$A$116,A6,'3_平面図一覧'!$E$4:$E$116),\"\")","v":""},null,false]
[4,null,null,null,null,null,{"$f":"IF(SUMIF('3_平面図一覧'!$A$4:$A$116,A7,'3_平面図一覧'!$E$4:$E$116)<>0,SUMIF('3_平面図一覧'!$A$4:$A$116,A7,'3_平面図一覧'!$E$4:$E$116),\"\")","v":""},null,false]
[5,null,null,null,null,null,{"$f":"IF(SUMIF('3_平面図一覧'!$A$4:$A$116,A8,'3_平面図一覧'!$E$4:$E$116)<>0,SUMIF('3_平面図一覧'!$A$4:$A$116,A8,'3_平面図一覧'!$E$4:$E$116),\"\")","v":""},null,false]
[6,null,null,null,null,null,{"$f":"IF(SUMIF('3_平面図一覧'!$A$4:$A$116,A9,'3_平面図一覧'!$E$4:$E$116)<>0,SUMIF('3_平面図一覧'!$A$4:$A$116,A9,'3_平面図一覧'!$E$4:$E$116),\"\")","v":""},null,false]
[7,null,null,null,null,null,{"$f":"IF(SUMIF('3_平面図一覧'!$A$4:$A$116,A10,'3_平面図一覧'!$E$4:$E$116)<>0,SUMIF('3_平面図一覧'!$A$4:$A$116,A10,'3_平面図一覧'!$E$4:$E$116),\"\")","v":""},null,false]
[8,null,null,null,null,null,{"$f":"IF(SUMIF('3_平面図一覧'!$A$4:$A$116,A11,'3_平面図一覧'!$E$4:$E$116)<>0,SUMIF('3_平面図一覧'!$A$4:$A$116,A11,'3_平面図一覧'!$E$4:$E$116),\"\")","v":""},null,false]
[9,null,null,null,null,null,{"$f":"IF(SUMIF('3_平面図一覧'!$A$4:$A$116,A12,'3_平面図一覧'!$E$4:$E$116)<>0,SUMIF('3_平面図一覧'!$A$4:$A$116,A12,'3_平面図一覧'!$E$4:$E$116),\"\")","v":""},null,false]
[10,null,null,null,null,null,{"$f":"IF(SUMIF('3_平面図一覧'!$A$4:$A$116,A13,'3_平面図一覧'!$E$4:$E$116)<>0,SUMIF('3_平面図一覧'!$A$4:$A$116,A13,'3_平面図一覧'!$E$4:$E$116),\"\")","v":""},null,false]
[11,null,null,null,null,null,{"$f":"IF(SUMIF('3_平面図一覧'!$A$4:$A$116,A14,'3_平面図一覧'!$E$4:$E$116)<>0,SUMIF('3_平面図一覧'!$A$4:$A$116,A14,'3_平面図一覧'!$E$4:$E$116),\"\")","v":""},null,false]
[12,null,null,null,null,null,{"$f":"IF(SUMIF('3_平面図一覧'!$A$4:$A$116,A15,'3_平面図一覧'!$E$4:$E$116)<>0,SUMIF('3_平面図一覧'!$A$4:$A$116,A15,'3_平面図一覧'!$E$4:$E$116),\"\")","v":""},null,false]
[13,null,null,null,null,null,{"$f":"IF(SUMIF('3_平面図一覧'!$A$4:$A$116,A16,'3_平面図一覧'!$E$4:$E$116)<>0,SUMIF('3_平面図一覧'!$A$4:$A$116,A16,'3_平面図一覧'!$E$4:$E$116),\"\")","v":""},null,false]
[14,null,null,null,null,null,{"$f":"IF(SUMIF('3_平面図一覧'!$A$4:$A$116,A17,'3_平面図一覧'!$E$4:$E$116)<>0,SUMIF('3_平面図一覧'!$A$4:$A$116,A17,'3_平面図一覧'!$E$4:$E$116),\"\")","v":""},null,false]
[15,null,null,null,null,null,{"$f":"IF(SUMIF('3_平面図一覧'!$A$4:$A$116,A18,'3_平面図一覧'!$E$4:$E$116)<>0,SUMIF('3_平面図一覧'!$A$4:$A$116,A18,'3_平面図一覧'!$E$4:$E$116),\"\")","v":""},null,false]
[16,null,null,null,null,null,{"$f":"IF(SUMIF('3_平面図一覧'!$A$4:$A$116,A19,'3_平面図一覧'!$E$4:$E$116)<>0,SUMIF('3_平面図一覧'!$A$4:$A$116,A19,'3_平面図一覧'!$E$4:$E$116),\"\")","v":""},null,false]
[17,null,null,null,null,null,{"$f":"IF(SUMIF('3_平面図一覧'!$A$4:$A$116,A20,'3_平面図一覧'!$E$4:$E$116)<>0,SUMIF('3_平面図一覧'!$A$4:$A$116,A20,'3_平面図一覧'!$E$4:$E$116),\"\")","v":""},null,false]
[18,null,null,null,null,null,{"$f":"IF(SUMIF('3_平面図一覧'!$A$4:$A$116,A21,'3_平面図一覧'!$E$4:$E$116)<>0,SUMIF('3_平面図一覧'!$A$4:$A$116,A21,'3_平面図一覧'!$E$4:$E$116),\"\")","v":""},null,false]
[19,null,null,null,null,null,{"$f":"IF(SUMIF('3_平面図一覧'!$A$4:$A$116,A22,'3_平面図一覧'!$E$4:$E$116)<>0,SUMIF('3_平面図一覧'!$A$4:$A$116,A22,'3_平面図一覧'!$E$4:$E$116),\"\")","v":""},null,false]
[20,null,null,null,null,null,{"$f":"IF(SUMIF('3_平面図一覧'!$A$4:$A$116,A23,'3_平面図一覧'!$E$4:$E$116)<>0,SUMIF('3_平面図一覧'!$A$4:$A$116,A23,'3_平面図一覧'!$E$4:$E$116),\"\")","v":""},null,false]
[21,null,null,null,null,null,{"$f":"IF(SUMIF('3_平面図一覧'!$A$4:$A$116,A24,'3_平面図一覧'!$E$4:$E$116)<>0,SUMIF('3_平面図一覧'!$A$4:$A$116,A24,'3_平面図一覧'!$E$4:$E$116),\"\")","v":""},null,false]
[22,null,null,null,null,null,{"$f":"IF(SUMIF('3_平面図一覧'!$A$4:$A$116,A25,'3_平面図一覧'!$E$4:$E$116)<>0,SUMIF('3_平面図一覧'!$A$4:$A$116,A25,'3_平面図一覧'!$E$4:$E$116),\"\")","v":""},null,false]
[23,null,null,null,null,null,{"$f":"IF(SUMIF('3_平面図一覧'!$A$4:$A$116,A26,'3_平面図一覧'!$E$4:$E$116)<>0,SUMIF('3_平面図一覧'!$A$4:$A$116,A26,'3_平面図一覧'!$E$4:$E$116),\"\")","v":""},null,false]
[24,null,null,null,null,null,{"$f":"IF(SUMIF('3_平面図一覧'!$A$4:$A$116,A27,'3_平面図一覧'!$E$4:$E$116)<>0,SUMIF('3_平面図一覧'!$A$4:$A$116,A27,'3_平面図一覧'!$E$4:$E$116),\"\")","v":""},null,false]
[25,null,null,null,null,null,{"$f":"IF(SUMIF('3_平面図一覧'!$A$4:$A$116,A28,'3_平面図一覧'!$E$4:$E$116)<>0,SUMIF('3_平面図一覧'!$A$4:$A$116,A28,'3_平面図一覧'!$E$4:$E$116),\"\")","v":""},null,false]
[26,null,null,null,null,null,{"$f":"IF(SUMIF('3_平面図一覧'!$A$4:$A$116,A29,'3_平面図一覧'!$E$4:$E$116)<>0,SUMIF('3_平面図一覧'!$A$4:$A$116,A29,'3_平面図一覧'!$E$4:$E$116),\"\")","v":""},null,false]
[27,null,null,null,null,null,{"$f":"IF(SUMIF('3_平面図一覧'!$A$4:$A$116,A30,'3_平面図一覧'!$E$4:$E$116)<>0,SUMIF('3_平面図一覧'!$A$4:$A$116,A30,'3_平面図一覧'!$E$4:$E$116),\"\")","v":""},null,false]
[28,null,null,null,null,null,{"$f":"IF(SUMIF('3_平面図一覧'!$A$4:$A$116,A31,'3_平面図一覧'!$E$4:$E$116)<>0,SUMIF('3_平面図一覧'!$A$4:$A$116,A31,'3_平面図一覧'!$E$4:$E$116),\"\")","v":""},null,false]
[29,null,null,null,null,null,{"$f":"IF(SUMIF('3_平面図一覧'!$A$4:$A$116,A32,'3_平面図一覧'!$E$4:$E$116)<>0,SUMIF('3_平面図一覧'!$A$4:$A$116,A32,'3_平面図一覧'!$E$4:$E$116),\"\")","v":""},null,false]
[30,null,null,null,null,null,{"$f":"IF(SUMIF('3_平面図一覧'!$A$4:$A$116,A33,'3_平面図一覧'!$E$4:$E$116)<>0,SUMIF('3_平面図一覧'!$A$4:$A$116,A33,'3_平面図一覧'!$E$4:$E$116),\"\")","v":""},null,false]
[31,null,null,null,null,null,{"$f":"IF(SUMIF('3_平面図一覧'!$A$4:$A$116,A34,'3_平面図一覧'!$E$4:$E$116)<>0,SUMIF('3_平面図一覧'!$A$4:$A$116,A34,'3_平面図一覧'!$E$4:$E$116),\"\")","v":""},null,{"$f":"OR(B34<>\"\",C34<>\"\",D34<>\"\",E34<>\"\",F34<>\"\",G34<>\"\")","v":false}]
[32,null,null,null,null,null,{"$f":"IF(SUMIF('3_平面図一覧'!$A$4:$A$116,A35,'3_平面図一覧'!$E$4:$E$116)<>0,SUMIF('3_平面図一覧'!$A$4:$A$116,A35,'3_平面図一覧'!$E$4:$E$116),\"\")","v":""},null,false]
[33,null,null,null,null,null,{"$f":"IF(SUMIF('3_平面図一覧'!$A$4:$A$116,A36,'3_平面図一覧'!$E$4:$E$116)<>0,SUMIF('3_平面図一覧'!$A$4:$A$116,A36,'3_平面図一覧'!$E$4:$E$116),\"\")","v":""},null,false]
[34,null,null,null,null,null,{"$f":"IF(SUMIF('3_平面図一覧'!$A$4:$A$116,A37,'3_平面図一覧'!$E$4:$E$116)<>0,SUMIF('3_平面図一覧'!$A$4:$A$116,A37,'3_平面図一覧'!$E$4:$E$116),\"\")","v":""},null,false]
[35,null,null,null,null,null,{"$f":"IF(SUMIF('3_平面図一覧'!$A$4:$A$116,A38,'3_平面図一覧'!$E$4:$E$116)<>0,SUMIF('3_平面図一覧'!$A$4:$A$116,A38,'3_平面図一覧'!$E$4:$E$116),\"\")","v":""},null,false]
[36,null,null,null,null,null,{"$f":"IF(SUMIF('3_平面図一覧'!$A$4:$A$116,A39,'3_平面図一覧'!$E$4:$E$116)<>0,SUMIF('3_平面図一覧'!$A$4:$A$116,A39,'3_平面図一覧'!$E$4:$E$116),\"\")","v":""},null,false]
[37,null,null,null,null,null,{"$f":"IF(SUMIF('3_平面図一覧'!$A$4:$A$116,A40,'3_平面図一覧'!$E$4:$E$116)<>0,SUMIF('3_平面図一覧'!$A$4:$A$116,A40,'3_平面図一覧'!$E$4:$E$116),\"\")","v":""},null,false]
[38,null,null,null,null,null,{"$f":"IF(SUMIF('3_平面図一覧'!$A$4:$A$116,A41,'3_平面図一覧'!$E$4:$E$116)<>0,SUMIF('3_平面図一覧'!$A$4:$A$116,A41,'3_平面図一覧'!$E$4:$E$116),\"\")","v":""},null,false]
[39,null,null,null,null,null,{"$f":"IF(SUMIF('3_平面図一覧'!$A$4:$A$116,A42,'3_平面図一覧'!$E$4:$E$116)<>0,SUMIF('3_平面図一覧'!$A$4:$A$116,A42,'3_平面図一覧'!$E$4:$E$116),\"\")","v":""},null,false]
[40,null,null,null,null,null,{"$f":"IF(SUMIF('3_平面図一覧'!$A$4:$A$116,A43,'3_平面図一覧'!$E$4:$E$116)<>0,SUMIF('3_平面図一覧'!$A$4:$A$116,A43,'3_平面図一覧'!$E$4:$E$116),\"\")","v":""},null,false]
[41,null,null,null,null,null,{"$f":"IF(SUMIF('3_平面図一覧'!$A$4:$A$116,A44,'3_平面図一覧'!$E$4:$E$116)<>0,SUMIF('3_平面図一覧'!$A$4:$A$116,A44,'3_平面図一覧'!$E$4:$E$116),\"\")","v":""},null,false]
[42,null,null,null,null,null,{"$f":"IF(SUMIF('3_平面図一覧'!$A$4:$A$116,A45,'3_平面図一覧'!$E$4:$E$116)<>0,SUMIF('3_平面図一覧'!$A$4:$A$116,A45,'3_平面図一覧'!$E$4:$E$116),\"\")","v":""},null,false]
[43,null,null,null,null,null,{"$f":"IF(SUMIF('3_平面図一覧'!$A$4:$A$116,A46,'3_平面図一覧'!$E$4:$E$116)<>0,SUMIF('3_平面図一覧'!$A$4:$A$116,A46,'3_平面図一覧'!$E$4:$E$116),\"\")","v":""},null,false]
[44,null,null,null,null,null,{"$f":"IF(SUMIF('3_平面図一覧'!$A$4:$A$116,A47,'3_平面図一覧'!$E$4:$E$116)<>0,SUMIF('3_平面図一覧'!$A$4:$A$116,A47,'3_平面図一覧'!$E$4:$E$116),\"\")","v":""},null,false]
[45,null,null,null,null,null,{"$f":"IF(SUMIF('3_平面図一覧'!$A$4:$A$116,A48,'3_平面図一覧'!$E$4:$E$116)<>0,SUMIF('3_平面図一覧'!$A$4:$A$116,A48,'3_平面図一覧'!$E$4:$E$116),\"\")","v":""},null,false]
[46,null,null,null,null,null,{"$f":"IF(SUMIF('3_平面図一覧'!$A$4:$A$116,A49,'3_平面図一覧'!$E$4:$E$116)<>0,SUMIF('3_平面図一覧'!$A$4:$A$116,A49,'3_平面図一覧'!$E$4:$E$116),\"\")","v":""},null,false]
[47,null,null,null,null,null,{"$f":"IF(SUMIF('3_平面図一覧'!$A$4:$A$116,A50,'3_平面図一覧'!$E$4:$E$116)<>0,SUMIF('3_平面図一覧'!$A$4:$A$116,A50,'3_平面図一覧'!$E$4:$E$116),\"\")","v":""},null,false]
[48,null,null,null,null,null,{"$f":"IF(SUMIF('3_平面図一覧'!$A$4:$A$116,A51,'3_平面図一覧'!$E$4:$E$116)<>0,SUMIF('3_平面図一覧'!$A$4:$A$116,A51,'3_平面図一覧'!$E$4:$E$116),\"\")","v":""},null,false]
[49,null,null,null,null,null,{"$f":"IF(SUMIF('3_平面図一覧'!$A$4:$A$116,A52,'3_平面図一覧'!$E$4:$E$116)<>0,SUMIF('3_平面図一覧'!$A$4:$A$116,A52,'3_平面図一覧'!$E$4:$E$116),\"\")","v":""},null,false]
[50,null,null,null,null,null,{"$f":"IF(SUMIF('3_平面図一覧'!$A$4:$A$116,A53,'3_平面図一覧'!$E$4:$E$116)<>0,SUMIF('3_平面図一覧'!$A$4:$A$116,A53,'3_平面図一覧'!$E$4:$E$116),\"\")","v":""},null,false]
[51,null,null,null,null,null,{"$f":"IF(SUMIF('3_平面図一覧'!$A$4:$A$116,A54,'3_平面図一覧'!$E$4:$E$116)<>0,SUMIF('3_平面図一覧'!$A$4:$A$116,A54,'3_平面図一覧'!$E$4:$E$116),\"\")","v":""},null,false]
[52,null,null,null,null,null,{"$f":"IF(SUMIF('3_平面図一覧'!$A$4:$A$116,A55,'3_平面図一覧'!$E$4:$E$116)<>0,SUMIF('3_平面図一覧'!$A$4:$A$116,A55,'3_平面図一覧'!$E$4:$E$116),\"\")","v":""},null,false]
[53,null,null,null,null,null,{"$f":"IF(SUMIF('3_平面図一覧'!$A$4:$A$116,A56,'3_平面図一覧'!$E$4:$E$116)<>0,SUMIF('3_平面図一覧'!$A$4:$A$116,A56,'3_平面図一覧'!$E$4:$E$116),\"\")","v":""},null,false]
[54,null,null,null,null,null,{"$f":"IF(SUMIF('3_平面図一覧'!$A$4:$A$116,A57,'3_平面図一覧'!$E$4:$E$116)<>0,SUMIF('3_平面図一覧'!$A$4:$A$116,A57,'3_平面図一覧'!$E$4:$E$116),\"\")","v":""},null,false]
[55,null,null,null,null,null,{"$f":"IF(SUMIF('3_平面図一覧'!$A$4:$A$116,A58,'3_平面図一覧'!$E$4:$E$116)<>0,SUMIF('3_平面図一覧'!$A$4:$A$116,A58,'3_平面図一覧'!$E$4:$E$116),\"\")","v":""},null,false]
[56,null,null,null,null,null,{"$f":"IF(SUMIF('3_平面図一覧'!$A$4:$A$116,A59,'3_平面図一覧'!$E$4:$E$116)<>0,SUMIF('3_平面図一覧'!$A$4:$A$116,A59,'3_平面図一覧'!$E$4:$E$116),\"\")","v":""},null,false]
[57,null,null,null,null,null,{"$f":"IF(SUMIF('3_平面図一覧'!$A$4:$A$116,A60,'3_平面図一覧'!$E$4:$E$116)<>0,SUMIF('3_平面図一覧'!$A$4:$A$116,A60,'3_平面図一覧'!$E$4:$E$116),\"\")","v":""},null,false]
[58,null,null,null,null,null,{"$f":"IF(SUMIF('3_平面図一覧'!$A$4:$A$116,A61,'3_平面図一覧'!$E$4:$E$116)<>0,SUMIF('3_平面図一覧'!$A$4:$A$116,A61,'3_平面図一覧'!$E$4:$E$116),\"\")","v":""},null,false]
[59,null,null,null,null,null,{"$f":"IF(SUMIF('3_平面図一覧'!$A$4:$A$116,A62,'3_平面図一覧'!$E$4:$E$116)<>0,SUMIF('3_平面図一覧'!$A$4:$A$116,A62,'3_平面図一覧'!$E$4:$E$116),\"\")","v":""},null,false]
[60,null,null,null,null,null,{"$f":"IF(SUMIF('3_平面図一覧'!$A$4:$A$116,A63,'3_平面図一覧'!$E$4:$E$116)<>0,SUMIF('3_平面図一覧'!$A$4:$A$116,A63,'3_平面図一覧'!$E$4:$E$116),\"\")","v":""},null,false]
[61,null,null,null,null,null,{"$f":"IF(SUMIF('3_平面図一覧'!$A$4:$A$116,A64,'3_平面図一覧'!$E$4:$E$116)<>0,SUMIF('3_平面図一覧'!$A$4:$A$116,A64,'3_平面図一覧'!$E$4:$E$116),\"\")","v":""},null,{"$f":"OR(B64<>\"\",C64<>\"\",D64<>\"\",E64<>\"\",F64<>\"\",G64<>\"\")","v":false}]
[62,null,null,null,null,null,{"$f":"IF(SUMIF('3_平面図一覧'!$A$4:$A$116,A65,'3_平面図一覧'!$E$4:$E$116)<>0,SUMIF('3_平面図一覧'!$A$4:$A$116,A65,'3_平面図一覧'!$E$4:$E$116),\"\")","v":""},null,false]
[63,null,null,null,null,null,{"$f":"IF(SUMIF('3_平面図一覧'!$A$4:$A$116,A66,'3_平面図一覧'!$E$4:$E$116)<>0,SUMIF('3_平面図一覧'!$A$4:$A$116,A66,'3_平面図一覧'!$E$4:$E$116),\"\")","v":""},null,false]
[64,null,null,null,null,null,{"$f":"IF(SUMIF('3_平面図一覧'!$A$4:$A$116,A67,'3_平面図一覧'!$E$4:$E$116)<>0,SUMIF('3_平面図一覧'!$A$4:$A$116,A67,'3_平面図一覧'!$E$4:$E$116),\"\")","v":""},null,false]
[65,null,null,null,null,null,{"$f":"IF(SUMIF('3_平面図一覧'!$A$4:$A$116,A68,'3_平面図一覧'!$E$4:$E$116)<>0,SUMIF('3_平面図一覧'!$A$4:$A$116,A68,'3_平面図一覧'!$E$4:$E$116),\"\")","v":""},null,false]
[66,null,null,null,null,null,{"$f":"IF(SUMIF('3_平面図一覧'!$A$4:$A$116,A69,'3_平面図一覧'!$E$4:$E$116)<>0,SUMIF('3_平面図一覧'!$A$4:$A$116,A69,'3_平面図一覧'!$E$4:$E$116),\"\")","v":""},null,false]
[67,null,null,null,null,null,{"$f":"IF(SUMIF('3_平面図一覧'!$A$4:$A$116,A70,'3_平面図一覧'!$E$4:$E$116)<>0,SUMIF('3_平面図一覧'!$A$4:$A$116,A70,'3_平面図一覧'!$E$4:$E$116),\"\")","v":""},null,false]
[68,null,null,null,null,null,{"$f":"IF(SUMIF('3_平面図一覧'!$A$4:$A$116,A71,'3_平面図一覧'!$E$4:$E$116)<>0,SUMIF('3_平面図一覧'!$A$4:$A$116,A71,'3_平面図一覧'!$E$4:$E$116),\"\")","v":""},null,false]
[69,null,null,null,null,null,{"$f":"IF(SUMIF('3_平面図一覧'!$A$4:$A$116,A72,'3_平面図一覧'!$E$4:$E$116)<>0,SUMIF('3_平面図一覧'!$A$4:$A$116,A72,'3_平面図一覧'!$E$4:$E$116),\"\")","v":""},null,false]
[70,null,null,null,null,null,{"$f":"IF(SUMIF('3_平面図一覧'!$A$4:$A$116,A73,'3_平面図一覧'!$E$4:$E$116)<>0,SUMIF('3_平面図一覧'!$A$4:$A$116,A73,'3_平面図一覧'!$E$4:$E$116),\"\")","v":""},null,{"$f":"OR(B73<>\"\",C73<>\"\",D73<>\"\",E73<>\"\",F73<>\"\",G73<>\"\")","v":false}]

{"sheet":"3_平面図一覧","index":2,"n_rows":116,"n_cols":8,"rows_kept":116,"cut":false,"hidden":false,"merged":[]}
["（様式３）平面図一覧"]
[]
["施設№","施設名","平面図№","階など","申請額合計"]
[null,{"$f":"IF(A4<>\"\",IF(VLOOKUP(A4,'2_施設一覧'!$A$4:$D$73,3,FALSE)=0,\"\",VLOOKUP(A4,'2_施設一覧'!$A$4:$D$73,3,FALSE)),\"\")","v":""},null,null,{"$f":"IF(SUMIF('4_部屋一覧'!$C$4:$C$79,C4,'4_部屋一覧'!$K$4:$K$79)<>0,SUMIF('4_部屋一覧'!$C$4:$C$79,C4,'4_部屋一覧'!$K$4:$K$79),\"\")","v":""},null,{"$f":"A4","v":0},{"$f":"OR(A4<>\"\",B4<>\"\",C4<>\"\",D4<>\"\",E4<>\"\")","v":false}]
[null,{"$f":"IF(A5<>\"\",IF(VLOOKUP(A5,'2_施設一覧'!$A$4:$D$73,3,FALSE)=0,\"\",VLOOKUP(A5,'2_施設一覧'!$A$4:$D$73,3,FALSE)),\"\")","v":""},null,null,{"$f":"IF(SUMIF('4_部屋一覧'!$C$4:$C$79,C5,'4_部屋一覧'!$K$4:$K$79)<>0,SUMIF('4_部屋一覧'!$C$4:$C$79,C5,'4_部屋一覧'!$K$4:$K$79),\"\")","v":""},null,{"$f":"A5","v":0},{"$f":"OR(A5<>\"\",B5<>\"\",C5<>\"\",D5<>\"\",E5<>\"\")","v":false}]
[null,{"$f":"IF(A6<>\"\",IF(VLOOKUP(A6,'2_施設一覧'!$A$4:$D$73,3,FALSE)=0,\"\",VLOOKUP(A6,'2_施設一覧'!$A$4:$D$73,3,FALSE)),\"\")","v":""},null,null,{"$f":"IF(SUMIF('4_部屋一覧'!$C$4:$C$79,C6,'4_部屋一覧'!$K$4:$K$79)<>0,SUMIF('4_部屋一覧'!$C$4:$C$79,C6,'4_部屋一覧'!$K$4:$K$79),\"\")","v":""},null,0,false]
[null,{"$f":"IF(A7<>\"\",IF(VLOOKUP(A7,'2_施設一覧'!$A$4:$D$73,3,FALSE)=0,\"\",VLOOKUP(A7,'2_施設一覧'!$A$4:$D$73,3,FALSE)),\"\")","v":""},null,null,{"$f":"IF(SUMIF('4_部屋一覧'!$C$4:$C$79,C7,'4_部屋一覧'!$K$4:$K$79)<>0,SUMIF('4_部屋一覧'!$C$4:$C$79,C7,'4_部屋一覧'!$K$4:$K$79),\"\")","v":""},null,0,false]
[null,{"$f":"IF(A8<>\"\",IF(VLOOKUP(A8,'2_施設一覧'!$A$4:$D$73,3,FALSE)=0,\"\",VLOOKUP(A8,'2_施設一覧'!$A$4:$D$73,3,FALSE)),\"\")","v":""},null,null,{"$f":"IF(SUMIF('4_部屋一覧'!$C$4:$C$79,C8,'4_部屋一覧'!$K$4:$K$79)<>0,SUMIF('4_部屋一覧'!$C$4:$C$79,C8,'4_部屋一覧'!$K$4:$K$79),\"\")","v":""},null,0,false]
[null,{"$f":"IF(A9<>\"\",IF(VLOOKUP(A9,'2_施設一覧'!$A$4:$D$73,3,FALSE)=0,\"\",VLOOKUP(A9,'2_施設一覧'!$A$4:$D$73,3,FALSE)),\"\")","v":""},null,null,{"$f":"IF(SUMIF('4_部屋一覧'!$C$4:$C$79,C9,'4_部屋一覧'!$K$4:$K$79)<>0,SUMIF('4_部屋一覧'!$C$4:$C$79,C9,'4_部屋一覧'!$K$4:$K$79),\"\")","v":""},null,0,false]
[null,{"$f":"IF(A10<>\"\",IF(VLOOKUP(A10,'2_施設一覧'!$A$4:$D$73,3,FALSE)=0,\"\",VLOOKUP(A10,'2_施設一覧'!$A$4:$D$73,3,FALSE)),\"\")","v":""},null,null,{"$f":"IF(SUMIF('4_部屋一覧'!$C$4:$C$79,C10,'4_部屋一覧'!$K$4:$K$79)<>0,SUMIF('4_部屋一覧'!$C$4:$C$79,C10,'4_部屋一覧'!$K$4:$K$79),\"\")","v":""},null,0,false]
[null,{"$f":"IF(A11<>\"\",IF(VLOOKUP(A11,'2_施設一覧'!$A$4:$D$73,3,FALSE)=0,\"\",VLOOKUP(A11,'2_施設一覧'!$A$4:$D$73,3,FALSE)),\"\")","v":""},null,null,{"$f":"IF(SUMIF('4_部屋一覧'!$C$4:$C$79,C11,'4_部屋一覧'!$K$4:$K$79)<>0,SUMIF('4_部屋一覧'!$C$4:$C$79,C11,'4_部屋一覧'!$K$4:$K$79),\"\")","v":""},null,0,false]
[null,{"$f":"IF(A12<>\"\",IF(VLOOKUP(A12,'2_施設一覧'!$A$4:$D$73,3,FALSE)=0,\"\",VLOOKUP(A12,'2_施設一覧'!$A$4:$D$73,3,FALSE)),\"\")","v":""},null,null,{"$f":"IF(SUMIF('4_部屋一覧'!$C$4:$C$79,C12,'4_部屋一覧'!$K$4:$K$79)<>0,SUMIF('4_部屋一覧'!$C$4:$C$79,C12,'4_部屋一覧'!$K$4:$K$79),\"\")","v":""},null,0,false]
[null,{"$f":"IF(A13<>\"\",IF(VLOOKUP(A13,'2_施設一覧'!$A$4:$D$73,3,FALSE)=0,\"\",VLOOKUP(A13,'2_施設一覧'!$A$4:$D$73,3,FALSE)),\"\")","v":""},null,null,{"$f":"IF(SUMIF('4_部屋一覧'!$C$4:$C$79,C13,'4_部屋一覧'!$K$4:$K$79)<>0,SUMIF('4_部屋一覧'!$C$4:$C$79,C13,'4_部屋一覧'!$K$4:$K$79),\"\")","v":""},null,0,false]
[null,{"$f":"IF(A14<>\"\",IF(VLOOKUP(A14,'2_施設一覧'!$A$4:$D$73,3,FALSE)=0,\"\",VLOOKUP(A14,'2_施設一覧'!$A$4:$D$73,3,FALSE)),\"\")","v":""},null,null,{"$f":"IF(SUMIF('4_部屋一覧'!$C$4:$C$79,C14,'4_部屋一覧'!$K$4:$K$79)<>0,SUMIF('4_部屋一覧'!$C$4:$C$79,C14,'4_部屋一覧'!$K$4:$K$79),\"\")","v":""},null,0,false]
[null,{"$f":"IF(A15<>\"\",IF(VLOOKUP(A15,'2_施設一覧'!$A$4:$D$73,3,FALSE)=0,\"\",VLOOKUP(A15,'2_施設一覧'!$A$4:$D$73,3,FALSE)),\"\")","v":""},null,null,{"$f":"IF(SUMIF('4_部屋一覧'!$C$4:$C$79,C15,'4_部屋一覧'!$K$4:$K$79)<>0,SUMIF('4_部屋一覧'!$C$4:$C$79,C15,'4_部屋一覧'!$K$4:$K$79),\"\")","v":""},null,0,false]
[null,{"$f":"IF(A16<>\"\",IF(VLOOKUP(A16,'2_施設一覧'!$A$4:$D$73,3,FALSE)=0,\"\",VLOOKUP(A16,'2_施設一覧'!$A$4:$D$73,3,FALSE)),\"\")","v":""},null,null,{"$f":"IF(SUMIF('4_部屋一覧'!$C$4:$C$79,C16,'4_部屋一覧'!$K$4:$K$79)<>0,SUMIF('4_部屋一覧'!$C$4:$C$79,C16,'4_部屋一覧'!$K$4:$K$79),\"\")","v":""},null,0,false]
[null,{"$f":"IF(A17<>\"\",IF(VLOOKUP(A17,'2_施設一覧'!$A$4:$D$73,3,FALSE)=0,\"\",VLOOKUP(A17,'2_施設一覧'!$A$4:$D$73,3,FALSE)),\"\")","v":""},null,null,{"$f":"IF(SUMIF('4_部屋一覧'!$C$4:$C$79,C17,'4_部屋一覧'!$K$4:$K$79)<>0,SUMIF('4_部屋一覧'!$C$4:$C$79,C17,'4_部屋一覧'!$K$4:$K$79),\"\")","v":""},null,0,false]
[null,{"$f":"IF(A18<>\"\",IF(VLOOKUP(A18,'2_施設一覧'!$A$4:$D$73,3,FALSE)=0,\"\",VLOOKUP(A18,'2_施設一覧'!$A$4:$D$73,3,FALSE)),\"\")","v":""},null,null,{"$f":"IF(SUMIF('4_部屋一覧'!$C$4:$C$79,C18,'4_部屋一覧'!$K$4:$K$79)<>0,SUMIF('4_部屋一覧'!$C$4:$C$79,C18,'4_部屋一覧'!$K$4:$K$79),\"\")","v":""},null,0,false]
[null,{"$f":"IF(A19<>\"\",IF(VLOOKUP(A19,'2_施設一覧'!$A$4:$D$73,3,FALSE)=0,\"\",VLOOKUP(A19,'2_施設一覧'!$A$4:$D$73,3,FALSE)),\"\")","v":""},null,null,{"$f":"IF(SUMIF('4_部屋一覧'!$C$4:$C$79,C19,'4_部屋一覧'!$K$4:$K$79)<>0,SUMIF('4_部屋一覧'!$C$4:$C$79,C19,'4_部屋一覧'!$K$4:$K$79),\"\")","v":""},null,0,false]
[null,{"$f":"IF(A20<>\"\",IF(VLOOKUP(A20,'2_施設一覧'!$A$4:$D$73,3,FALSE)=0,\"\",VLOOKUP(A20,'2_施設一覧'!$A$4:$D$73,3,FALSE)),\"\")","v":""},null,null,{"$f":"IF(SUMIF('4_部屋一覧'!$C$4:$C$79,C20,'4_部屋一覧'!$K$4:$K$79)<>0,SUMIF('4_部屋一覧'!$C$4:$C$79,C20,'4_部屋一覧'!$K$4:$K$79),\"\")","v":""},null,0,false]
[null,{"$f":"IF(A21<>\"\",IF(VLOOKUP(A21,'2_施設一覧'!$A$4:$D$73,3,FALSE)=0,\"\",VLOOKUP(A21,'2_施設一覧'!$A$4:$D$73,3,FALSE)),\"\")","v":""},null,null,{"$f":"IF(SUMIF('4_部屋一覧'!$C$4:$C$79,C21,'4_部屋一覧'!$K$4:$K$79)<>0,SUMIF('4_部屋一覧'!$C$4:$C$79,C21,'4_部屋一覧'!$K$4:$K$79),\"\")","v":""},null,0,false]
[null,{"$f":"IF(A22<>\"\",IF(VLOOKUP(A22,'2_施設一覧'!$A$4:$D$73,3,FALSE)=0,\"\",VLOOKUP(A22,'2_施設一覧'!$A$4:$D$73,3,FALSE)),\"\")","v":""},null,null,{"$f":"IF(SUMIF('4_部屋一覧'!$C$4:$C$79,C22,'4_部屋一覧'!$K$4:$K$79)<>0,SUMIF('4_部屋一覧'!$C$4:$C$79,C22,'4_部屋一覧'!$K$4:$K$79),\"\")","v":""},null,0,false]
[null,{"$f":"IF(A23<>\"\",IF(VLOOKUP(A23,'2_施設一覧'!$A$4:$D$73,3,FALSE)=0,\"\",VLOOKUP(A23,'2_施設一覧'!$A$4:$D$73,3,FALSE)),\"\")","v":""},null,null,{"$f":"IF(SUMIF('4_部屋一覧'!$C$4:$C$79,C23,'4_部屋一覧'!$K$4:$K$79)<>0,SUMIF('4_部屋一覧'!$C$4:$C$79,C23,'4_部屋一覧'!$K$4:$K$79),\"\")","v":""},null,0,false]
[null,{"$f":"IF(A24<>\"\",IF(VLOOKUP(A24,'2_施設一覧'!$A$4:$D$73,3,FALSE)=0,\"\",VLOOKUP(A24,'2_施設一覧'!$A$4:$D$73,3,FALSE)),\"\")","v":""},null,null,{"$f":"IF(SUMIF('4_部屋一覧'!$C$4:$C$79,C24,'4_部屋一覧'!$K$4:$K$79)<>0,SUMIF('4_部屋一覧'!$C$4:$C$79,C24,'4_部屋一覧'!$K$4:$K$79),\"\")","v":""},null,{"$f":"A24","v":0},false]
[null,{"$f":"IF(A25<>\"\",IF(VLOOKUP(A25,'2_施設一覧'!$A$4:$D$73,3,FALSE)=0,\"\",VLOOKUP(A25,'2_施設一覧'!$A$4:$D$73,3,FALSE)),\"\")","v":""},null,null,{"$f":"IF(SUMIF('4_部屋一覧'!$C$4:$C$79,C25,'4_部屋一覧'!$K$4:$K$79)<>0,SUMIF('4_部屋一覧'!$C$4:$C$79,C25,'4_部屋一覧'!$K$4:$K$79),\"\")","v":""},null,0,false]
[null,{"$f":"IF(A26<>\"\",IF(VLOOKUP(A26,'2_施設一覧'!$A$4:$D$73,3,FALSE)=0,\"\",VLOOKUP(A26,'2_施設一覧'!$A$4:$D$73,3,FALSE)),\"\")","v":""},null,null,{"$f":"IF(SUMIF('4_部屋一覧'!$C$4:$C$79,C26,'4_部屋一覧'!$K$4:$K$79)<>0,SUMIF('4_部屋一覧'!$C$4:$C$79,C26,'4_部屋一覧'!$K$4:$K$79),\"\")","v":""},null,0,false]
[null,{"$f":"IF(A27<>\"\",IF(VLOOKUP(A27,'2_施設一覧'!$A$4:$D$73,3,FALSE)=0,\"\",VLOOKUP(A27,'2_施設一覧'!$A$4:$D$73,3,FALSE)),\"\")","v":""},null,null,{"$f":"IF(SUMIF('4_部屋一覧'!$C$4:$C$79,C27,'4_部屋一覧'!$K$4:$K$79)<>0,SUMIF('4_部屋一覧'!$C$4:$C$79,C27,'4_部屋一覧'!$K$4:$K$79),\"\")","v":""},null,0,false]
[null,{"$f":"IF(A28<>\"\",IF(VLOOKUP(A28,'2_施設一覧'!$A$4:$D$73,3,FALSE)=0,\"\",VLOOKUP(A28,'2_施設一覧'!$A$4:$D$73,3,FALSE)),\"\")","v":""},null,null,{"$f":"IF(SUMIF('4_部屋一覧'!$C$4:$C$79,C28,'4_部屋一覧'!$K$4:$K$79)<>0,SUMIF('4_部屋一覧'!$C$4:$C$79,C28,'4_部屋一覧'!$K$4:$K$79),\"\")","v":""},null,0,false]
[null,{"$f":"IF(A29<>\"\",IF(VLOOKUP(A29,'2_施設一覧'!$A$4:$D$73,3,FALSE)=0,\"\",VLOOKUP(A29,'2_施設一覧'!$A$4:$D$73,3,FALSE)),\"\")","v":""},null,null,{"$f":"IF(SUMIF('4_部屋一覧'!$C$4:$C$79,C29,'4_部屋一覧'!$K$4:$K$79)<>0,SUMIF('4_部屋一覧'!$C$4:$C$79,C29,'4_部屋一覧'!$K$4:$K$79),\"\")","v":""},null,0,false]
[null,{"$f":"IF(A30<>\"\",IF(VLOOKUP(A30,'2_施設一覧'!$A$4:$D$73,3,FALSE)=0,\"\",VLOOKUP(A30,'2_施設一覧'!$A$4:$D$73,3,FALSE)),\"\")","v":""},null,null,{"$f":"IF(SUMIF('4_部屋一覧'!$C$4:$C$79,C30,'4_部屋一覧'!$K$4:$K$79)<>0,SUMIF('4_部屋一覧'!$C$4:$C$79,C30,'4_部屋一覧'!$K$4:$K$79),\"\")","v":""},null,0,false]
[null,{"$f":"IF(A31<>\"\",IF(VLOOKUP(A31,'2_施設一覧'!$A$4:$D$73,3,FALSE)=0,\"\",VLOOKUP(A31,'2_施設一覧'!$A$4:$D$73,3,FALSE)),\"\")","v":""},null,null,{"$f":"IF(SUMIF('4_部屋一覧'!$C$4:$C$79,C31,'4_部屋一覧'!$K$4:$K$79)<>0,SUMIF('4_部屋一覧'!$C$4:$C$79,C31,'4_部屋一覧'!$K$4:$K$79),\"\")","v":""},null,0,false]
[null,{"$f":"IF(A32<>\"\",IF(VLOOKUP(A32,'2_施設一覧'!$A$4:$D$73,3,FALSE)=0,\"\",VLOOKUP(A32,'2_施設一覧'!$A$4:$D$73,3,FALSE)),\"\")","v":""},null,null,{"$f":"IF(SUMIF('4_部屋一覧'!$C$4:$C$79,C32,'4_部屋一覧'!$K$4:$K$79)<>0,SUMIF('4_部屋一覧'!$C$4:$C$79,C32,'4_部屋一覧'!$K$4:$K$79),\"\")","v":""},null,0,false]
[null,{"$f":"IF(A33<>\"\",IF(VLOOKUP(A33,'2_施設一覧'!$A$4:$D$73,3,FALSE)=0,\"\",VLOOKUP(A33,'2_施設一覧'!$A$4:$D$73,3,FALSE)),\"\")","v":""},null,null,{"$f":"IF(SUMIF('4_部屋一覧'!$C$4:$C$79,C33,'4_部屋一覧'!$K$4:$K$79)<>0,SUMIF('4_部屋一覧'!$C$4:$C$79,C33,'4_部屋一覧'!$K$4:$K$79),\"\")","v":""},null,0,false]
[null,{"$f":"IF(A34<>\"\",IF(VLOOKUP(A34,'2_施設一覧'!$A$4:$D$73,3,FALSE)=0,\"\",VLOOKUP(A34,'2_施設一覧'!$A$4:$D$73,3,FALSE)),\"\")","v":""},null,null,{"$f":"IF(SUMIF('4_部屋一覧'!$C$4:$C$79,C34,'4_部屋一覧'!$K$4:$K$79)<>0,SUMIF('4_部屋一覧'!$C$4:$C$79,C34,'4_部屋一覧'!$K$4:$K$79),\"\")","v":""},null,0,false]
[null,{"$f":"IF(A35<>\"\",IF(VLOOKUP(A35,'2_施設一覧'!$A$4:$D$73,3,FALSE)=0,\"\",VLOOKUP(A35,'2_施設一覧'!$A$4:$D$73,3,FALSE)),\"\")","v":""},null,null,{"$f":"IF(SUMIF('4_部屋一覧'!$C$4:$C$79,C35,'4_部屋一覧'!$K$4:$K$79)<>0,SUMIF('4_部屋一覧'!$C$4:$C$79,C35,'4_部屋一覧'!$K$4:$K$79),\"\")","v":""},null,0,false]
[null,{"$f":"IF(A36<>\"\",IF(VLOOKUP(A36,'2_施設一覧'!$A$4:$D$73,3,FALSE)=0,\"\",VLOOKUP(A36,'2_施設一覧'!$A$4:$D$73,3,FALSE)),\"\")","v":""},null,null,{"$f":"IF(SUMIF('4_部屋一覧'!$C$4:$C$79,C36,'4_部屋一覧'!$K$4:$K$79)<>0,SUMIF('4_部屋一覧'!$C$4:$C$79,C36,'4_部屋一覧'!$K$4:$K$79),\"\")","v":""},null,0,false]
[null,{"$f":"IF(A37<>\"\",IF(VLOOKUP(A37,'2_施設一覧'!$A$4:$D$73,3,FALSE)=0,\"\",VLOOKUP(A37,'2_施設一覧'!$A$4:$D$73,3,FALSE)),\"\")","v":""},null,null,{"$f":"IF(SUMIF('4_部屋一覧'!$C$4:$C$79,C37,'4_部屋一覧'!$K$4:$K$79)<>0,SUMIF('4_部屋一覧'!$C$4:$C$79,C37,'4_部屋一覧'!$K$4:$K$79),\"\")","v":""},null,{"$f":"A37","v":0},false]
[null,{"$f":"IF(A38<>\"\",IF(VLOOKUP(A38,'2_施設一覧'!$A$4:$D$73,3,FALSE)=0,\"\",VLOOKUP(A38,'2_施設一覧'!$A$4:$D$73,3,FALSE)),\"\")","v":""},null,null,{"$f":"IF(SUMIF('4_部屋一覧'!$C$4:$C$79,C38,'4_部屋一覧'!$K$4:$K$79)<>0,SUMIF('4_部屋一覧'!$C$4:$C$79,C38,'4_部屋一覧'!$K$4:$K$79),\"\")","v":""},null,0,false]
[null,{"$f":"IF(A39<>\"\",IF(VLOOKUP(A39,'2_施設一覧'!$A$4:$D$73,3,FALSE)=0,\"\",VLOOKUP(A39,'2_施設一覧'!$A$4:$D$73,3,FALSE)),\"\")","v":""},null,null,{"$f":"IF(SUMIF('4_部屋一覧'!$C$4:$C$79,C39,'4_部屋一覧'!$K$4:$K$79)<>0,SUMIF('4_部屋一覧'!$C$4:$C$79,C39,'4_部屋一覧'!$K$4:$K$79),\"\")","v":""},null,0,false]
[null,{"$f":"IF(A40<>\"\",IF(VLOOKUP(A40,'2_施設一覧'!$A$4:$D$73,3,FALSE)=0,\"\",VLOOKUP(A40,'2_施設一覧'!$A$4:$D$73,3,FALSE)),\"\")","v":""},null,null,{"$f":"IF(SUMIF('4_部屋一覧'!$C$4:$C$79,C40,'4_部屋一覧'!$K$4:$K$79)<>0,SUMIF('4_部屋一覧'!$C$4:$C$79,C40,'4_部屋一覧'!$K$4:$K$79),\"\")","v":""},null,0,{"$f":"OR(A40<>\"\",B40<>\"\",C40<>\"\",D40<>\"\",E40<>\"\")","v":false}]
[null,{"$f":"IF(A41<>\"\",IF(VLOOKUP(A41,'2_施設一覧'!$A$4:$D$73,3,FALSE)=0,\"\",VLOOKUP(A41,'2_施設一覧'!$A$4:$D$73,3,FALSE)),\"\")","v":""},null,null,{"$f":"IF(SUMIF('4_部屋一覧'!$C$4:$C$79,C41,'4_部屋一覧'!$K$4:$K$79)<>0,SUMIF('4_部屋一覧'!$C$4:$C$79,C41,'4_部屋一覧'!$K$4:$K$79),\"\")","v":""},null,0,false]
[null,{"$f":"IF(A42<>\"\",IF(VLOOKUP(A42,'2_施設一覧'!$A$4:$D$73,3,FALSE)=0,\"\",VLOOKUP(A42,'2_施設一覧'!$A$4:$D$73,3,FALSE)),\"\")","v":""},null,null,{"$f":"IF(SUMIF('4_部屋一覧'!$C$4:$C$79,C42,'4_部屋一覧'!$K$4:$K$79)<>0,SUMIF('4_部屋一覧'!$C$4:$C$79,C42,'4_部屋一覧'!$K$4:$K$79),\"\")","v":""},null,0,false]
[null,{"$f":"IF(A43<>\"\",IF(VLOOKUP(A43,'2_施設一覧'!$A$4:$D$73,3,FALSE)=0,\"\",VLOOKUP(A43,'2_施設一覧'!$A$4:$D$73,3,FALSE)),\"\")","v":""},null,null,{"$f":"IF(SUMIF('4_部屋一覧'!$C$4:$C$79,C43,'4_部屋一覧'!$K$4:$K$79)<>0,SUMIF('4_部屋一覧'!$C$4:$C$79,C43,'4_部屋一覧'!$K$4:$K$79),\"\")","v":""},null,0,false]
[null,{"$f":"IF(A44<>\"\",IF(VLOOKUP(A44,'2_施設一覧'!$A$4:$D$73,3,FALSE)=0,\"\",VLOOKUP(A44,'2_施設一覧'!$A$4:$D$73,3,FALSE)),\"\")","v":""},null,null,{"$f":"IF(SUMIF('4_部屋一覧'!$C$4:$C$79,C44,'4_部屋一覧'!$K$4:$K$79)<>0,SUMIF('4_部屋一覧'!$C$4:$C$79,C44,'4_部屋一覧'!$K$4:$K$79),\"\")","v":""},null,0,false]
[null,{"$f":"IF(A45<>\"\",IF(VLOOKUP(A45,'2_施設一覧'!$A$4:$D$73,3,FALSE)=0,\"\",VLOOKUP(A45,'2_施設一覧'!$A$4:$D$73,3,FALSE)),\"\")","v":""},null,null,{"$f":"IF(SUMIF('4_部屋一覧'!$C$4:$C$79,C45,'4_部屋一覧'!$K$4:$K$79)<>0,SUMIF('4_部屋一覧'!$C$4:$C$79,C45,'4_部屋一覧'!$K$4:$K$79),\"\")","v":""},null,0,false]
[null,{"$f":"IF(A46<>\"\",IF(VLOOKUP(A46,'2_施設一覧'!$A$4:$D$73,3,FALSE)=0,\"\",VLOOKUP(A46,'2_施設一覧'!$A$4:$D$73,3,FALSE)),\"\")","v":""},null,null,{"$f":"IF(SUMIF('4_部屋一覧'!$C$4:$C$79,C46,'4_部屋一覧'!$K$4:$K$79)<>0,SUMIF('4_部屋一覧'!$C$4:$C$79,C46,'4_部屋一覧'!$K$4:$K$79),\"\")","v":""},null,0,false]
[null,{"$f":"IF(A47<>\"\",IF(VLOOKUP(A47,'2_施設一覧'!$A$4:$D$73,3,FALSE)=0,\"\",VLOOKUP(A47,'2_施設一覧'!$A$4:$D$73,3,FALSE)),\"\")","v":""},null,null,{"$f":"IF(SUMIF('4_部屋一覧'!$C$4:$C$79,C47,'4_部屋一覧'!$K$4:$K$79)<>0,SUMIF('4_部屋一覧'!$C$4:$C$79,C47,'4_部屋一覧'!$K$4:$K$79),\"\")","v":""},null,0,false]
[null,{"$f":"IF(A48<>\"\",IF(VLOOKUP(A48,'2_施設一覧'!$A$4:$D$73,3,FALSE)=0,\"\",VLOOKUP(A48,'2_施設一覧'!$A$4:$D$73,3,FALSE)),\"\")","v":""},null,null,{"$f":"IF(SUMIF('4_部屋一覧'!$C$4:$C$79,C48,'4_部屋一覧'!$K$4:$K$79)<>0,SUMIF('4_部屋一覧'!$C$4:$C$79,C48,'4_部屋一覧'!$K$4:$K$79),\"\")","v":""},null,0,false]
[null,{"$f":"IF(A49<>\"\",IF(VLOOKUP(A49,'2_施設一覧'!$A$4:$D$73,3,FALSE)=0,\"\",VLOOKUP(A49,'2_施設一覧'!$A$4:$D$73,3,FALSE)),\"\")","v":""},null,null,{"$f":"IF(SUMIF('4_部屋一覧'!$C$4:$C$79,C49,'4_部屋一覧'!$K$4:$K$79)<>0,SUMIF('4_部屋一覧'!$C$4:$C$79,C49,'4_部屋一覧'!$K$4:$K$79),\"\")","v":""},null,0,false]
[null,{"$f":"IF(A50<>\"\",IF(VLOOKUP(A50,'2_施設一覧'!$A$4:$D$73,3,FALSE)=0,\"\",VLOOKUP(A50,'2_施設一覧'!$A$4:$D$73,3,FALSE)),\"\")","v":""},null,null,{"$f":"IF(SUMIF('4_部屋一覧'!$C$4:$C$79,C50,'4_部屋一覧'!$K$4:$K$79)<>0,SUMIF('4_部屋一覧'!$C$4:$C$79,C50,'4_部屋一覧'!$K$4:$K$79),\"\")","v":""},null,0,false]
[null,{"$f":"IF(A51<>\"\",IF(VLOOKUP(A51,'2_施設一覧'!$A$4:$D$73,3,FALSE)=0,\"\",VLOOKUP(A51,'2_施設一覧'!$A$4:$D$73,3,FALSE)),\"\")","v":""},null,null,{"$f":"IF(SUMIF('4_部屋一覧'!$C$4:$C$79,C51,'4_部屋一覧'!$K$4:$K$79)<>0,SUMIF('4_部屋一覧'!$C$4:$C$79,C51,'4_部屋一覧'!$K$4:$K$79),\"\")","v":""},null,0,false]
[null,{"$f":"IF(A52<>\"\",IF(VLOOKUP(A52,'2_施設一覧'!$A$4:$D$73,3,FALSE)=0,\"\",VLOOKUP(A52,'2_施設一覧'!$A$4:$D$73,3,FALSE)),\"\")","v":""},null,null,{"$f":"IF(SUMIF('4_部屋一覧'!$C$4:$C$79,C52,'4_部屋一覧'!$K$4:$K$79)<>0,SUMIF('4_部屋一覧'!$C$4:$C$79,C52,'4_部屋一覧'!$K$4:$K$79),\"\")","v":""},null,0,false]
[null,{"$f":"IF(A53<>\"\",IF(VLOOKUP(A53,'2_施設一覧'!$A$4:$D$73,3,FALSE)=0,\"\",VLOOKUP(A53,'2_施設一覧'!$A$4:$D$73,3,FALSE)),\"\")","v":""},null,null,{"$f":"IF(SUMIF('4_部屋一覧'!$C$4:$C$79,C53,'4_部屋一覧'!$K$4:$K$79)<>0,SUMIF('4_部屋一覧'!$C$4:$C$79,C53,'4_部屋一覧'!$K$4:$K$79),\"\")","v":""},null,0,false]
[null,{"$f":"IF(A54<>\"\",IF(VLOOKUP(A54,'2_施設一覧'!$A$4:$D$73,3,FALSE)=0,\"\",VLOOKUP(A54,'2_施設一覧'!$A$4:$D$73,3,FALSE)),\"\")","v":""},null,null,{"$f":"IF(SUMIF('4_部屋一覧'!$C$4:$C$79,C54,'4_部屋一覧'!$K$4:$K$79)<>0,SUMIF('4_部屋一覧'!$C$4:$C$79,C54,'4_部屋一覧'!$K$4:$K$79),\"\")","v":""},null,0,false]
[null,{"$f":"IF(A55<>\"\",IF(VLOOKUP(A55,'2_施設一覧'!$A$4:$D$73,3,FALSE)=0,\"\",VLOOKUP(A55,'2_施設一覧'!$A$4:$D$73,3,FALSE)),\"\")","v":""},null,null,{"$f":"IF(SUMIF('4_部屋一覧'!$C$4:$C$79,C55,'4_部屋一覧'!$K$4:$K$79)<>0,SUMIF('4_部屋一覧'!$C$4:$C$79,C55,'4_部屋一覧'!$K$4:$K$79),\"\")","v":""},null,0,false]
[null,{"$f":"IF(A56<>\"\",IF(VLOOKUP(A56,'2_施設一覧'!$A$4:$D$73,3,FALSE)=0,\"\",VLOOKUP(A56,'2_施設一覧'!$A$4:$D$73,3,FALSE)),\"\")","v":""},null,null,{"$f":"IF(SUMIF('4_部屋一覧'!$C$4:$C$79,C56,'4_部屋一覧'!$K$4:$K$79)<>0,SUMIF('4_部屋一覧'!$C$4:$C$79,C56,'4_部屋一覧'!$K$4:$K$79),\"\")","v":""},null,0,false]
[null,{"$f":"IF(A57<>\"\",IF(VLOOKUP(A57,'2_施設一覧'!$A$4:$D$73,3,FALSE)=0,\"\",VLOOKUP(A57,'2_施設一覧'!$A$4:$D$73,3,FALSE)),\"\")","v":""},null,null,{"$f":"IF(SUMIF('4_部屋一覧'!$C$4:$C$79,C57,'4_部屋一覧'!$K$4:$K$79)<>0,SUMIF('4_部屋一覧'!$C$4:$C$79,C57,'4_部屋一覧'!$K$4:$K$79),\"\")","v":""},null,0,false]
[null,{"$f":"IF(A58<>\"\",IF(VLOOKUP(A58,'2_施設一覧'!$A$4:$D$73,3,FALSE)=0,\"\",VLOOKUP(A58,'2_施設一覧'!$A$4:$D$73,3,FALSE)),\"\")","v":""},null,null,{"$f":"IF(SUMIF('4_部屋一覧'!$C$4:$C$79,C58,'4_部屋一覧'!$K$4:$K$79)<>0,SUMIF('4_部屋一覧'!$C$4:$C$79,C58,'4_部屋一覧'!$K$4:$K$79),\"\")","v":""},null,0,false]
[null,{"$f":"IF(A59<>\"\",IF(VLOOKUP(A59,'2_施設一覧'!$A$4:$D$73,3,FALSE)=0,\"\",VLOOKUP(A59,'2_施設一覧'!$A$4:$D$73,3,FALSE)),\"\")","v":""},null,null,{"$f":"IF(SUMIF('4_部屋一覧'!$C$4:$C$79,C59,'4_部屋一覧'!$K$4:$K$79)<>0,SUMIF('4_部屋一覧'!$C$4:$C$79,C59,'4_部屋一覧'!$K$4:$K$79),\"\")","v":""},null,0,false]
[null,{"$f":"IF(A60<>\"\",IF(VLOOKUP(A60,'2_施設一覧'!$A$4:$D$73,3,FALSE)=0,\"\",VLOOKUP(A60,'2_施設一覧'!$A$4:$D$73,3,FALSE)),\"\")","v":""},null,null,{"$f":"IF(SUMIF('4_部屋一覧'!$C$4:$C$79,C60,'4_部屋一覧'!$K$4:$K$79)<>0,SUMIF('4_部屋一覧'!$C$4:$C$79,C60,'4_部屋一覧'!$K$4:$K$79),\"\")","v":""},null,0,false]
[null,{"$f":"IF(A61<>\"\",IF(VLOOKUP(A61,'2_施設一覧'!$A$4:$D$73,3,FALSE)=0,\"\",VLOOKUP(A61,'2_施設一覧'!$A$4:$D$73,3,FALSE)),\"\")","v":""},null,null,{"$f":"IF(SUMIF('4_部屋一覧'!$C$4:$C$79,C61,'4_部屋一覧'!$K$4:$K$79)<>0,SUMIF('4_部屋一覧'!$C$4:$C$79,C61,'4_部屋一覧'!$K$4:$K$79),\"\")","v":""},null,0,false]
[null,{"$f":"IF(A62<>\"\",IF(VLOOKUP(A62,'2_施設一覧'!$A$4:$D$73,3,FALSE)=0,\"\",VLOOKUP(A62,'2_施設一覧'!$A$4:$D$73,3,FALSE)),\"\")","v":""},null,null,{"$f":"IF(SUMIF('4_部屋一覧'!$C$4:$C$79,C62,'4_部屋一覧'!$K$4:$K$79)<>0,SUMIF('4_部屋一覧'!$C$4:$C$79,C62,'4_部屋一覧'!$K$4:$K$79),\"\")","v":""},null,0,false]
[null,{"$f":"IF(A63<>\"\",IF(VLOOKUP(A63,'2_施設一覧'!$A$4:$D$73,3,FALSE)=0,\"\",VLOOKUP(A63,'2_施設一覧'!$A$4:$D$73,3,FALSE)),\"\")","v":""},null,null,{"$f":"IF(SUMIF('4_部屋一覧'!$C$4:$C$79,C63,'4_部屋一覧'!$K$4:$K$79)<>0,SUMIF('4_部屋一覧'!$C$4:$C$79,C63,'4_部屋一覧'!$K$4:$K$79),\"\")","v":""},null,0,false]
[null,{"$f":"IF(A64<>\"\",IF(VLOOKUP(A64,'2_施設一覧'!$A$4:$D$73,3,FALSE)=0,\"\",VLOOKUP(A64,'2_施設一覧'!$A$4:$D$73,3,FALSE)),\"\")","v":""},null,null,{"$f":"IF(SUMIF('4_部屋一覧'!$C$4:$C$79,C64,'4_部屋一覧'!$K$4:$K$79)<>0,SUMIF('4_部屋一覧'!$C$4:$C$79,C64,'4_部屋一覧'!$K$4:$K$79),\"\")","v":""},null,0,false]
[null,{"$f":"IF(A65<>\"\",IF(VLOOKUP(A65,'2_施設一覧'!$A$4:$D$73,3,FALSE)=0,\"\",VLOOKUP(A65,'2_施設一覧'!$A$4:$D$73,3,FALSE)),\"\")","v":""},null,null,{"$f":"IF(SUMIF('4_部屋一覧'!$C$4:$C$79,C65,'4_部屋一覧'!$K$4:$K$79)<>0,SUMIF('4_部屋一覧'!$C$4:$C$79,C65,'4_部屋一覧'!$K$4:$K$79),\"\")","v":""},null,0,false]
[null,{"$f":"IF(A66<>\"\",IF(VLOOKUP(A66,'2_施設一覧'!$A$4:$D$73,3,FALSE)=0,\"\",VLOOKUP(A66,'2_施設一覧'!$A$4:$D$73,3,FALSE)),\"\")","v":""},null,null,{"$f":"IF(SUMIF('4_部屋一覧'!$C$4:$C$79,C66,'4_部屋一覧'!$K$4:$K$79)<>0,SUMIF('4_部屋一覧'!$C$4:$C$79,C66,'4_部屋一覧'!$K$4:$K$79),\"\")","v":""},null,{"$f":"A66","v":0},false]
[null,{"$f":"IF(A67<>\"\",IF(VLOOKUP(A67,'2_施設一覧'!$A$4:$D$73,3,FALSE)=0,\"\",VLOOKUP(A67,'2_施設一覧'!$A$4:$D$73,3,FALSE)),\"\")","v":""},null,null,{"$f":"IF(SUMIF('4_部屋一覧'!$C$4:$C$79,C67,'4_部屋一覧'!$K$4:$K$79)<>0,SUMIF('4_部屋一覧'!$C$4:$C$79,C67,'4_部屋一覧'!$K$4:$K$79),\"\")","v":""},null,0,false]
[null,{"$f":"IF(A68<>\"\",IF(VLOOKUP(A68,'2_施設一覧'!$A$4:$D$73,3,FALSE)=0,\"\",VLOOKUP(A68,'2_施設一覧'!$A$4:$D$73,3,FALSE)),\"\")","v":""},null,null,{"$f":"IF(SUMIF('4_部屋一覧'!$C$4:$C$79,C68,'4_部屋一覧'!$K$4:$K$79)<>0,SUMIF('4_部屋一覧'!$C$4:$C$79,C68,'4_部屋一覧'!$K$4:$K$79),\"\")","v":""},null,0,false]
[null,{"$f":"IF(A69<>\"\",IF(VLOOKUP(A69,'2_施設一覧'!$A$4:$D$73,3,FALSE)=0,\"\",VLOOKUP(A69,'2_施設一覧'!$A$4:$D$73,3,FALSE)),\"\")","v":""},null,null,{"$f":"IF(SUMIF('4_部屋一覧'!$C$4:$C$79,C69,'4_部屋一覧'!$K$4:$K$79)<>0,SUMIF('4_部屋一覧'!$C$4:$C$79,C69,'4_部屋一覧'!$K$4:$K$79),\"\")","v":""},null,0,false]
[null,{"$f":"IF(A70<>\"\",IF(VLOOKUP(A70,'2_施設一覧'!$A$4:$D$73,3,FALSE)=0,\"\",VLOOKUP(A70,'2_施設一覧'!$A$4:$D$73,3,FALSE)),\"\")","v":""},null,null,{"$f":"IF(SUMIF('4_部屋一覧'!$C$4:$C$79,C70,'4_部屋一覧'!$K$4:$K$79)<>0,SUMIF('4_部屋一覧'!$C$4:$C$79,C70,'4_部屋一覧'!$K$4:$K$79),\"\")","v":""},null,0,false]
[null,{"$f":"IF(A71<>\"\",IF(VLOOKUP(A71,'2_施設一覧'!$A$4:$D$73,3,FALSE)=0,\"\",VLOOKUP(A71,'2_施設一覧'!$A$4:$D$73,3,FALSE)),\"\")","v":""},null,null,{"$f":"IF(SUMIF('4_部屋一覧'!$C$4:$C$79,C71,'4_部屋一覧'!$K$4:$K$79)<>0,SUMIF('4_部屋一覧'!$C$4:$C$79,C71,'4_部屋一覧'!$K$4:$K$79),\"\")","v":""},null,0,false]
[null,{"$f":"IF(A72<>\"\",IF(VLOOKUP(A72,'2_施設一覧'!$A$4:$D$73,3,FALSE)=0,\"\",VLOOKUP(A72,'2_施設一覧'!$A$4:$D$73,3,FALSE)),\"\")","v":""},null,null,{"$f":"IF(SUMIF('4_部屋一覧'!$C$4:$C$79,C72,'4_部屋一覧'!$K$4:$K$79)<>0,SUMIF('4_部屋一覧'!$C$4:$C$79,C72,'4_部屋一覧'!$K$4:$K$79),\"\")","v":""},null,0,false]
[null,{"$f":"IF(A73<>\"\",IF(VLOOKUP(A73,'2_施設一覧'!$A$4:$D$73,3,FALSE)=0,\"\",VLOOKUP(A73,'2_施設一覧'!$A$4:$D$73,3,FALSE)),\"\")","v":""},null,null,{"$f":"IF(SUMIF('4_部屋一覧'!$C$4:$C$79,C73,'4_部屋一覧'!$K$4:$K$79)<>0,SUMIF('4_部屋一覧'!$C$4:$C$79,C73,'4_部屋一覧'!$K$4:$K$79),\"\")","v":""},null,0,false]
[null,{"$f":"IF(A74<>\"\",IF(VLOOKUP(A74,'2_施設一覧'!$A$4:$D$73,3,FALSE)=0,\"\",VLOOKUP(A74,'2_施設一覧'!$A$4:$D$73,3,FALSE)),\"\")","v":""},null,null,{"$f":"IF(SUMIF('4_部屋一覧'!$C$4:$C$79,C74,'4_部屋一覧'!$K$4:$K$79)<>0,SUMIF('4_部屋一覧'!$C$4:$C$79,C74,'4_部屋一覧'!$K$4:$K$79),\"\")","v":""},null,0,false]
[null,{"$f":"IF(A75<>\"\",IF(VLOOKUP(A75,'2_施設一覧'!$A$4:$D$73,3,FALSE)=0,\"\",VLOOKUP(A75,'2_施設一覧'!$A$4:$D$73,3,FALSE)),\"\")","v":""},null,null,{"$f":"IF(SUMIF('4_部屋一覧'!$C$4:$C$79,C75,'4_部屋一覧'!$K$4:$K$79)<>0,SUMIF('4_部屋一覧'!$C$4:$C$79,C75,'4_部屋一覧'!$K$4:$K$79),\"\")","v":""},null,0,false]
[null,{"$f":"IF(A76<>\"\",IF(VLOOKUP(A76,'2_施設一覧'!$A$4:$D$73,3,FALSE)=0,\"\",VLOOKUP(A76,'2_施設一覧'!$A$4:$D$73,3,FALSE)),\"\")","v":""},null,null,{"$f":"IF(SUMIF('4_部屋一覧'!$C$4:$C$79,C76,'4_部屋一覧'!$K$4:$K$79)<>0,SUMIF('4_部屋一覧'!$C$4:$C$79,C76,'4_部屋一覧'!$K$4:$K$79),\"\")","v":""},null,0,false]
[null,{"$f":"IF(A77<>\"\",IF(VLOOKUP(A77,'2_施設一覧'!$A$4:$D$73,3,FALSE)=0,\"\",VLOOKUP(A77,'2_施設一覧'!$A$4:$D$73,3,FALSE)),\"\")","v":""},null,null,{"$f":"IF(SUMIF('4_部屋一覧'!$C$4:$C$79,C77,'4_部屋一覧'!$K$4:$K$79)<>0,SUMIF('4_部屋一覧'!$C$4:$C$79,C77,'4_部屋一覧'!$K$4:$K$79),\"\")","v":""},null,0,false]
[null,{"$f":"IF(A78<>\"\",IF(VLOOKUP(A78,'2_施設一覧'!$A$4:$D$73,3,FALSE)=0,\"\",VLOOKUP(A78,'2_施設一覧'!$A$4:$D$73,3,FALSE)),\"\")","v":""},null,null,{"$f":"IF(SUMIF('4_部屋一覧'!$C$4:$C$79,C78,'4_部屋一覧'!$K$4:$K$79)<>0,SUMIF('4_部屋一覧'!$C$4:$C$79,C78,'4_部屋一覧'!$K$4:$K$79),\"\")","v":""},null,0,false]
[null,{"$f":"IF(A79<>\"\",IF(VLOOKUP(A79,'2_施設一覧'!$A$4:$D$73,3,FALSE)=0,\"\",VLOOKUP(A79,'2_施設一覧'!$A$4:$D$73,3,FALSE)),\"\")","v":""},null,null,{"$f":"IF(SUMIF('4_部屋一覧'!$C$4:$C$79,C79,'4_部屋一覧'!$K$4:$K$79)<>0,SUMIF('4_部屋一覧'!$C$4:$C$79,C79,'4_部屋一覧'!$K$4:$K$79),\"\")","v":""},null,0,false]
[null,{"$f":"IF(A80<>\"\",IF(VLOOKUP(A80,'2_施設一覧'!$A$4:$D$73,3,FALSE)=0,\"\",VLOOKUP(A80,'2_施設一覧'!$A$4:$D$73,3,FALSE)),\"\")","v":""},null,null,{"$f":"IF(SUMIF('4_部屋一覧'!$C$4:$C$79,C80,'4_部屋一覧'!$K$4:$K$79)<>0,SUMIF('4_部屋一覧'!$C$4:$C$79,C80,'4_部屋一覧'!$K$4:$K$79),\"\")","v":""},null,0,false]
[null,{"$f":"IF(A81<>\"\",IF(VLOOKUP(A81,'2_施設一覧'!$A$4:$D$73,3,FALSE)=0,\"\",VLOOKUP(A81,'2_施設一覧'!$A$4:$D$73,3,FALSE)),\"\")","v":""},null,null,{"$f":"IF(SUMIF('4_部屋一覧'!$C$4:$C$79,C81,'4_部屋一覧'!$K$4:$K$79)<>0,SUMIF('4_部屋一覧'!$C$4:$C$79,C81,'4_部屋一覧'!$K$4:$K$79),\"\")","v":""},null,0,false]
[null,{"$f":"IF(A82<>\"\",IF(VLOOKUP(A82,'2_施設一覧'!$A$4:$D$73,3,FALSE)=0,\"\",VLOOKUP(A82,'2_施設一覧'!$A$4:$D$73,3,FALSE)),\"\")","v":""},null,null,{"$f":"IF(SUMIF('4_部屋一覧'!$C$4:$C$79,C82,'4_部屋一覧'!$K$4:$K$79)<>0,SUMIF('4_部屋一覧'!$C$4:$C$79,C82,'4_部屋一覧'!$K$4:$K$79),\"\")","v":""},null,0,false]
[null,{"$f":"IF(A83<>\"\",IF(VLOOKUP(A83,'2_施設一覧'!$A$4:$D$73,3,FALSE)=0,\"\",VLOOKUP(A83,'2_施設一覧'!$A$4:$D$73,3,FALSE)),\"\")","v":""},null,null,{"$f":"IF(SUMIF('4_部屋一覧'!$C$4:$C$79,C83,'4_部屋一覧'!$K$4:$K$79)<>0,SUMIF('4_部屋一覧'!$C$4:$C$79,C83,'4_部屋一覧'!$K$4:$K$79),\"\")","v":""},null,0,false]
[null,{"$f":"IF(A84<>\"\",IF(VLOOKUP(A84,'2_施設一覧'!$A$4:$D$73,3,FALSE)=0,\"\",VLOOKUP(A84,'2_施設一覧'!$A$4:$D$73,3,FALSE)),\"\")","v":""},null,null,{"$f":"IF(SUMIF('4_部屋一覧'!$C$4:$C$79,C84,'4_部屋一覧'!$K$4:$K$79)<>0,SUMIF('4_部屋一覧'!$C$4:$C$79,C84,'4_部屋一覧'!$K$4:$K$79),\"\")","v":""},null,0,false]
[null,{"$f":"IF(A85<>\"\",IF(VLOOKUP(A85,'2_施設一覧'!$A$4:$D$73,3,FALSE)=0,\"\",VLOOKUP(A85,'2_施設一覧'!$A$4:$D$73,3,FALSE)),\"\")","v":""},null,null,{"$f":"IF(SUMIF('4_部屋一覧'!$C$4:$C$79,C85,'4_部屋一覧'!$K$4:$K$79)<>0,SUMIF('4_部屋一覧'!$C$4:$C$79,C85,'4_部屋一覧'!$K$4:$K$79),\"\")","v":""},null,0,false]
[null,{"$f":"IF(A86<>\"\",IF(VLOOKUP(A86,'2_施設一覧'!$A$4:$D$73,3,FALSE)=0,\"\",VLOOKUP(A86,'2_施設一覧'!$A$4:$D$73,3,FALSE)),\"\")","v":""},null,null,{"$f":"IF(SUMIF('4_部屋一覧'!$C$4:$C$79,C86,'4_部屋一覧'!$K$4:$K$79)<>0,SUMIF('4_部屋一覧'!$C$4:$C$79,C86,'4_部屋一覧'!$K$4:$K$79),\"\")","v":""},null,0,false]
[null,{"$f":"IF(A87<>\"\",IF(VLOOKUP(A87,'2_施設一覧'!$A$4:$D$73,3,FALSE)=0,\"\",VLOOKUP(A87,'2_施設一覧'!$A$4:$D$73,3,FALSE)),\"\")","v":""},null,null,{"$f":"IF(SUMIF('4_部屋一覧'!$C$4:$C$79,C87,'4_部屋一覧'!$K$4:$K$79)<>0,SUMIF('4_部屋一覧'!$C$4:$C$79,C87,'4_部屋一覧'!$K$4:$K$79),\"\")","v":""},null,0,false]
[null,{"$f":"IF(A88<>\"\",IF(VLOOKUP(A88,'2_施設一覧'!$A$4:$D$73,3,FALSE)=0,\"\",VLOOKUP(A88,'2_施設一覧'!$A$4:$D$73,3,FALSE)),\"\")","v":""},null,null,{"$f":"IF(SUMIF('4_部屋一覧'!$C$4:$C$79,C88,'4_部屋一覧'!$K$4:$K$79)<>0,SUMIF('4_部屋一覧'!$C$4:$C$79,C88,'4_部屋一覧'!$K$4:$K$79),\"\")","v":""},null,0,false]
[null,{"$f":"IF(A89<>\"\",IF(VLOOKUP(A89,'2_施設一覧'!$A$4:$D$73,3,FALSE)=0,\"\",VLOOKUP(A89,'2_施設一覧'!$A$4:$D$73,3,FALSE)),\"\")","v":""},null,null,{"$f":"IF(SUMIF('4_部屋一覧'!$C$4:$C$79,C89,'4_部屋一覧'!$K$4:$K$79)<>0,SUMIF('4_部屋一覧'!$C$4:$C$79,C89,'4_部屋一覧'!$K$4:$K$79),\"\")","v":""},null,0,false]
[null,{"$f":"IF(A90<>\"\",IF(VLOOKUP(A90,'2_施設一覧'!$A$4:$D$73,3,FALSE)=0,\"\",VLOOKUP(A90,'2_施設一覧'!$A$4:$D$73,3,FALSE)),\"\")","v":""},null,null,{"$f":"IF(SUMIF('4_部屋一覧'!$C$4:$C$79,C90,'4_部屋一覧'!$K$4:$K$79)<>0,SUMIF('4_部屋一覧'!$C$4:$C$79,C90,'4_部屋一覧'!$K$4:$K$79),\"\")","v":""},null,0,false]
[null,{"$f":"IF(A91<>\"\",IF(VLOOKUP(A91,'2_施設一覧'!$A$4:$D$73,3,FALSE)=0,\"\",VLOOKUP(A91,'2_施設一覧'!$A$4:$D$73,3,FALSE)),\"\")","v":""},null,null,{"$f":"IF(SUMIF('4_部屋一覧'!$C$4:$C$79,C91,'4_部屋一覧'!$K$4:$K$79)<>0,SUMIF('4_部屋一覧'!$C$4:$C$79,C91,'4_部屋一覧'!$K$4:$K$79),\"\")","v":""},null,0,false]
[null,{"$f":"IF(A92<>\"\",IF(VLOOKUP(A92,'2_施設一覧'!$A$4:$D$73,3,FALSE)=0,\"\",VLOOKUP(A92,'2_施設一覧'!$A$4:$D$73,3,FALSE)),\"\")","v":""},null,null,{"$f":"IF(SUMIF('4_部屋一覧'!$C$4:$C$79,C92,'4_部屋一覧'!$K$4:$K$79)<>0,SUMIF('4_部屋一覧'!$C$4:$C$79,C92,'4_部屋一覧'!$K$4:$K$79),\"\")","v":""},null,0,false]
[null,{"$f":"IF(A93<>\"\",IF(VLOOKUP(A93,'2_施設一覧'!$A$4:$D$73,3,FALSE)=0,\"\",VLOOKUP(A93,'2_施設一覧'!$A$4:$D$73,3,FALSE)),\"\")","v":""},null,null,{"$f":"IF(SUMIF('4_部屋一覧'!$C$4:$C$79,C93,'4_部屋一覧'!$K$4:$K$79)<>0,SUMIF('4_部屋一覧'!$C$4:$C$79,C93,'4_部屋一覧'!$K$4:$K$79),\"\")","v":""},null,0,false]
[null,{"$f":"IF(A94<>\"\",IF(VLOOKUP(A94,'2_施設一覧'!$A$4:$D$73,3,FALSE)=0,\"\",VLOOKUP(A94,'2_施設一覧'!$A$4:$D$73,3,FALSE)),\"\")","v":""},null,null,{"$f":"IF(SUMIF('4_部屋一覧'!$C$4:$C$79,C94,'4_部屋一覧'!$K$4:$K$79)<>0,SUMIF('4_部屋一覧'!$C$4:$C$79,C94,'4_部屋一覧'!$K$4:$K$79),\"\")","v":""},null,0,false]
[null,{"$f":"IF(A95<>\"\",IF(VLOOKUP(A95,'2_施設一覧'!$A$4:$D$73,3,FALSE)=0,\"\",VLOOKUP(A95,'2_施設一覧'!$A$4:$D$73,3,FALSE)),\"\")","v":""},null,null,{"$f":"IF(SUMIF('4_部屋一覧'!$C$4:$C$79,C95,'4_部屋一覧'!$K$4:$K$79)<>0,SUMIF('4_部屋一覧'!$C$4:$C$79,C95,'4_部屋一覧'!$K$4:$K$79),\"\")","v":""},null,0,false]
[null,{"$f":"IF(A96<>\"\",IF(VLOOKUP(A96,'2_施設一覧'!$A$4:$D$73,3,FALSE)=0,\"\",VLOOKUP(A96,'2_施設一覧'!$A$4:$D$73,3,FALSE)),\"\")","v":""},null,null,{"$f":"IF(SUMIF('4_部屋一覧'!$C$4:$C$79,C96,'4_部屋一覧'!$K$4:$K$79)<>0,SUMIF('4_部屋一覧'!$C$4:$C$79,C96,'4_部屋一覧'!$K$4:$K$79),\"\")","v":""},null,0,false]
[null,{"$f":"IF(A97<>\"\",IF(VLOOKUP(A97,'2_施設一覧'!$A$4:$D$73,3,FALSE)=0,\"\",VLOOKUP(A97,'2_施設一覧'!$A$4:$D$73,3,FALSE)),\"\")","v":""},null,null,{"$f":"IF(SUMIF('4_部屋一覧'!$C$4:$C$79,C97,'4_部屋一覧'!$K$4:$K$79)<>0,SUMIF('4_部屋一覧'!$C$4:$C$79,C97,'4_部屋一覧'!$K$4:$K$79),\"\")","v":""},null,0,false]
[null,{"$f":"IF(A98<>\"\",IF(VLOOKUP(A98,'2_施設一覧'!$A$4:$D$73,3,FALSE)=0,\"\",VLOOKUP(A98,'2_施設一覧'!$A$4:$D$73,3,FALSE)),\"\")","v":""},null,null,{"$f":"IF(SUMIF('4_部屋一覧'!$C$4:$C$79,C98,'4_部屋一覧'!$K$4:$K$79)<>0,SUMIF('4_部屋一覧'!$C$4:$C$79,C98,'4_部屋一覧'!$K$4:$K$79),\"\")","v":""},null,0,{"$f":"OR(A98<>\"\",B98<>\"\",C98<>\"\",D98<>\"\",E98<>\"\")","v":false}]
[null,{"$f":"IF(A99<>\"\",IF(VLOOKUP(A99,'2_施設一覧'!$A$4:$D$73,3,FALSE)=0,\"\",VLOOKUP(A99,'2_施設一覧'!$A$4:$D$73,3,FALSE)),\"\")","v":""},null,null,{"$f":"IF(SUMIF('4_部屋一覧'!$C$4:$C$79,C99,'4_部屋一覧'!$K$4:$K$79)<>0,SUMIF('4_部屋一覧'!$C$4:$C$79,C99,'4_部屋一覧'!$K$4:$K$79),\"\")","v":""},null,0,false]
[null,{"$f":"IF(A100<>\"\",IF(VLOOKUP(A100,'2_施設一覧'!$A$4:$D$73,3,FALSE)=0,\"\",VLOOKUP(A100,'2_施設一覧'!$A$4:$D$73,3,FALSE)),\"\")","v":""},null,null,{"$f":"IF(SUMIF('4_部屋一覧'!$C$4:$C$79,C100,'4_部屋一覧'!$K$4:$K$79)<>0,SUMIF('4_部屋一覧'!$C$4:$C$79,C100,'4_部屋一覧'!$K$4:$K$79),\"\")","v":""},null,0,false]
[null,{"$f":"IF(A101<>\"\",IF(VLOOKUP(A101,'2_施設一覧'!$A$4:$D$73,3,FALSE)=0,\"\",VLOOKUP(A101,'2_施設一覧'!$A$4:$D$73,3,FALSE)),\"\")","v":""},null,null,{"$f":"IF(SUMIF('4_部屋一覧'!$C$4:$C$79,C101,'4_部屋一覧'!$K$4:$K$79)<>0,SUMIF('4_部屋一覧'!$C$4:$C$79,C101,'4_部屋一覧'!$K$4:$K$79),\"\")","v":""},null,0,false]
[null,{"$f":"IF(A102<>\"\",IF(VLOOKUP(A102,'2_施設一覧'!$A$4:$D$73,3,FALSE)=0,\"\",VLOOKUP(A102,'2_施設一覧'!$A$4:$D$73,3,FALSE)),\"\")","v":""},null,null,{"$f":"IF(SUMIF('4_部屋一覧'!$C$4:$C$79,C102,'4_部屋一覧'!$K$4:$K$79)<>0,SUMIF('4_部屋一覧'!$C$4:$C$79,C102,'4_部屋一覧'!$K$4:$K$79),\"\")","v":""},null,0,false]
[null,{"$f":"IF(A103<>\"\",IF(VLOOKUP(A103,'2_施設一覧'!$A$4:$D$73,3,FALSE)=0,\"\",VLOOKUP(A103,'2_施設一覧'!$A$4:$D$73,3,FALSE)),\"\")","v":""},null,null,{"$f":"IF(SUMIF('4_部屋一覧'!$C$4:$C$79,C103,'4_部屋一覧'!$K$4:$K$79)<>0,SUMIF('4_部屋一覧'!$C$4:$C$79,C103,'4_部屋一覧'!$K$4:$K$79),\"\")","v":""},null,0,false]
[null,{"$f":"IF(A104<>\"\",IF(VLOOKUP(A104,'2_施設一覧'!$A$4:$D$73,3,FALSE)=0,\"\",VLOOKUP(A104,'2_施設一覧'!$A$4:$D$73,3,FALSE)),\"\")","v":""},null,null,{"$f":"IF(SUMIF('4_部屋一覧'!$C$4:$C$79,C104,'4_部屋一覧'!$K$4:$K$79)<>0,SUMIF('4_部屋一覧'!$C$4:$C$79,C104,'4_部屋一覧'!$K$4:$K$79),\"\")","v":""},null,0,false]
[null,{"$f":"IF(A105<>\"\",IF(VLOOKUP(A105,'2_施設一覧'!$A$4:$D$73,3,FALSE)=0,\"\",VLOOKUP(A105,'2_施設一覧'!$A$4:$D$73,3,FALSE)),\"\")","v":""},null,null,{"$f":"IF(SUMIF('4_部屋一覧'!$C$4:$C$79,C105,'4_部屋一覧'!$K$4:$K$79)<>0,SUMIF('4_部屋一覧'!$C$4:$C$79,C105,'4_部屋一覧'!$K$4:$K$79),\"\")","v":""},null,0,false]
[null,{"$f":"IF(A106<>\"\",IF(VLOOKUP(A106,'2_施設一覧'!$A$4:$D$73,3,FALSE)=0,\"\",VLOOKUP(A106,'2_施設一覧'!$A$4:$D$73,3,FALSE)),\"\")","v":""},null,null,{"$f":"IF(SUMIF('4_部屋一覧'!$C$4:$C$79,C106,'4_部屋一覧'!$K$4:$K$79)<>0,SUMIF('4_部屋一覧'!$C$4:$C$79,C106,'4_部屋一覧'!$K$4:$K$79),\"\")","v":""},null,0,false]
[null,{"$f":"IF(A107<>\"\",IF(VLOOKUP(A107,'2_施設一覧'!$A$4:$D$73,3,FALSE)=0,\"\",VLOOKUP(A107,'2_施設一覧'!$A$4:$D$73,3,FALSE)),\"\")","v":""},null,null,{"$f":"IF(SUMIF('4_部屋一覧'!$C$4:$C$79,C107,'4_部屋一覧'!$K$4:$K$79)<>0,SUMIF('4_部屋一覧'!$C$4:$C$79,C107,'4_部屋一覧'!$K$4:$K$79),\"\")","v":""},null,0,false]
[null,{"$f":"IF(A108<>\"\",IF(VLOOKUP(A108,'2_施設一覧'!$A$4:$D$73,3,FALSE)=0,\"\",VLOOKUP(A108,'2_施設一覧'!$A$4:$D$73,3,FALSE)),\"\")","v":""},null,null,{"$f":"IF(SUMIF('4_部屋一覧'!$C$4:$C$79,C108,'4_部屋一覧'!$K$4:$K$79)<>0,SUMIF('4_部屋一覧'!$C$4:$C$79,C108,'4_部屋一覧'!$K$4:$K$79),\"\")","v":""},null,0,false]
[null,{"$f":"IF(A109<>\"\",IF(VLOOKUP(A109,'2_施設一覧'!$A$4:$D$73,3,FALSE)=0,\"\",VLOOKUP(A109,'2_施設一覧'!$A$4:$D$73,3,FALSE)),\"\")","v":""},null,null,{"$f":"IF(SUMIF('4_部屋一覧'!$C$4:$C$79,C109,'4_部屋一覧'!$K$4:$K$79)<>0,SUMIF('4_部屋一覧'!$C$4:$C$79,C109,'4_部屋一覧'!$K$4:$K$79),\"\")","v":""},null,0,false]
[null,{"$f":"IF(A110<>\"\",IF(VLOOKUP(A110,'2_施設一覧'!$A$4:$D$73,3,FALSE)=0,\"\",VLOOKUP(A110,'2_施設一覧'!$A$4:$D$73,3,FALSE)),\"\")","v":""},null,null,{"$f":"IF(SUMIF('4_部屋一覧'!$C$4:$C$79,C110,'4_部屋一覧'!$K$4:$K$79)<>0,SUMIF('4_部屋一覧'!$C$4:$C$79,C110,'4_部屋一覧'!$K$4:$K$79),\"\")","v":""},null,0,false]
[null,{"$f":"IF(A111<>\"\",IF(VLOOKUP(A111,'2_施設一覧'!$A$4:$D$73,3,FALSE)=0,\"\",VLOOKUP(A111,'2_施設一覧'!$A$4:$D$73,3,FALSE)),\"\")","v":""},null,null,{"$f":"IF(SUMIF('4_部屋一覧'!$C$4:$C$79,C111,'4_部屋一覧'!$K$4:$K$79)<>0,SUMIF('4_部屋一覧'!$C$4:$C$79,C111,'4_部屋一覧'!$K$4:$K$79),\"\")","v":""},null,0,false]
[null,{"$f":"IF(A112<>\"\",IF(VLOOKUP(A112,'2_施設一覧'!$A$4:$D$73,3,FALSE)=0,\"\",VLOOKUP(A112,'2_施設一覧'!$A$4:$D$73,3,FALSE)),\"\")","v":""},null,null,{"$f":"IF(SUMIF('4_部屋一覧'!$C$4:$C$79,C112,'4_部屋一覧'!$K$4:$K$79)<>0,SUMIF('4_部屋一覧'!$C$4:$C$79,C112,'4_部屋一覧'!$K$4:$K$79),\"\")","v":""},null,0,false]
[null,{"$f":"IF(A113<>\"\",IF(VLOOKUP(A113,'2_施設一覧'!$A$4:$D$73,3,FALSE)=0,\"\",VLOOKUP(A113,'2_施設一覧'!$A$4:$D$73,3,FALSE)),\"\")","v":""},null,null,{"$f":"IF(SUMIF('4_部屋一覧'!$C$4:$C$79,C113,'4_部屋一覧'!$K$4:$K$79)<>0,SUMIF('4_部屋一覧'!$C$4:$C$79,C113,'4_部屋一覧'!$K$4:$K$79),\"\")","v":""},null,0,false]
[null,{"$f":"IF(A114<>\"\",IF(VLOOKUP(A114,'2_施設一覧'!$A$4:$D$73,3,FALSE)=0,\"\",VLOOKUP(A114,'2_施設一覧'!$A$4:$D$73,3,FALSE)),\"\")","v":""},null,null,{"$f":"IF(SUMIF('4_部屋一覧'!$C$4:$C$79,C114,'4_部屋一覧'!$K$4:$K$79)<>0,SUMIF('4_部屋一覧'!$C$4:$C$79,C114,'4_部屋一覧'!$K$4:$K$79),\"\")","v":""},null,0,false]
[null,{"$f":"IF(A115<>\"\",IF(VLOOKUP(A115,'2_施設一覧'!$A$4:$D$73,3,FALSE)=0,\"\",VLOOKUP(A115,'2_施設一覧'!$A$4:$D$73,3,FALSE)),\"\")","v":""},null,null,{"$f":"IF(SUMIF('4_部屋一覧'!$C$4:$C$79,C115,'4_部屋一覧'!$K$4:$K$79)<>0,SUMIF('4_部屋一覧'!$C$4:$C$79,C115,'4_部屋一覧'!$K$4:$K$79),\"\")","v":""},null,0,false]
[null,{"$f":"IF(A116<>\"\",IF(VLOOKUP(A116,'2_施設一覧'!$A$4:$D$73,3,FALSE)=0,\"\",VLOOKUP(A116,'2_施設一覧'!$A$4:$D$73,3,FALSE)),\"\")","v":""},null,null,{"$f":"IF(SUMIF('4_部屋一覧'!$C$4:$C$79,C116,'4_部屋一覧'!$K$4:$K$79)<>0,SUMIF('4_部屋一覧'!$C$4:$C$79,C116,'4_部屋一覧'!$K$4:$K$79),\"\")","v":""},null,0,false]

{"sheet":"4_部屋一覧","index":3,"n_rows":79,"n_cols":16,"rows_kept":79,"cut":false,"hidden":false,"merged":[]}
["（様式４）部屋一覧"]
[]
["施設№","施設名","平面図№","階など","部屋№","部屋名","部屋区分","床面積（㎡）","上限額","所要額","申請額"]
[null,{"$f":"IF(A4<>\"\",IF(IFERROR(VLOOKUP(A4,'2_施設一覧'!$A$4:$D$73,3,FALSE),\"\")=0,\"\",IFERROR(VLOOKUP(A4,'2_施設一覧'!$A$4:$D$73,3,FALSE),\"\")),\"\")","v":""},null,{"$f":"IF(C4<>\"\",IFERROR(VLOOKUP(C4,'3_平面図一覧'!$C$4:$D$116,2,FALSE),\"\"),\"\")","v":""},null,null,null,null,{"$f":"IFERROR(VLOOKUP(G4,リスト!$A$27:$B$30,2,FALSE),\"\")","v":""},{"$f":"IF(SUMIF('5_機器一覧'!$M$4:$M$75,M4,'5_機器一覧'!$J$4:$J$75)<>0,SUMIF('5_機器一覧'!$M$4:$M$75,M4,'5_機器一覧'!$J$4:$J$75),\"\")","v":""},{"$f":"IF(ROUNDDOWN(MIN(IF(I4<>\"\",I4,0),IF(J4<>\"\",J4,0)),-3)<>0,ROUNDDOWN(MIN(IF(I4<>\"\",I4,0),IF(J4<>\"\",J4,0)),-3),\"\")","v":""},null,{"$f":"C4&\"-\"&E4","v":"-"},{"$f":"F4","v":0},{"$f":"G4","v":0},{"$f":"OR(A4<>\"\",B4<>\"\",C4<>\"\",D4<>\"\",E4<>\"\",F4<>\"\",G4<>\"\",I4<>\"\",J4<>\"\",K4<>\"\")","v":false}]
[null,{"$f":"IF(A5<>\"\",IF(IFERROR(VLOOKUP(A5,'2_施設一覧'!$A$4:$D$73,3,FALSE),\"\")=0,\"\",IFERROR(VLOOKUP(A5,'2_施設一覧'!$A$4:$D$73,3,FALSE),\"\")),\"\")","v":""},null,{"$f":"IF(C5<>\"\",IFERROR(VLOOKUP(C5,'3_平面図一覧'!$C$4:$D$116,2,FALSE),\"\"),\"\")","v":""},null,null,null,null,{"$f":"IFERROR(VLOOKUP(G5,リスト!$A$27:$B$30,2,FALSE),\"\")","v":""},{"$f":"IF(SUMIF('5_機器一覧'!$M$4:$M$75,M5,'5_機器一覧'!$J$4:$J$75)<>0,SUMIF('5_機器一覧'!$M$4:$M$75,M5,'5_機器一覧'!$J$4:$J$75),\"\")","v":""},{"$f":"IF(ROUNDDOWN(MIN(IF(I5<>\"\",I5,0),IF(J5<>\"\",J5,0)),-3)<>0,ROUNDDOWN(MIN(IF(I5<>\"\",I5,0),IF(J5<>\"\",J5,0)),-3),\"\")","v":""},null,{"$f":"C5&\"-\"&E5","v":"-"},{"$f":"F5","v":0},{"$f":"G5","v":0},{"$f":"OR(A5<>\"\",B5<>\"\",C5<>\"\",D5<>\"\",E5<>\"\",F5<>\"\",G5<>\"\",I5<>\"\",J5<>\"\",K5<>\"\")","v":false}]
[null,{"$f":"IF(A6<>\"\",IF(IFERROR(VLOOKUP(A6,'2_施設一覧'!$A$4:$D$73,3,FALSE),\"\")=0,\"\",IFERROR(VLOOKUP(A6,'2_施設一覧'!$A$4:$D$73,3,FALSE),\"\")),\"\")","v":""},null,{"$f":"IF(C6<>\"\",IFERROR(VLOOKUP(C6,'3_平面図一覧'!$C$4:$D$116,2,FALSE),\"\"),\"\")","v":""},null,null,null,null,{"$f":"IFERROR(VLOOKUP(G6,リスト!$A$27:$B$30,2,FALSE),\"\")","v":""},{"$f":"IF(SUMIF('5_機器一覧'!$M$4:$M$75,M6,'5_機器一覧'!$J$4:$J$75)<>0,SUMIF('5_機器一覧'!$M$4:$M$75,M6,'5_機器一覧'!$J$4:$J$75),\"\")","v":""},"",null,"-",0,0,false]
[null,{"$f":"IF(A7<>\"\",IF(IFERROR(VLOOKUP(A7,'2_施設一覧'!$A$4:$D$73,3,FALSE),\"\")=0,\"\",IFERROR(VLOOKUP(A7,'2_施設一覧'!$A$4:$D$73,3,FALSE),\"\")),\"\")","v":""},null,{"$f":"IF(C7<>\"\",IFERROR(VLOOKUP(C7,'3_平面図一覧'!$C$4:$D$116,2,FALSE),\"\"),\"\")","v":""},null,null,null,null,{"$f":"IFERROR(VLOOKUP(G7,リスト!$A$27:$B$30,2,FALSE),\"\")","v":""},{"$f":"IF(SUMIF('5_機器一覧'!$M$4:$M$75,M7,'5_機器一覧'!$J$4:$J$75)<>0,SUMIF('5_機器一覧'!$M$4:$M$75,M7,'5_機器一覧'!$J$4:$J$75),\"\")","v":""},"",null,"-",0,0,false]
[null,{"$f":"IF(A8<>\"\",IF(IFERROR(VLOOKUP(A8,'2_施設一覧'!$A$4:$D$73,3,FALSE),\"\")=0,\"\",IFERROR(VLOOKUP(A8,'2_施設一覧'!$A$4:$D$73,3,FALSE),\"\")),\"\")","v":""},null,{"$f":"IF(C8<>\"\",IFERROR(VLOOKUP(C8,'3_平面図一覧'!$C$4:$D$116,2,FALSE),\"\"),\"\")","v":""},null,null,null,null,{"$f":"IFERROR(VLOOKUP(G8,リスト!$A$27:$B$30,2,FALSE),\"\")","v":""},{"$f":"IF(SUMIF('5_機器一覧'!$M$4:$M$75,M8,'5_機器一覧'!$J$4:$J$75)<>0,SUMIF('5_機器一覧'!$M$4:$M$75,M8,'5_機器一覧'!$J$4:$J$75),\"\")","v":""},"",null,"-",0,0,false]
[null,{"$f":"IF(A9<>\"\",IF(IFERROR(VLOOKUP(A9,'2_施設一覧'!$A$4:$D$73,3,FALSE),\"\")=0,\"\",IFERROR(VLOOKUP(A9,'2_施設一覧'!$A$4:$D$73,3,FALSE),\"\")),\"\")","v":""},null,{"$f":"IF(C9<>\"\",IFERROR(VLOOKUP(C9,'3_平面図一覧'!$C$4:$D$116,2,FALSE),\"\"),\"\")","v":""},null,null,null,null,{"$f":"IFERROR(VLOOKUP(G9,リスト!$A$27:$B$30,2,FALSE),\"\")","v":""},{"$f":"IF(SUMIF('5_機器一覧'!$M$4:$M$75,M9,'5_機器一覧'!$J$4:$J$75)<>0,SUMIF('5_機器一覧'!$M$4:$M$75,M9,'5_機器一覧'!$J$4:$J$75),\"\")","v":""},"",null,"-",0,0,false]
[null,{"$f":"IF(A10<>\"\",IF(IFERROR(VLOOKUP(A10,'2_施設一覧'!$A$4:$D$73,3,FALSE),\"\")=0,\"\",IFERROR(VLOOKUP(A10,'2_施設一覧'!$A$4:$D$73,3,FALSE),\"\")),\"\")","v":""},null,{"$f":"IF(C10<>\"\",IFERROR(VLOOKUP(C10,'3_平面図一覧'!$C$4:$D$116,2,FALSE),\"\"),\"\")","v":""},null,null,null,null,{"$f":"IFERROR(VLOOKUP(G10,リスト!$A$27:$B$30,2,FALSE),\"\")","v":""},{"$f":"IF(SUMIF('5_機器一覧'!$M$4:$M$75,M10,'5_機器一覧'!$J$4:$J$75)<>0,SUMIF('5_機器一覧'!$M$4:$M$75,M10,'5_機器一覧'!$J$4:$J$75),\"\")","v":""},"",null,"-",0,0,false]
[null,{"$f":"IF(A11<>\"\",IF(IFERROR(VLOOKUP(A11,'2_施設一覧'!$A$4:$D$73,3,FALSE),\"\")=0,\"\",IFERROR(VLOOKUP(A11,'2_施設一覧'!$A$4:$D$73,3,FALSE),\"\")),\"\")","v":""},null,{"$f":"IF(C11<>\"\",IFERROR(VLOOKUP(C11,'3_平面図一覧'!$C$4:$D$116,2,FALSE),\"\"),\"\")","v":""},null,null,null,null,{"$f":"IFERROR(VLOOKUP(G11,リスト!$A$27:$B$30,2,FALSE),\"\")","v":""},{"$f":"IF(SUMIF('5_機器一覧'!$M$4:$M$75,M11,'5_機器一覧'!$J$4:$J$75)<>0,SUMIF('5_機器一覧'!$M$4:$M$75,M11,'5_機器一覧'!$J$4:$J$75),\"\")","v":""},"",null,"-",0,0,false]
[null,{"$f":"IF(A12<>\"\",IF(IFERROR(VLOOKUP(A12,'2_施設一覧'!$A$4:$D$73,3,FALSE),\"\")=0,\"\",IFERROR(VLOOKUP(A12,'2_施設一覧'!$A$4:$D$73,3,FALSE),\"\")),\"\")","v":""},null,{"$f":"IF(C12<>\"\",IFERROR(VLOOKUP(C12,'3_平面図一覧'!$C$4:$D$116,2,FALSE),\"\"),\"\")","v":""},null,null,null,null,{"$f":"IFERROR(VLOOKUP(G12,リスト!$A$27:$B$30,2,FALSE),\"\")","v":""},{"$f":"IF(SUMIF('5_機器一覧'!$M$4:$M$75,M12,'5_機器一覧'!$J$4:$J$75)<>0,SUMIF('5_機器一覧'!$M$4:$M$75,M12,'5_機器一覧'!$J$4:$J$75),\"\")","v":""},"",null,"-",0,0,false]
[null,{"$f":"IF(A13<>\"\",IF(IFERROR(VLOOKUP(A13,'2_施設一覧'!$A$4:$D$73,3,FALSE),\"\")=0,\"\",IFERROR(VLOOKUP(A13,'2_施設一覧'!$A$4:$D$73,3,FALSE),\"\")),\"\")","v":""},null,{"$f":"IF(C13<>\"\",IFERROR(VLOOKUP(C13,'3_平面図一覧'!$C$4:$D$116,2,FALSE),\"\"),\"\")","v":""},null,null,null,null,{"$f":"IFERROR(VLOOKUP(G13,リスト!$A$27:$B$30,2,FALSE),\"\")","v":""},{"$f":"IF(SUMIF('5_機器一覧'!$M$4:$M$75,M13,'5_機器一覧'!$J$4:$J$75)<>0,SUMIF('5_機器一覧'!$M$4:$M$75,M13,'5_機器一覧'!$J$4:$J$75),\"\")","v":""},"",null,"-",0,0,false]
[null,{"$f":"IF(A14<>\"\",IF(IFERROR(VLOOKUP(A14,'2_施設一覧'!$A$4:$D$73,3,FALSE),\"\")=0,\"\",IFERROR(VLOOKUP(A14,'2_施設一覧'!$A$4:$D$73,3,FALSE),\"\")),\"\")","v":""},null,{"$f":"IF(C14<>\"\",IFERROR(VLOOKUP(C14,'3_平面図一覧'!$C$4:$D$116,2,FALSE),\"\"),\"\")","v":""},null,null,null,null,{"$f":"IFERROR(VLOOKUP(G14,リスト!$A$27:$B$30,2,FALSE),\"\")","v":""},{"$f":"IF(SUMIF('5_機器一覧'!$M$4:$M$75,M14,'5_機器一覧'!$J$4:$J$75)<>0,SUMIF('5_機器一覧'!$M$4:$M$75,M14,'5_機器一覧'!$J$4:$J$75),\"\")","v":""},"",null,"-",0,0,false]
[null,{"$f":"IF(A15<>\"\",IF(IFERROR(VLOOKUP(A15,'2_施設一覧'!$A$4:$D$73,3,FALSE),\"\")=0,\"\",IFERROR(VLOOKUP(A15,'2_施設一覧'!$A$4:$D$73,3,FALSE),\"\")),\"\")","v":""},null,{"$f":"IF(C15<>\"\",IFERROR(VLOOKUP(C15,'3_平面図一覧'!$C$4:$D$116,2,FALSE),\"\"),\"\")","v":""},null,null,null,null,{"$f":"IFERROR(VLOOKUP(G15,リスト!$A$27:$B$30,2,FALSE),\"\")","v":""},{"$f":"IF(SUMIF('5_機器一覧'!$M$4:$M$75,M15,'5_機器一覧'!$J$4:$J$75)<>0,SUMIF('5_機器一覧'!$M$4:$M$75,M15,'5_機器一覧'!$J$4:$J$75),\"\")","v":""},"",null,"-",0,0,false]
[null,{"$f":"IF(A16<>\"\",IF(IFERROR(VLOOKUP(A16,'2_施設一覧'!$A$4:$D$73,3,FALSE),\"\")=0,\"\",IFERROR(VLOOKUP(A16,'2_施設一覧'!$A$4:$D$73,3,FALSE),\"\")),\"\")","v":""},null,{"$f":"IF(C16<>\"\",IFERROR(VLOOKUP(C16,'3_平面図一覧'!$C$4:$D$116,2,FALSE),\"\"),\"\")","v":""},null,null,null,null,{"$f":"IFERROR(VLOOKUP(G16,リスト!$A$27:$B$30,2,FALSE),\"\")","v":""},{"$f":"IF(SUMIF('5_機器一覧'!$M$4:$M$75,M16,'5_機器一覧'!$J$4:$J$75)<>0,SUMIF('5_機器一覧'!$M$4:$M$75,M16,'5_機器一覧'!$J$4:$J$75),\"\")","v":""},"",null,"-",0,0,false]
[null,{"$f":"IF(A17<>\"\",IF(IFERROR(VLOOKUP(A17,'2_施設一覧'!$A$4:$D$73,3,FALSE),\"\")=0,\"\",IFERROR(VLOOKUP(A17,'2_施設一覧'!$A$4:$D$73,3,FALSE),\"\")),\"\")","v":""},null,{"$f":"IF(C17<>\"\",IFERROR(VLOOKUP(C17,'3_平面図一覧'!$C$4:$D$116,2,FALSE),\"\"),\"\")","v":""},null,null,null,null,{"$f":"IFERROR(VLOOKUP(G17,リスト!$A$27:$B$30,2,FALSE),\"\")","v":""},{"$f":"IF(SUMIF('5_機器一覧'!$M$4:$M$75,M17,'5_機器一覧'!$J$4:$J$75)<>0,SUMIF('5_機器一覧'!$M$4:$M$75,M17,'5_機器一覧'!$J$4:$J$75),\"\")","v":""},"",null,"-",0,0,false]
[null,{"$f":"IF(A18<>\"\",IF(IFERROR(VLOOKUP(A18,'2_施設一覧'!$A$4:$D$73,3,FALSE),\"\")=0,\"\",IFERROR(VLOOKUP(A18,'2_施設一覧'!$A$4:$D$73,3,FALSE),\"\")),\"\")","v":""},null,{"$f":"IF(C18<>\"\",IFERROR(VLOOKUP(C18,'3_平面図一覧'!$C$4:$D$116,2,FALSE),\"\"),\"\")","v":""},null,null,null,null,{"$f":"IFERROR(VLOOKUP(G18,リスト!$A$27:$B$30,2,FALSE),\"\")","v":""},{"$f":"IF(SUMIF('5_機器一覧'!$M$4:$M$75,M18,'5_機器一覧'!$J$4:$J$75)<>0,SUMIF('5_機器一覧'!$M$4:$M$75,M18,'5_機器一覧'!$J$4:$J$75),\"\")","v":""},{"$f":"IF(ROUNDDOWN(MIN(IF(I18<>\"\",I18,0),IF(J18<>\"\",J18,0)),-3)<>0,ROUNDDOWN(MIN(IF(I18<>\"\",I18,0),IF(J18<>\"\",J18,0)),-3),\"\")","v":""},null,"-",0,0,false]
[null,{"$f":"IF(A19<>\"\",IF(IFERROR(VLOOKUP(A19,'2_施設一覧'!$A$4:$D$73,3,FALSE),\"\")=0,\"\",IFERROR(VLOOKUP(A19,'2_施設一覧'!$A$4:$D$73,3,FALSE),\"\")),\"\")","v":""},null,{"$f":"IF(C19<>\"\",IFERROR(VLOOKUP(C19,'3_平面図一覧'!$C$4:$D$116,2,FALSE),\"\"),\"\")","v":""},null,null,null,null,{"$f":"IFERROR(VLOOKUP(G19,リスト!$A$27:$B$30,2,FALSE),\"\")","v":""},{"$f":"IF(SUMIF('5_機器一覧'!$M$4:$M$75,M19,'5_機器一覧'!$J$4:$J$75)<>0,SUMIF('5_機器一覧'!$M$4:$M$75,M19,'5_機器一覧'!$J$4:$J$75),\"\")","v":""},"",null,"-",0,0,false]
[null,{"$f":"IF(A20<>\"\",IF(IFERROR(VLOOKUP(A20,'2_施設一覧'!$A$4:$D$73,3,FALSE),\"\")=0,\"\",IFERROR(VLOOKUP(A20,'2_施設一覧'!$A$4:$D$73,3,FALSE),\"\")),\"\")","v":""},null,{"$f":"IF(C20<>\"\",IFERROR(VLOOKUP(C20,'3_平面図一覧'!$C$4:$D$116,2,FALSE),\"\"),\"\")","v":""},null,null,null,null,{"$f":"IFERROR(VLOOKUP(G20,リスト!$A$27:$B$30,2,FALSE),\"\")","v":""},{"$f":"IF(SUMIF('5_機器一覧'!$M$4:$M$75,M20,'5_機器一覧'!$J$4:$J$75)<>0,SUMIF('5_機器一覧'!$M$4:$M$75,M20,'5_機器一覧'!$J$4:$J$75),\"\")","v":""},"",null,"-",0,0,false]
[null,{"$f":"IF(A21<>\"\",IF(IFERROR(VLOOKUP(A21,'2_施設一覧'!$A$4:$D$73,3,FALSE),\"\")=0,\"\",IFERROR(VLOOKUP(A21,'2_施設一覧'!$A$4:$D$73,3,FALSE),\"\")),\"\")","v":""},null,{"$f":"IF(C21<>\"\",IFERROR(VLOOKUP(C21,'3_平面図一覧'!$C$4:$D$116,2,FALSE),\"\"),\"\")","v":""},null,null,null,null,{"$f":"IFERROR(VLOOKUP(G21,リスト!$A$27:$B$30,2,FALSE),\"\")","v":""},{"$f":"IF(SUMIF('5_機器一覧'!$M$4:$M$75,M21,'5_機器一覧'!$J$4:$J$75)<>0,SUMIF('5_機器一覧'!$M$4:$M$75,M21,'5_機器一覧'!$J$4:$J$75),\"\")","v":""},"",null,"-",0,0,false]
[null,{"$f":"IF(A22<>\"\",IF(IFERROR(VLOOKUP(A22,'2_施設一覧'!$A$4:$D$73,3,FALSE),\"\")=0,\"\",IFERROR(VLOOKUP(A22,'2_施設一覧'!$A$4:$D$73,3,FALSE),\"\")),\"\")","v":""},null,{"$f":"IF(C22<>\"\",IFERROR(VLOOKUP(C22,'3_平面図一覧'!$C$4:$D$116,2,FALSE),\"\"),\"\")","v":""},null,null,null,null,{"$f":"IFERROR(VLOOKUP(G22,リスト!$A$27:$B$30,2,FALSE),\"\")","v":""},{"$f":"IF(SUMIF('5_機器一覧'!$M$4:$M$75,M22,'5_機器一覧'!$J$4:$J$75)<>0,SUMIF('5_機器一覧'!$M$4:$M$75,M22,'5_機器一覧'!$J$4:$J$75),\"\")","v":""},"",null,"-",0,0,false]
[null,{"$f":"IF(A23<>\"\",IF(IFERROR(VLOOKUP(A23,'2_施設一覧'!$A$4:$D$73,3,FALSE),\"\")=0,\"\",IFERROR(VLOOKUP(A23,'2_施設一覧'!$A$4:$D$73,3,FALSE),\"\")),\"\")","v":""},null,{"$f":"IF(C23<>\"\",IFERROR(VLOOKUP(C23,'3_平面図一覧'!$C$4:$D$116,2,FALSE),\"\"),\"\")","v":""},null,null,null,null,{"$f":"IFERROR(VLOOKUP(G23,リスト!$A$27:$B$30,2,FALSE),\"\")","v":""},{"$f":"IF(SUMIF('5_機器一覧'!$M$4:$M$75,M23,'5_機器一覧'!$J$4:$J$75)<>0,SUMIF('5_機器一覧'!$M$4:$M$75,M23,'5_機器一覧'!$J$4:$J$75),\"\")","v":""},"",null,{"$f":"C23&\"-\"&E23","v":"-"},{"$f":"F23","v":0},{"$f":"G23","v":0},false]
[null,{"$f":"IF(A24<>\"\",IF(IFERROR(VLOOKUP(A24,'2_施設一覧'!$A$4:$D$73,3,FALSE),\"\")=0,\"\",IFERROR(VLOOKUP(A24,'2_施設一覧'!$A$4:$D$73,3,FALSE),\"\")),\"\")","v":""},null,{"$f":"IF(C24<>\"\",IFERROR(VLOOKUP(C24,'3_平面図一覧'!$C$4:$D$116,2,FALSE),\"\"),\"\")","v":""},null,null,null,null,{"$f":"IFERROR(VLOOKUP(G24,リスト!$A$27:$B$30,2,FALSE),\"\")","v":""},{"$f":"IF(SUMIF('5_機器一覧'!$M$4:$M$75,M24,'5_機器一覧'!$J$4:$J$75)<>0,SUMIF('5_機器一覧'!$M$4:$M$75,M24,'5_機器一覧'!$J$4:$J$75),\"\")","v":""},"",null,"-",0,0,false]
[null,{"$f":"IF(A25<>\"\",IF(IFERROR(VLOOKUP(A25,'2_施設一覧'!$A$4:$D$73,3,FALSE),\"\")=0,\"\",IFERROR(VLOOKUP(A25,'2_施設一覧'!$A$4:$D$73,3,FALSE),\"\")),\"\")","v":""},null,{"$f":"IF(C25<>\"\",IFERROR(VLOOKUP(C25,'3_平面図一覧'!$C$4:$D$116,2,FALSE),\"\"),\"\")","v":""},null,null,null,null,{"$f":"IFERROR(VLOOKUP(G25,リスト!$A$27:$B$30,2,FALSE),\"\")","v":""},{"$f":"IF(SUMIF('5_機器一覧'!$M$4:$M$75,M25,'5_機器一覧'!$J$4:$J$75)<>0,SUMIF('5_機器一覧'!$M$4:$M$75,M25,'5_機器一覧'!$J$4:$J$75),\"\")","v":""},"",null,"-",0,0,false]
[null,{"$f":"IF(A26<>\"\",IF(IFERROR(VLOOKUP(A26,'2_施設一覧'!$A$4:$D$73,3,FALSE),\"\")=0,\"\",IFERROR(VLOOKUP(A26,'2_施設一覧'!$A$4:$D$73,3,FALSE),\"\")),\"\")","v":""},null,{"$f":"IF(C26<>\"\",IFERROR(VLOOKUP(C26,'3_平面図一覧'!$C$4:$D$116,2,FALSE),\"\"),\"\")","v":""},null,null,null,null,{"$f":"IFERROR(VLOOKUP(G26,リスト!$A$27:$B$30,2,FALSE),\"\")","v":""},{"$f":"IF(SUMIF('5_機器一覧'!$M$4:$M$75,M26,'5_機器一覧'!$J$4:$J$75)<>0,SUMIF('5_機器一覧'!$M$4:$M$75,M26,'5_機器一覧'!$J$4:$J$75),\"\")","v":""},"",null,"-",0,0,false]
[null,{"$f":"IF(A27<>\"\",IF(IFERROR(VLOOKUP(A27,'2_施設一覧'!$A$4:$D$73,3,FALSE),\"\")=0,\"\",IFERROR(VLOOKUP(A27,'2_施設一覧'!$A$4:$D$73,3,FALSE),\"\")),\"\")","v":""},null,{"$f":"IF(C27<>\"\",IFERROR(VLOOKUP(C27,'3_平面図一覧'!$C$4:$D$116,2,FALSE),\"\"),\"\")","v":""},null,null,null,null,{"$f":"IFERROR(VLOOKUP(G27,リスト!$A$27:$B$30,2,FALSE),\"\")","v":""},{"$f":"IF(SUMIF('5_機器一覧'!$M$4:$M$75,M27,'5_機器一覧'!$J$4:$J$75)<>0,SUMIF('5_機器一覧'!$M$4:$M$75,M27,'5_機器一覧'!$J$4:$J$75),\"\")","v":""},"",null,"-",0,0,false]
[null,{"$f":"IF(A28<>\"\",IF(IFERROR(VLOOKUP(A28,'2_施設一覧'!$A$4:$D$73,3,FALSE),\"\")=0,\"\",IFERROR(VLOOKUP(A28,'2_施設一覧'!$A$4:$D$73,3,FALSE),\"\")),\"\")","v":""},null,{"$f":"IF(C28<>\"\",IFERROR(VLOOKUP(C28,'3_平面図一覧'!$C$4:$D$116,2,FALSE),\"\"),\"\")","v":""},null,null,null,null,{"$f":"IFERROR(VLOOKUP(G28,リスト!$A$27:$B$30,2,FALSE),\"\")","v":""},{"$f":"IF(SUMIF('5_機器一覧'!$M$4:$M$75,M28,'5_機器一覧'!$J$4:$J$75)<>0,SUMIF('5_機器一覧'!$M$4:$M$75,M28,'5_機器一覧'!$J$4:$J$75),\"\")","v":""},"",null,"-",0,0,false]
[null,{"$f":"IF(A29<>\"\",IF(IFERROR(VLOOKUP(A29,'2_施設一覧'!$A$4:$D$73,3,FALSE),\"\")=0,\"\",IFERROR(VLOOKUP(A29,'2_施設一覧'!$A$4:$D$73,3,FALSE),\"\")),\"\")","v":""},null,{"$f":"IF(C29<>\"\",IFERROR(VLOOKUP(C29,'3_平面図一覧'!$C$4:$D$116,2,FALSE),\"\"),\"\")","v":""},null,null,null,null,{"$f":"IFERROR(VLOOKUP(G29,リスト!$A$27:$B$30,2,FALSE),\"\")","v":""},{"$f":"IF(SUMIF('5_機器一覧'!$M$4:$M$75,M29,'5_機器一覧'!$J$4:$J$75)<>0,SUMIF('5_機器一覧'!$M$4:$M$75,M29,'5_機器一覧'!$J$4:$J$75),\"\")","v":""},"",null,"-",0,0,false]
[null,{"$f":"IF(A30<>\"\",IF(IFERROR(VLOOKUP(A30,'2_施設一覧'!$A$4:$D$73,3,FALSE),\"\")=0,\"\",IFERROR(VLOOKUP(A30,'2_施設一覧'!$A$4:$D$73,3,FALSE),\"\")),\"\")","v":""},null,{"$f":"IF(C30<>\"\",IFERROR(VLOOKUP(C30,'3_平面図一覧'!$C$4:$D$116,2,FALSE),\"\"),\"\")","v":""},null,null,null,null,{"$f":"IFERROR(VLOOKUP(G30,リスト!$A$27:$B$30,2,FALSE),\"\")","v":""},{"$f":"IF(SUMIF('5_機器一覧'!$M$4:$M$75,M30,'5_機器一覧'!$J$4:$J$75)<>0,SUMIF('5_機器一覧'!$M$4:$M$75,M30,'5_機器一覧'!$J$4:$J$75),\"\")","v":""},"",null,"-",0,0,false]
[null,{"$f":"IF(A31<>\"\",IF(IFERROR(VLOOKUP(A31,'2_施設一覧'!$A$4:$D$73,3,FALSE),\"\")=0,\"\",IFERROR(VLOOKUP(A31,'2_施設一覧'!$A$4:$D$73,3,FALSE),\"\")),\"\")","v":""},null,{"$f":"IF(C31<>\"\",IFERROR(VLOOKUP(C31,'3_平面図一覧'!$C$4:$D$116,2,FALSE),\"\"),\"\")","v":""},null,null,null,null,{"$f":"IFERROR(VLOOKUP(G31,リスト!$A$27:$B$30,2,FALSE),\"\")","v":""},{"$f":"IF(SUMIF('5_機器一覧'!$M$4:$M$75,M31,'5_機器一覧'!$J$4:$J$75)<>0,SUMIF('5_機器一覧'!$M$4:$M$75,M31,'5_機器一覧'!$J$4:$J$75),\"\")","v":""},"",null,"-",0,0,false]
[null,{"$f":"IF(A32<>\"\",IF(IFERROR(VLOOKUP(A32,'2_施設一覧'!$A$4:$D$73,3,FALSE),\"\")=0,\"\",IFERROR(VLOOKUP(A32,'2_施設一覧'!$A$4:$D$73,3,FALSE),\"\")),\"\")","v":""},null,{"$f":"IF(C32<>\"\",IFERROR(VLOOKUP(C32,'3_平面図一覧'!$C$4:$D$116,2,FALSE),\"\"),\"\")","v":""},null,null,null,null,{"$f":"IFERROR(VLOOKUP(G32,リスト!$A$27:$B$30,2,FALSE),\"\")","v":""},{"$f":"IF(SUMIF('5_機器一覧'!$M$4:$M$75,M32,'5_機器一覧'!$J$4:$J$75)<>0,SUMIF('5_機器一覧'!$M$4:$M$75,M32,'5_機器一覧'!$J$4:$J$75),\"\")","v":""},"",null,"-",0,0,false]
[null,{"$f":"IF(A33<>\"\",IF(IFERROR(VLOOKUP(A33,'2_施設一覧'!$A$4:$D$73,3,FALSE),\"\")=0,\"\",IFERROR(VLOOKUP(A33,'2_施設一覧'!$A$4:$D$73,3,FALSE),\"\")),\"\")","v":""},null,{"$f":"IF(C33<>\"\",IFERROR(VLOOKUP(C33,'3_平面図一覧'!$C$4:$D$116,2,FALSE),\"\"),\"\")","v":""},null,null,null,null,{"$f":"IFERROR(VLOOKUP(G33,リスト!$A$27:$B$30,2,FALSE),\"\")","v":""},{"$f":"IF(SUMIF('5_機器一覧'!$M$4:$M$75,M33,'5_機器一覧'!$J$4:$J$75)<>0,SUMIF('5_機器一覧'!$M$4:$M$75,M33,'5_機器一覧'!$J$4:$J$75),\"\")","v":""},"",null,"-",0,0,false]
[null,{"$f":"IF(A34<>\"\",IF(IFERROR(VLOOKUP(A34,'2_施設一覧'!$A$4:$D$73,3,FALSE),\"\")=0,\"\",IFERROR(VLOOKUP(A34,'2_施設一覧'!$A$4:$D$73,3,FALSE),\"\")),\"\")","v":""},null,{"$f":"IF(C34<>\"\",IFERROR(VLOOKUP(C34,'3_平面図一覧'!$C$4:$D$116,2,FALSE),\"\"),\"\")","v":""},null,null,null,null,{"$f":"IFERROR(VLOOKUP(G34,リスト!$A$27:$B$30,2,FALSE),\"\")","v":""},{"$f":"IF(SUMIF('5_機器一覧'!$M$4:$M$75,M34,'5_機器一覧'!$J$4:$J$75)<>0,SUMIF('5_機器一覧'!$M$4:$M$75,M34,'5_機器一覧'!$J$4:$J$75),\"\")","v":""},"",null,"-",0,0,false]
[null,{"$f":"IF(A35<>\"\",IF(IFERROR(VLOOKUP(A35,'2_施設一覧'!$A$4:$D$73,3,FALSE),\"\")=0,\"\",IFERROR(VLOOKUP(A35,'2_施設一覧'!$A$4:$D$73,3,FALSE),\"\")),\"\")","v":""},null,{"$f":"IF(C35<>\"\",IFERROR(VLOOKUP(C35,'3_平面図一覧'!$C$4:$D$116,2,FALSE),\"\"),\"\")","v":""},null,null,null,null,{"$f":"IFERROR(VLOOKUP(G35,リスト!$A$27:$B$30,2,FALSE),\"\")","v":""},{"$f":"IF(SUMIF('5_機器一覧'!$M$4:$M$75,M35,'5_機器一覧'!$J$4:$J$75)<>0,SUMIF('5_機器一覧'!$M$4:$M$75,M35,'5_機器一覧'!$J$4:$J$75),\"\")","v":""},"",null,"-",0,0,false]
[null,{"$f":"IF(A36<>\"\",IF(IFERROR(VLOOKUP(A36,'2_施設一覧'!$A$4:$D$73,3,FALSE),\"\")=0,\"\",IFERROR(VLOOKUP(A36,'2_施設一覧'!$A$4:$D$73,3,FALSE),\"\")),\"\")","v":""},null,{"$f":"IF(C36<>\"\",IFERROR(VLOOKUP(C36,'3_平面図一覧'!$C$4:$D$116,2,FALSE),\"\"),\"\")","v":""},null,null,null,null,{"$f":"IFERROR(VLOOKUP(G36,リスト!$A$27:$B$30,2,FALSE),\"\")","v":""},{"$f":"IF(SUMIF('5_機器一覧'!$M$4:$M$75,M36,'5_機器一覧'!$J$4:$J$75)<>0,SUMIF('5_機器一覧'!$M$4:$M$75,M36,'5_機器一覧'!$J$4:$J$75),\"\")","v":""},"",null,"-",0,0,false]
[null,{"$f":"IF(A37<>\"\",IF(IFERROR(VLOOKUP(A37,'2_施設一覧'!$A$4:$D$73,3,FALSE),\"\")=0,\"\",IFERROR(VLOOKUP(A37,'2_施設一覧'!$A$4:$D$73,3,FALSE),\"\")),\"\")","v":""},null,{"$f":"IF(C37<>\"\",IFERROR(VLOOKUP(C37,'3_平面図一覧'!$C$4:$D$116,2,FALSE),\"\"),\"\")","v":""},null,null,null,null,{"$f":"IFERROR(VLOOKUP(G37,リスト!$A$27:$B$30,2,FALSE),\"\")","v":""},{"$f":"IF(SUMIF('5_機器一覧'!$M$4:$M$75,M37,'5_機器一覧'!$J$4:$J$75)<>0,SUMIF('5_機器一覧'!$M$4:$M$75,M37,'5_機器一覧'!$J$4:$J$75),\"\")","v":""},"",null,"-",0,0,false]
[null,{"$f":"IF(A38<>\"\",IF(IFERROR(VLOOKUP(A38,'2_施設一覧'!$A$4:$D$73,3,FALSE),\"\")=0,\"\",IFERROR(VLOOKUP(A38,'2_施設一覧'!$A$4:$D$73,3,FALSE),\"\")),\"\")","v":""},null,{"$f":"IF(C38<>\"\",IFERROR(VLOOKUP(C38,'3_平面図一覧'!$C$4:$D$116,2,FALSE),\"\"),\"\")","v":""},null,null,null,null,{"$f":"IFERROR(VLOOKUP(G38,リスト!$A$27:$B$30,2,FALSE),\"\")","v":""},{"$f":"IF(SUMIF('5_機器一覧'!$M$4:$M$75,M38,'5_機器一覧'!$J$4:$J$75)<>0,SUMIF('5_機器一覧'!$M$4:$M$75,M38,'5_機器一覧'!$J$4:$J$75),\"\")","v":""},"",null,"-",0,0,false]
[null,{"$f":"IF(A39<>\"\",IF(IFERROR(VLOOKUP(A39,'2_施設一覧'!$A$4:$D$73,3,FALSE),\"\")=0,\"\",IFERROR(VLOOKUP(A39,'2_施設一覧'!$A$4:$D$73,3,FALSE),\"\")),\"\")","v":""},null,{"$f":"IF(C39<>\"\",IFERROR(VLOOKUP(C39,'3_平面図一覧'!$C$4:$D$116,2,FALSE),\"\"),\"\")","v":""},null,null,null,null,{"$f":"IFERROR(VLOOKUP(G39,リスト!$A$27:$B$30,2,FALSE),\"\")","v":""},{"$f":"IF(SUMIF('5_機器一覧'!$M$4:$M$75,M39,'5_機器一覧'!$J$4:$J$75)<>0,SUMIF('5_機器一覧'!$M$4:$M$75,M39,'5_機器一覧'!$J$4:$J$75),\"\")","v":""},"",null,"-",0,0,false]
[null,{"$f":"IF(A40<>\"\",IF(IFERROR(VLOOKUP(A40,'2_施設一覧'!$A$4:$D$73,3,FALSE),\"\")=0,\"\",IFERROR(VLOOKUP(A40,'2_施設一覧'!$A$4:$D$73,3,FALSE),\"\")),\"\")","v":""},null,{"$f":"IF(C40<>\"\",IFERROR(VLOOKUP(C40,'3_平面図一覧'!$C$4:$D$116,2,FALSE),\"\"),\"\")","v":""},null,null,null,null,{"$f":"IFERROR(VLOOKUP(G40,リスト!$A$27:$B$30,2,FALSE),\"\")","v":""},{"$f":"IF(SUMIF('5_機器一覧'!$M$4:$M$75,M40,'5_機器一覧'!$J$4:$J$75)<>0,SUMIF('5_機器一覧'!$M$4:$M$75,M40,'5_機器一覧'!$J$4:$J$75),\"\")","v":""},{"$f":"IF(ROUNDDOWN(MIN(IF(I40<>\"\",I40,0),IF(J40<>\"\",J40,0)),-3)<>0,ROUNDDOWN(MIN(IF(I40<>\"\",I40,0),IF(J40<>\"\",J40,0)),-3),\"\")","v":""},null,{"$f":"C40&\"-\"&E40","v":"-"},{"$f":"F40","v":0},{"$f":"G40","v":0},{"$f":"OR(A40<>\"\",B40<>\"\",C40<>\"\",D40<>\"\",E40<>\"\",F40<>\"\",G40<>\"\",I40<>\"\",J40<>\"\",K40<>\"\")","v":false}]
[null,{"$f":"IF(A41<>\"\",IF(IFERROR(VLOOKUP(A41,'2_施設一覧'!$A$4:$D$73,3,FALSE),\"\")=0,\"\",IFERROR(VLOOKUP(A41,'2_施設一覧'!$A$4:$D$73,3,FALSE),\"\")),\"\")","v":""},null,{"$f":"IF(C41<>\"\",IFERROR(VLOOKUP(C41,'3_平面図一覧'!$C$4:$D$116,2,FALSE),\"\"),\"\")","v":""},null,null,null,null,{"$f":"IFERROR(VLOOKUP(G41,リスト!$A$27:$B$30,2,FALSE),\"\")","v":""},{"$f":"IF(SUMIF('5_機器一覧'!$M$4:$M$75,M41,'5_機器一覧'!$J$4:$J$75)<>0,SUMIF('5_機器一覧'!$M$4:$M$75,M41,'5_機器一覧'!$J$4:$J$75),\"\")","v":""},"",null,"-",0,0,false]
[null,{"$f":"IF(A42<>\"\",IF(IFERROR(VLOOKUP(A42,'2_施設一覧'!$A$4:$D$73,3,FALSE),\"\")=0,\"\",IFERROR(VLOOKUP(A42,'2_施設一覧'!$A$4:$D$73,3,FALSE),\"\")),\"\")","v":""},null,{"$f":"IF(C42<>\"\",IFERROR(VLOOKUP(C42,'3_平面図一覧'!$C$4:$D$116,2,FALSE),\"\"),\"\")","v":""},null,null,null,null,{"$f":"IFERROR(VLOOKUP(G42,リスト!$A$27:$B$30,2,FALSE),\"\")","v":""},{"$f":"IF(SUMIF('5_機器一覧'!$M$4:$M$75,M42,'5_機器一覧'!$J$4:$J$75)<>0,SUMIF('5_機器一覧'!$M$4:$M$75,M42,'5_機器一覧'!$J$4:$J$75),\"\")","v":""},"",null,"-",0,0,false]
[null,{"$f":"IF(A43<>\"\",IF(IFERROR(VLOOKUP(A43,'2_施設一覧'!$A$4:$D$73,3,FALSE),\"\")=0,\"\",IFERROR(VLOOKUP(A43,'2_施設一覧'!$A$4:$D$73,3,FALSE),\"\")),\"\")","v":""},null,{"$f":"IF(C43<>\"\",IFERROR(VLOOKUP(C43,'3_平面図一覧'!$C$4:$D$116,2,FALSE),\"\"),\"\")","v":""},null,null,null,null,{"$f":"IFERROR(VLOOKUP(G43,リスト!$A$27:$B$30,2,FALSE),\"\")","v":""},{"$f":"IF(SUMIF('5_機器一覧'!$M$4:$M$75,M43,'5_機器一覧'!$J$4:$J$75)<>0,SUMIF('5_機器一覧'!$M$4:$M$75,M43,'5_機器一覧'!$J$4:$J$75),\"\")","v":""},"",null,"-",0,0,false]
[null,{"$f":"IF(A44<>\"\",IF(IFERROR(VLOOKUP(A44,'2_施設一覧'!$A$4:$D$73,3,FALSE),\"\")=0,\"\",IFERROR(VLOOKUP(A44,'2_施設一覧'!$A$4:$D$73,3,FALSE),\"\")),\"\")","v":""},null,{"$f":"IF(C44<>\"\",IFERROR(VLOOKUP(C44,'3_平面図一覧'!$C$4:$D$116,2,FALSE),\"\"),\"\")","v":""},null,null,null,null,{"$f":"IFERROR(VLOOKUP(G44,リスト!$A$27:$B$30,2,FALSE),\"\")","v":""},{"$f":"IF(SUMIF('5_機器一覧'!$M$4:$M$75,M44,'5_機器一覧'!$J$4:$J$75)<>0,SUMIF('5_機器一覧'!$M$4:$M$75,M44,'5_機器一覧'!$J$4:$J$75),\"\")","v":""},"",null,"-",0,0,false]
[null,{"$f":"IF(A45<>\"\",IF(IFERROR(VLOOKUP(A45,'2_施設一覧'!$A$4:$D$73,3,FALSE),\"\")=0,\"\",IFERROR(VLOOKUP(A45,'2_施設一覧'!$A$4:$D$73,3,FALSE),\"\")),\"\")","v":""},null,{"$f":"IF(C45<>\"\",IFERROR(VLOOKUP(C45,'3_平面図一覧'!$C$4:$D$116,2,FALSE),\"\"),\"\")","v":""},null,null,null,null,{"$f":"IFERROR(VLOOKUP(G45,リスト!$A$27:$B$30,2,FALSE),\"\")","v":""},{"$f":"IF(SUMIF('5_機器一覧'!$M$4:$M$75,M45,'5_機器一覧'!$J$4:$J$75)<>0,SUMIF('5_機器一覧'!$M$4:$M$75,M45,'5_機器一覧'!$J$4:$J$75),\"\")","v":""},"",null,"-",0,0,false]
[null,{"$f":"IF(A46<>\"\",IF(IFERROR(VLOOKUP(A46,'2_施設一覧'!$A$4:$D$73,3,FALSE),\"\")=0,\"\",IFERROR(VLOOKUP(A46,'2_施設一覧'!$A$4:$D$73,3,FALSE),\"\")),\"\")","v":""},null,{"$f":"IF(C46<>\"\",IFERROR(VLOOKUP(C46,'3_平面図一覧'!$C$4:$D$116,2,FALSE),\"\"),\"\")","v":""},null,null,null,null,{"$f":"IFERROR(VLOOKUP(G46,リスト!$A$27:$B$30,2,FALSE),\"\")","v":""},{"$f":"IF(SUMIF('5_機器一覧'!$M$4:$M$75,M46,'5_機器一覧'!$J$4:$J$75)<>0,SUMIF('5_機器一覧'!$M$4:$M$75,M46,'5_機器一覧'!$J$4:$J$75),\"\")","v":""},"",null,"-",0,0,false]
[null,{"$f":"IF(A47<>\"\",IF(IFERROR(VLOOKUP(A47,'2_施設一覧'!$A$4:$D$73,3,FALSE),\"\")=0,\"\",IFERROR(VLOOKUP(A47,'2_施設一覧'!$A$4:$D$73,3,FALSE),\"\")),\"\")","v":""},null,{"$f":"IF(C47<>\"\",IFERROR(VLOOKUP(C47,'3_平面図一覧'!$C$4:$D$116,2,FALSE),\"\"),\"\")","v":""},null,null,null,null,{"$f":"IFERROR(VLOOKUP(G47,リスト!$A$27:$B$30,2,FALSE),\"\")","v":""},{"$f":"IF(SUMIF('5_機器一覧'!$M$4:$M$75,M47,'5_機器一覧'!$J$4:$J$75)<>0,SUMIF('5_機器一覧'!$M$4:$M$75,M47,'5_機器一覧'!$J$4:$J$75),\"\")","v":""},"",null,"-",0,0,false]
[null,{"$f":"IF(A48<>\"\",IF(IFERROR(VLOOKUP(A48,'2_施設一覧'!$A$4:$D$73,3,FALSE),\"\")=0,\"\",IFERROR(VLOOKUP(A48,'2_施設一覧'!$A$4:$D$73,3,FALSE),\"\")),\"\")","v":""},null,{"$f":"IF(C48<>\"\",IFERROR(VLOOKUP(C48,'3_平面図一覧'!$C$4:$D$116,2,FALSE),\"\"),\"\")","v":""},null,null,null,null,{"$f":"IFERROR(VLOOKUP(G48,リスト!$A$27:$B$30,2,FALSE),\"\")","v":""},{"$f":"IF(SUMIF('5_機器一覧'!$M$4:$M$75,M48,'5_機器一覧'!$J$4:$J$75)<>0,SUMIF('5_機器一覧'!$M$4:$M$75,M48,'5_機器一覧'!$J$4:$J$75),\"\")","v":""},"",null,"-",0,0,false]
[null,{"$f":"IF(A49<>\"\",IF(IFERROR(VLOOKUP(A49,'2_施設一覧'!$A$4:$D$73,3,FALSE),\"\")=0,\"\",IFERROR(VLOOKUP(A49,'2_施設一覧'!$A$4:$D$73,3,FALSE),\"\")),\"\")","v":""},null,{"$f":"IF(C49<>\"\",IFERROR(VLOOKUP(C49,'3_平面図一覧'!$C$4:$D$116,2,FALSE),\"\"),\"\")","v":""},null,null,null,null,{"$f":"IFERROR(VLOOKUP(G49,リスト!$A$27:$B$30,2,FALSE),\"\")","v":""},{"$f":"IF(SUMIF('5_機器一覧'!$M$4:$M$75,M49,'5_機器一覧'!$J$4:$J$75)<>0,SUMIF('5_機器一覧'!$M$4:$M$75,M49,'5_機器一覧'!$J$4:$J$75),\"\")","v":""},"",null,"-",0,0,false]
[null,{"$f":"IF(A50<>\"\",IF(IFERROR(VLOOKUP(A50,'2_施設一覧'!$A$4:$D$73,3,FALSE),\"\")=0,\"\",IFERROR(VLOOKUP(A50,'2_施設一覧'!$A$4:$D$73,3,FALSE),\"\")),\"\")","v":""},null,{"$f":"IF(C50<>\"\",IFERROR(VLOOKUP(C50,'3_平面図一覧'!$C$4:$D$116,2,FALSE),\"\"),\"\")","v":""},null,null,null,null,{"$f":"IFERROR(VLOOKUP(G50,リスト!$A$27:$B$30,2,FALSE),\"\")","v":""},{"$f":"IF(SUMIF('5_機器一覧'!$M$4:$M$75,M50,'5_機器一覧'!$J$4:$J$75)<>0,SUMIF('5_機器一覧'!$M$4:$M$75,M50,'5_機器一覧'!$J$4:$J$75),\"\")","v":""},"",null,"-",0,0,false]
[null,{"$f":"IF(A51<>\"\",IF(IFERROR(VLOOKUP(A51,'2_施設一覧'!$A$4:$D$73,3,FALSE),\"\")=0,\"\",IFERROR(VLOOKUP(A51,'2_施設一覧'!$A$4:$D$73,3,FALSE),\"\")),\"\")","v":""},null,{"$f":"IF(C51<>\"\",IFERROR(VLOOKUP(C51,'3_平面図一覧'!$C$4:$D$116,2,FALSE),\"\"),\"\")","v":""},null,null,null,null,{"$f":"IFERROR(VLOOKUP(G51,リスト!$A$27:$B$30,2,FALSE),\"\")","v":""},{"$f":"IF(SUMIF('5_機器一覧'!$M$4:$M$75,M51,'5_機器一覧'!$J$4:$J$75)<>0,SUMIF('5_機器一覧'!$M$4:$M$75,M51,'5_機器一覧'!$J$4:$J$75),\"\")","v":""},"",null,"-",0,0,false]
[null,{"$f":"IF(A52<>\"\",IF(IFERROR(VLOOKUP(A52,'2_施設一覧'!$A$4:$D$73,3,FALSE),\"\")=0,\"\",IFERROR(VLOOKUP(A52,'2_施設一覧'!$A$4:$D$73,3,FALSE),\"\")),\"\")","v":""},null,{"$f":"IF(C52<>\"\",IFERROR(VLOOKUP(C52,'3_平面図一覧'!$C$4:$D$116,2,FALSE),\"\"),\"\")","v":""},null,null,null,null,{"$f":"IFERROR(VLOOKUP(G52,リスト!$A$27:$B$30,2,FALSE),\"\")","v":""},{"$f":"IF(SUMIF('5_機器一覧'!$M$4:$M$75,M52,'5_機器一覧'!$J$4:$J$75)<>0,SUMIF('5_機器一覧'!$M$4:$M$75,M52,'5_機器一覧'!$J$4:$J$75),\"\")","v":""},"",null,"-",0,0,false]
[null,{"$f":"IF(A53<>\"\",IF(IFERROR(VLOOKUP(A53,'2_施設一覧'!$A$4:$D$73,3,FALSE),\"\")=0,\"\",IFERROR(VLOOKUP(A53,'2_施設一覧'!$A$4:$D$73,3,FALSE),\"\")),\"\")","v":""},null,{"$f":"IF(C53<>\"\",IFERROR(VLOOKUP(C53,'3_平面図一覧'!$C$4:$D$116,2,FALSE),\"\"),\"\")","v":""},null,null,null,null,{"$f":"IFERROR(VLOOKUP(G53,リスト!$A$27:$B$30,2,FALSE),\"\")","v":""},{"$f":"IF(SUMIF('5_機器一覧'!$M$4:$M$75,M53,'5_機器一覧'!$J$4:$J$75)<>0,SUMIF('5_機器一覧'!$M$4:$M$75,M53,'5_機器一覧'!$J$4:$J$75),\"\")","v":""},"",null,"-",0,0,false]
[null,{"$f":"IF(A54<>\"\",IF(IFERROR(VLOOKUP(A54,'2_施設一覧'!$A$4:$D$73,3,FALSE),\"\")=0,\"\",IFERROR(VLOOKUP(A54,'2_施設一覧'!$A$4:$D$73,3,FALSE),\"\")),\"\")","v":""},null,{"$f":"IF(C54<>\"\",IFERROR(VLOOKUP(C54,'3_平面図一覧'!$C$4:$D$116,2,FALSE),\"\"),\"\")","v":""},null,null,null,null,{"$f":"IFERROR(VLOOKUP(G54,リスト!$A$27:$B$30,2,FALSE),\"\")","v":""},{"$f":"IF(SUMIF('5_機器一覧'!$M$4:$M$75,M54,'5_機器一覧'!$J$4:$J$75)<>0,SUMIF('5_機器一覧'!$M$4:$M$75,M54,'5_機器一覧'!$J$4:$J$75),\"\")","v":""},"",null,"-",0,0,false]
[null,{"$f":"IF(A55<>\"\",IF(IFERROR(VLOOKUP(A55,'2_施設一覧'!$A$4:$D$73,3,FALSE),\"\")=0,\"\",IFERROR(VLOOKUP(A55,'2_施設一覧'!$A$4:$D$73,3,FALSE),\"\")),\"\")","v":""},null,{"$f":"IF(C55<>\"\",IFERROR(VLOOKUP(C55,'3_平面図一覧'!$C$4:$D$116,2,FALSE),\"\"),\"\")","v":""},null,null,null,null,{"$f":"IFERROR(VLOOKUP(G55,リスト!$A$27:$B$30,2,FALSE),\"\")","v":""},{"$f":"IF(SUMIF('5_機器一覧'!$M$4:$M$75,M55,'5_機器一覧'!$J$4:$J$75)<>0,SUMIF('5_機器一覧'!$M$4:$M$75,M55,'5_機器一覧'!$J$4:$J$75),\"\")","v":""},"",null,"-",0,0,false]
[null,{"$f":"IF(A56<>\"\",IF(IFERROR(VLOOKUP(A56,'2_施設一覧'!$A$4:$D$73,3,FALSE),\"\")=0,\"\",IFERROR(VLOOKUP(A56,'2_施設一覧'!$A$4:$D$73,3,FALSE),\"\")),\"\")","v":""},null,{"$f":"IF(C56<>\"\",IFERROR(VLOOKUP(C56,'3_平面図一覧'!$C$4:$D$116,2,FALSE),\"\"),\"\")","v":""},null,null,null,null,{"$f":"IFERROR(VLOOKUP(G56,リスト!$A$27:$B$30,2,FALSE),\"\")","v":""},{"$f":"IF(SUMIF('5_機器一覧'!$M$4:$M$75,M56,'5_機器一覧'!$J$4:$J$75)<>0,SUMIF('5_機器一覧'!$M$4:$M$75,M56,'5_機器一覧'!$J$4:$J$75),\"\")","v":""},"",null,"-",0,0,false]
[null,{"$f":"IF(A57<>\"\",IF(IFERROR(VLOOKUP(A57,'2_施設一覧'!$A$4:$D$73,3,FALSE),\"\")=0,\"\",IFERROR(VLOOKUP(A57,'2_施設一覧'!$A$4:$D$73,3,FALSE),\"\")),\"\")","v":""},null,{"$f":"IF(C57<>\"\",IFERROR(VLOOKUP(C57,'3_平面図一覧'!$C$4:$D$116,2,FALSE),\"\"),\"\")","v":""},null,null,null,null,{"$f":"IFERROR(VLOOKUP(G57,リスト!$A$27:$B$30,2,FALSE),\"\")","v":""},{"$f":"IF(SUMIF('5_機器一覧'!$M$4:$M$75,M57,'5_機器一覧'!$J$4:$J$75)<>0,SUMIF('5_機器一覧'!$M$4:$M$75,M57,'5_機器一覧'!$J$4:$J$75),\"\")","v":""},"",null,"-",0,0,false]
[null,{"$f":"IF(A58<>\"\",IF(IFERROR(VLOOKUP(A58,'2_施設一覧'!$A$4:$D$73,3,FALSE),\"\")=0,\"\",IFERROR(VLOOKUP(A58,'2_施設一覧'!$A$4:$D$73,3,FALSE),\"\")),\"\")","v":""},null,{"$f":"IF(C58<>\"\",IFERROR(VLOOKUP(C58,'3_平面図一覧'!$C$4:$D$116,2,FALSE),\"\"),\"\")","v":""},null,null,null,null,{"$f":"IFERROR(VLOOKUP(G58,リスト!$A$27:$B$30,2,FALSE),\"\")","v":""},{"$f":"IF(SUMIF('5_機器一覧'!$M$4:$M$75,M58,'5_機器一覧'!$J$4:$J$75)<>0,SUMIF('5_機器一覧'!$M$4:$M$75,M58,'5_機器一覧'!$J$4:$J$75),\"\")","v":""},"",null,"-",0,0,false]
[null,{"$f":"IF(A59<>\"\",IF(IFERROR(VLOOKUP(A59,'2_施設一覧'!$A$4:$D$73,3,FALSE),\"\")=0,\"\",IFERROR(VLOOKUP(A59,'2_施設一覧'!$A$4:$D$73,3,FALSE),\"\")),\"\")","v":""},null,{"$f":"IF(C59<>\"\",IFERROR(VLOOKUP(C59,'3_平面図一覧'!$C$4:$D$116,2,FALSE),\"\"),\"\")","v":""},null,null,null,null,{"$f":"IFERROR(VLOOKUP(G59,リスト!$A$27:$B$30,2,FALSE),\"\")","v":""},{"$f":"IF(SUMIF('5_機器一覧'!$M$4:$M$75,M59,'5_機器一覧'!$J$4:$J$75)<>0,SUMIF('5_機器一覧'!$M$4:$M$75,M59,'5_機器一覧'!$J$4:$J$75),\"\")","v":""},{"$f":"IF(ROUNDDOWN(MIN(IF(I59<>\"\",I59,0),IF(J59<>\"\",J59,0)),-3)<>0,ROUNDDOWN(MIN(IF(I59<>\"\",I59,0),IF(J59<>\"\",J59,0)),-3),\"\")","v":""},null,{"$f":"C59&\"-\"&E59","v":"-"},{"$f":"F59","v":0},{"$f":"G59","v":0},{"$f":"OR(A59<>\"\",B59<>\"\",C59<>\"\",D59<>\"\",E59<>\"\",F59<>\"\",G59<>\"\",I59<>\"\",J59<>\"\",K59<>\"\")","v":false}]
[null,{"$f":"IF(A60<>\"\",IF(IFERROR(VLOOKUP(A60,'2_施設一覧'!$A$4:$D$73,3,FALSE),\"\")=0,\"\",IFERROR(VLOOKUP(A60,'2_施設一覧'!$A$4:$D$73,3,FALSE),\"\")),\"\")","v":""},null,{"$f":"IF(C60<>\"\",IFERROR(VLOOKUP(C60,'3_平面図一覧'!$C$4:$D$116,2,FALSE),\"\"),\"\")","v":""},null,null,null,null,{"$f":"IFERROR(VLOOKUP(G60,リスト!$A$27:$B$30,2,FALSE),\"\")","v":""},{"$f":"IF(SUMIF('5_機器一覧'!$M$4:$M$75,M60,'5_機器一覧'!$J$4:$J$75)<>0,SUMIF('5_機器一覧'!$M$4:$M$75,M60,'5_機器一覧'!$J$4:$J$75),\"\")","v":""},"",null,"-",0,0,false]
[null,{"$f":"IF(A61<>\"\",IF(IFERROR(VLOOKUP(A61,'2_施設一覧'!$A$4:$D$73,3,FALSE),\"\")=0,\"\",IFERROR(VLOOKUP(A61,'2_施設一覧'!$A$4:$D$73,3,FALSE),\"\")),\"\")","v":""},null,{"$f":"IF(C61<>\"\",IFERROR(VLOOKUP(C61,'3_平面図一覧'!$C$4:$D$116,2,FALSE),\"\"),\"\")","v":""},null,null,null,null,{"$f":"IFERROR(VLOOKUP(G61,リスト!$A$27:$B$30,2,FALSE),\"\")","v":""},{"$f":"IF(SUMIF('5_機器一覧'!$M$4:$M$75,M61,'5_機器一覧'!$J$4:$J$75)<>0,SUMIF('5_機器一覧'!$M$4:$M$75,M61,'5_機器一覧'!$J$4:$J$75),\"\")","v":""},"",null,"-",0,0,false]
[null,{"$f":"IF(A62<>\"\",IF(IFERROR(VLOOKUP(A62,'2_施設一覧'!$A$4:$D$73,3,FALSE),\"\")=0,\"\",IFERROR(VLOOKUP(A62,'2_施設一覧'!$A$4:$D$73,3,FALSE),\"\")),\"\")","v":""},null,{"$f":"IF(C62<>\"\",IFERROR(VLOOKUP(C62,'3_平面図一覧'!$C$4:$D$116,2,FALSE),\"\"),\"\")","v":""},null,null,null,null,{"$f":"IFERROR(VLOOKUP(G62,リスト!$A$27:$B$30,2,FALSE),\"\")","v":""},{"$f":"IF(SUMIF('5_機器一覧'!$M$4:$M$75,M62,'5_機器一覧'!$J$4:$J$75)<>0,SUMIF('5_機器一覧'!$M$4:$M$75,M62,'5_機器一覧'!$J$4:$J$75),\"\")","v":""},"",null,"-",0,0,false]
[null,{"$f":"IF(A63<>\"\",IF(IFERROR(VLOOKUP(A63,'2_施設一覧'!$A$4:$D$73,3,FALSE),\"\")=0,\"\",IFERROR(VLOOKUP(A63,'2_施設一覧'!$A$4:$D$73,3,FALSE),\"\")),\"\")","v":""},null,{"$f":"IF(C63<>\"\",IFERROR(VLOOKUP(C63,'3_平面図一覧'!$C$4:$D$116,2,FALSE),\"\"),\"\")","v":""},null,null,null,null,{"$f":"IFERROR(VLOOKUP(G63,リスト!$A$27:$B$30,2,FALSE),\"\")","v":""},{"$f":"IF(SUMIF('5_機器一覧'!$M$4:$M$75,M63,'5_機器一覧'!$J$4:$J$75)<>0,SUMIF('5_機器一覧'!$M$4:$M$75,M63,'5_機器一覧'!$J$4:$J$75),\"\")","v":""},"",null,"-",0,0,false]
[null,{"$f":"IF(A64<>\"\",IF(IFERROR(VLOOKUP(A64,'2_施設一覧'!$A$4:$D$73,3,FALSE),\"\")=0,\"\",IFERROR(VLOOKUP(A64,'2_施設一覧'!$A$4:$D$73,3,FALSE),\"\")),\"\")","v":""},null,{"$f":"IF(C64<>\"\",IFERROR(VLOOKUP(C64,'3_平面図一覧'!$C$4:$D$116,2,FALSE),\"\"),\"\")","v":""},null,null,null,null,{"$f":"IFERROR(VLOOKUP(G64,リスト!$A$27:$B$30,2,FALSE),\"\")","v":""},{"$f":"IF(SUMIF('5_機器一覧'!$M$4:$M$75,M64,'5_機器一覧'!$J$4:$J$75)<>0,SUMIF('5_機器一覧'!$M$4:$M$75,M64,'5_機器一覧'!$J$4:$J$75),\"\")","v":""},"",null,"-",0,0,false]
[null,{"$f":"IF(A65<>\"\",IF(IFERROR(VLOOKUP(A65,'2_施設一覧'!$A$4:$D$73,3,FALSE),\"\")=0,\"\",IFERROR(VLOOKUP(A65,'2_施設一覧'!$A$4:$D$73,3,FALSE),\"\")),\"\")","v":""},null,{"$f":"IF(C65<>\"\",IFERROR(VLOOKUP(C65,'3_平面図一覧'!$C$4:$D$116,2,FALSE),\"\"),\"\")","v":""},null,null,null,null,{"$f":"IFERROR(VLOOKUP(G65,リスト!$A$27:$B$30,2,FALSE),\"\")","v":""},{"$f":"IF(SUMIF('5_機器一覧'!$M$4:$M$75,M65,'5_機器一覧'!$J$4:$J$75)<>0,SUMIF('5_機器一覧'!$M$4:$M$75,M65,'5_機器一覧'!$J$4:$J$75),\"\")","v":""},"",null,"-",0,0,false]
[null,{"$f":"IF(A66<>\"\",IF(IFERROR(VLOOKUP(A66,'2_施設一覧'!$A$4:$D$73,3,FALSE),\"\")=0,\"\",IFERROR(VLOOKUP(A66,'2_施設一覧'!$A$4:$D$73,3,FALSE),\"\")),\"\")","v":""},null,{"$f":"IF(C66<>\"\",IFERROR(VLOOKUP(C66,'3_平面図一覧'!$C$4:$D$116,2,FALSE),\"\"),\"\")","v":""},null,null,null,null,{"$f":"IFERROR(VLOOKUP(G66,リスト!$A$27:$B$30,2,FALSE),\"\")","v":""},{"$f":"IF(SUMIF('5_機器一覧'!$M$4:$M$75,M66,'5_機器一覧'!$J$4:$J$75)<>0,SUMIF('5_機器一覧'!$M$4:$M$75,M66,'5_機器一覧'!$J$4:$J$75),\"\")","v":""},"",null,"-",0,0,false]
[null,{"$f":"IF(A67<>\"\",IF(IFERROR(VLOOKUP(A67,'2_施設一覧'!$A$4:$D$73,3,FALSE),\"\")=0,\"\",IFERROR(VLOOKUP(A67,'2_施設一覧'!$A$4:$D$73,3,FALSE),\"\")),\"\")","v":""},null,{"$f":"IF(C67<>\"\",IFERROR(VLOOKUP(C67,'3_平面図一覧'!$C$4:$D$116,2,FALSE),\"\"),\"\")","v":""},null,null,null,null,{"$f":"IFERROR(VLOOKUP(G67,リスト!$A$27:$B$30,2,FALSE),\"\")","v":""},{"$f":"IF(SUMIF('5_機器一覧'!$M$4:$M$75,M67,'5_機器一覧'!$J$4:$J$75)<>0,SUMIF('5_機器一覧'!$M$4:$M$75,M67,'5_機器一覧'!$J$4:$J$75),\"\")","v":""},"",null,"-",0,0,false]
[null,{"$f":"IF(A68<>\"\",IF(IFERROR(VLOOKUP(A68,'2_施設一覧'!$A$4:$D$73,3,FALSE),\"\")=0,\"\",IFERROR(VLOOKUP(A68,'2_施設一覧'!$A$4:$D$73,3,FALSE),\"\")),\"\")","v":""},null,{"$f":"IF(C68<>\"\",IFERROR(VLOOKUP(C68,'3_平面図一覧'!$C$4:$D$116,2,FALSE),\"\"),\"\")","v":""},null,null,null,null,{"$f":"IFERROR(VLOOKUP(G68,リスト!$A$27:$B$30,2,FALSE),\"\")","v":""},{"$f":"IF(SUMIF('5_機器一覧'!$M$4:$M$75,M68,'5_機器一覧'!$J$4:$J$75)<>0,SUMIF('5_機器一覧'!$M$4:$M$75,M68,'5_機器一覧'!$J$4:$J$75),\"\")","v":""},"",null,"-",0,0,false]
[null,{"$f":"IF(A69<>\"\",IF(IFERROR(VLOOKUP(A69,'2_施設一覧'!$A$4:$D$73,3,FALSE),\"\")=0,\"\",IFERROR(VLOOKUP(A69,'2_施設一覧'!$A$4:$D$73,3,FALSE),\"\")),\"\")","v":""},null,{"$f":"IF(C69<>\"\",IFERROR(VLOOKUP(C69,'3_平面図一覧'!$C$4:$D$116,2,FALSE),\"\"),\"\")","v":""},null,null,null,null,{"$f":"IFERROR(VLOOKUP(G69,リスト!$A$27:$B$30,2,FALSE),\"\")","v":""},{"$f":"IF(SUMIF('5_機器一覧'!$M$4:$M$75,M69,'5_機器一覧'!$J$4:$J$75)<>0,SUMIF('5_機器一覧'!$M$4:$M$75,M69,'5_機器一覧'!$J$4:$J$75),\"\")","v":""},"",null,"-",0,0,false]
[null,{"$f":"IF(A70<>\"\",IF(IFERROR(VLOOKUP(A70,'2_施設一覧'!$A$4:$D$73,3,FALSE),\"\")=0,\"\",IFERROR(VLOOKUP(A70,'2_施設一覧'!$A$4:$D$73,3,FALSE),\"\")),\"\")","v":""},null,{"$f":"IF(C70<>\"\",IFERROR(VLOOKUP(C70,'3_平面図一覧'!$C$4:$D$116,2,FALSE),\"\"),\"\")","v":""},null,null,null,null,{"$f":"IFERROR(VLOOKUP(G70,リスト!$A$27:$B$30,2,FALSE),\"\")","v":""},{"$f":"IF(SUMIF('5_機器一覧'!$M$4:$M$75,M70,'5_機器一覧'!$J$4:$J$75)<>0,SUMIF('5_機器一覧'!$M$4:$M$75,M70,'5_機器一覧'!$J$4:$J$75),\"\")","v":""},"",null,"-",0,0,false]
[null,{"$f":"IF(A71<>\"\",IF(IFERROR(VLOOKUP(A71,'2_施設一覧'!$A$4:$D$73,3,FALSE),\"\")=0,\"\",IFERROR(VLOOKUP(A71,'2_施設一覧'!$A$4:$D$73,3,FALSE),\"\")),\"\")","v":""},null,{"$f":"IF(C71<>\"\",IFERROR(VLOOKUP(C71,'3_平面図一覧'!$C$4:$D$116,2,FALSE),\"\"),\"\")","v":""},null,null,null,null,{"$f":"IFERROR(VLOOKUP(G71,リスト!$A$27:$B$30,2,FALSE),\"\")","v":""},{"$f":"IF(SUMIF('5_機器一覧'!$M$4:$M$75,M71,'5_機器一覧'!$J$4:$J$75)<>0,SUMIF('5_機器一覧'!$M$4:$M$75,M71,'5_機器一覧'!$J$4:$J$75),\"\")","v":""},"",null,"-",0,0,false]
[null,{"$f":"IF(A72<>\"\",IF(IFERROR(VLOOKUP(A72,'2_施設一覧'!$A$4:$D$73,3,FALSE),\"\")=0,\"\",IFERROR(VLOOKUP(A72,'2_施設一覧'!$A$4:$D$73,3,FALSE),\"\")),\"\")","v":""},null,{"$f":"IF(C72<>\"\",IFERROR(VLOOKUP(C72,'3_平面図一覧'!$C$4:$D$116,2,FALSE),\"\"),\"\")","v":""},null,null,null,null,{"$f":"IFERROR(VLOOKUP(G72,リスト!$A$27:$B$30,2,FALSE),\"\")","v":""},{"$f":"IF(SUMIF('5_機器一覧'!$M$4:$M$75,M72,'5_機器一覧'!$J$4:$J$75)<>0,SUMIF('5_機器一覧'!$M$4:$M$75,M72,'5_機器一覧'!$J$4:$J$75),\"\")","v":""},"",null,"-",0,0,false]
[null,{"$f":"IF(A73<>\"\",IF(IFERROR(VLOOKUP(A73,'2_施設一覧'!$A$4:$D$73,3,FALSE),\"\")=0,\"\",IFERROR(VLOOKUP(A73,'2_施設一覧'!$A$4:$D$73,3,FALSE),\"\")),\"\")","v":""},null,{"$f":"IF(C73<>\"\",IFERROR(VLOOKUP(C73,'3_平面図一覧'!$C$4:$D$116,2,FALSE),\"\"),\"\")","v":""},null,null,null,null,{"$f":"IFERROR(VLOOKUP(G73,リスト!$A$27:$B$30,2,FALSE),\"\")","v":""},{"$f":"IF(SUMIF('5_機器一覧'!$M$4:$M$75,M73,'5_機器一覧'!$J$4:$J$75)<>0,SUMIF('5_機器一覧'!$M$4:$M$75,M73,'5_機器一覧'!$J$4:$J$75),\"\")","v":""},"",null,"-",0,0,false]
[null,{"$f":"IF(A74<>\"\",IF(IFERROR(VLOOKUP(A74,'2_施設一覧'!$A$4:$D$73,3,FALSE),\"\")=0,\"\",IFERROR(VLOOKUP(A74,'2_施設一覧'!$A$4:$D$73,3,FALSE),\"\")),\"\")","v":""},null,{"$f":"IF(C74<>\"\",IFERROR(VLOOKUP(C74,'3_平面図一覧'!$C$4:$D$116,2,FALSE),\"\"),\"\")","v":""},null,null,null,null,{"$f":"IFERROR(VLOOKUP(G74,リスト!$A$27:$B$30,2,FALSE),\"\")","v":""},{"$f":"IF(SUMIF('5_機器一覧'!$M$4:$M$75,M74,'5_機器一覧'!$J$4:$J$75)<>0,SUMIF('5_機器一覧'!$M$4:$M$75,M74,'5_機器一覧'!$J$4:$J$75),\"\")","v":""},"",null,"-",0,0,false]
[null,{"$f":"IF(A75<>\"\",IF(IFERROR(VLOOKUP(A75,'2_施設一覧'!$A$4:$D$73,3,FALSE),\"\")=0,\"\",IFERROR(VLOOKUP(A75,'2_施設一覧'!$A$4:$D$73,3,FALSE),\"\")),\"\")","v":""},null,{"$f":"IF(C75<>\"\",IFERROR(VLOOKUP(C75,'3_平面図一覧'!$C$4:$D$116,2,FALSE),\"\"),\"\")","v":""},null,null,null,null,{"$f":"IFERROR(VLOOKUP(G75,リスト!$A$27:$B$30,2,FALSE),\"\")","v":""},{"$f":"IF(SUMIF('5_機器一覧'!$M$4:$M$75,M75,'5_機器一覧'!$J$4:$J$75)<>0,SUMIF('5_機器一覧'!$M$4:$M$75,M75,'5_機器一覧'!$J$4:$J$75),\"\")","v":""},"",null,"-",0,0,false]
[null,{"$f":"IF(A76<>\"\",IF(IFERROR(VLOOKUP(A76,'2_施設一覧'!$A$4:$D$73,3,FALSE),\"\")=0,\"\",IFERROR(VLOOKUP(A76,'2_施設一覧'!$A$4:$D$73,3,FALSE),\"\")),\"\")","v":""},null,{"$f":"IF(C76<>\"\",IFERROR(VLOOKUP(C76,'3_平面図一覧'!$C$4:$D$116,2,FALSE),\"\"),\"\")","v":""},null,null,null,null,{"$f":"IFERROR(VLOOKUP(G76,リスト!$A$27:$B$30,2,FALSE),\"\")","v":""},{"$f":"IF(SUMIF('5_機器一覧'!$M$4:$M$75,M76,'5_機器一覧'!$J$4:$J$75)<>0,SUMIF('5_機器一覧'!$M$4:$M$75,M76,'5_機器一覧'!$J$4:$J$75),\"\")","v":""},{"$f":"IF(ROUNDDOWN(MIN(IF(I76<>\"\",I76,0),IF(J76<>\"\",J76,0)),-3)<>0,ROUNDDOWN(MIN(IF(I76<>\"\",I76,0),IF(J76<>\"\",J76,0)),-3),\"\")","v":""},null,{"$f":"C76&\"-\"&E76","v":"-"},{"$f":"F76","v":0},{"$f":"G76","v":0},{"$f":"OR(A76<>\"\",B76<>\"\",C76<>\"\",D76<>\"\",E76<>\"\",F76<>\"\",G76<>\"\",I76<>\"\",J76<>\"\",K76<>\"\")","v":false}]
[null,{"$f":"IF(A77<>\"\",IF(IFERROR(VLOOKUP(A77,'2_施設一覧'!$A$4:$D$73,3,FALSE),\"\")=0,\"\",IFERROR(VLOOKUP(A77,'2_施設一覧'!$A$4:$D$73,3,FALSE),\"\")),\"\")","v":""},null,{"$f":"IF(C77<>\"\",IFERROR(VLOOKUP(C77,'3_平面図一覧'!$C$4:$D$116,2,FALSE),\"\"),\"\")","v":""},null,null,null,null,{"$f":"IFERROR(VLOOKUP(G77,リスト!$A$27:$B$30,2,FALSE),\"\")","v":""},{"$f":"IF(SUMIF('5_機器一覧'!$M$4:$M$75,M77,'5_機器一覧'!$J$4:$J$75)<>0,SUMIF('5_機器一覧'!$M$4:$M$75,M77,'5_機器一覧'!$J$4:$J$75),\"\")","v":""},"",null,"-",0,0,false]
[null,{"$f":"IF(A78<>\"\",IF(IFERROR(VLOOKUP(A78,'2_施設一覧'!$A$4:$D$73,3,FALSE),\"\")=0,\"\",IFERROR(VLOOKUP(A78,'2_施設一覧'!$A$4:$D$73,3,FALSE),\"\")),\"\")","v":""},null,{"$f":"IF(C78<>\"\",IFERROR(VLOOKUP(C78,'3_平面図一覧'!$C$4:$D$116,2,FALSE),\"\"),\"\")","v":""},null,null,null,null,{"$f":"IFERROR(VLOOKUP(G78,リスト!$A$27:$B$30,2,FALSE),\"\")","v":""},{"$f":"IF(SUMIF('5_機器一覧'!$M$4:$M$75,M78,'5_機器一覧'!$J$4:$J$75)<>0,SUMIF('5_機器一覧'!$M$4:$M$75,M78,'5_機器一覧'!$J$4:$J$75),\"\")","v":""},"",null,"-",0,0,false]
[null,{"$f":"IF(A79<>\"\",IF(IFERROR(VLOOKUP(A79,'2_施設一覧'!$A$4:$D$73,3,FALSE),\"\")=0,\"\",IFERROR(VLOOKUP(A79,'2_施設一覧'!$A$4:$D$73,3,FALSE),\"\")),\"\")","v":""},null,{"$f":"IF(C79<>\"\",IFERROR(VLOOKUP(C79,'3_平面図一覧'!$C$4:$D$116,2,FALSE),\"\"),\"\")","v":""},null,null,null,null,{"$f":"IFERROR(VLOOKUP(G79,リスト!$A$27:$B$30,2,FALSE),\"\")","v":""},{"$f":"IF(SUMIF('5_機器一覧'!$M$4:$M$75,M79,'5_機器一覧'!$J$4:$J$75)<>0,SUMIF('5_機器一覧'!$M$4:$M$75,M79,'5_機器一覧'!$J$4:$J$75),\"\")","v":""},"",null,"-",0,0,false]

{"sheet":"5_機器一覧","index":4,"n_rows":75,"n_cols":15,"rows_kept":75,"cut":false,"hidden":false,"merged":[]}
["（様式５）機器一覧"]
[]
["施設№","施設名","平面図№","階など","部屋№","部屋名","部屋区分","機器№","機器区分","所要額","領収証№"]
[{"$f":"IF(C4<>\"\",IFERROR(VLOOKUP(C4,'3_平面図一覧'!$C$4:$G$116,5,FALSE),\"\"),\"\")","v":""},{"$f":"IF(A4<>\"\",IFERROR(VLOOKUP(A4,'2_施設一覧'!$A$4:$D$73,3,FALSE),\"\"),\"\")","v":""},null,{"$f":"IF(C4<>\"\",IFERROR(VLOOKUP(C4,'3_平面図一覧'!$C$4:$D$116,2,FALSE),\"\"),\"\")","v":""},null,{"$f":"IF(M4<>\"-\",IFERROR(VLOOKUP(M4,'4_部屋一覧'!$M$4:$O$79,2,FALSE),\"\"),\"\")","v":""},{"$f":"IF(M4<>\"-\",IFERROR(VLOOKUP(M4,'4_部屋一覧'!$M$4:$O$79,3,FALSE),\"\"),\"\")","v":""},null,null,null,null,null,{"$f":"C4&\"-\"&E4","v":"-"},null,{"$f":"OR(A4<>\"\",B4<>\"\",C4<>\"\",D4<>\"\",E4<>\"\",F4<>\"\",G4<>\"\",H4<>\"\",I4<>\"\",J4<>\"\",K4<>\"\")","v":false}]
[{"$f":"IF(C5<>\"\",IFERROR(VLOOKUP(C5,'3_平面図一覧'!$C$4:$G$116,5,FALSE),\"\"),\"\")","v":""},{"$f":"IF(A5<>\"\",IFERROR(VLOOKUP(A5,'2_施設一覧'!$A$4:$D$73,3,FALSE),\"\"),\"\")","v":""},null,{"$f":"IF(C5<>\"\",IFERROR(VLOOKUP(C5,'3_平面図一覧'!$C$4:$D$116,2,FALSE),\"\"),\"\")","v":""},null,{"$f":"IF(M5<>\"-\",IFERROR(VLOOKUP(M5,'4_部屋一覧'!$M$4:$O$79,2,FALSE),\"\"),\"\")","v":""},{"$f":"IF(M5<>\"-\",IFERROR(VLOOKUP(M5,'4_部屋一覧'!$M$4:$O$79,3,FALSE),\"\"),\"\")","v":""},null,null,null,null,null,{"$f":"C5&\"-\"&E5","v":"-"},null,{"$f":"OR(A5<>\"\",B5<>\"\",C5<>\"\",D5<>\"\",E5<>\"\",F5<>\"\",G5<>\"\",H5<>\"\",I5<>\"\",J5<>\"\",K5<>\"\")","v":false}]
[{"$f":"IF(C6<>\"\",IFERROR(VLOOKUP(C6,'3_平面図一覧'!$C$4:$G$116,5,FALSE),\"\"),\"\")","v":""},{"$f":"IF(A6<>\"\",IFERROR(VLOOKUP(A6,'2_施設一覧'!$A$4:$D$73,3,FALSE),\"\"),\"\")","v":""},null,{"$f":"IF(C6<>\"\",IFERROR(VLOOKUP(C6,'3_平面図一覧'!$C$4:$D$116,2,FALSE),\"\"),\"\")","v":""},null,{"$f":"IF(M6<>\"-\",IFERROR(VLOOKUP(M6,'4_部屋一覧'!$M$4:$O$79,2,FALSE),\"\"),\"\")","v":""},{"$f":"IF(M6<>\"-\",IFERROR(VLOOKUP(M6,'4_部屋一覧'!$M$4:$O$79,3,FALSE),\"\"),\"\")","v":""},null,null,null,null,null,{"$f":"C6&\"-\"&E6","v":"-"},null,false]
[{"$f":"IF(C7<>\"\",IFERROR(VLOOKUP(C7,'3_平面図一覧'!$C$4:$G$116,5,FALSE),\"\"),\"\")","v":""},{"$f":"IF(A7<>\"\",IFERROR(VLOOKUP(A7,'2_施設一覧'!$A$4:$D$73,3,FALSE),\"\"),\"\")","v":""},null,{"$f":"IF(C7<>\"\",IFERROR(VLOOKUP(C7,'3_平面図一覧'!$C$4:$D$116,2,FALSE),\"\"),\"\")","v":""},null,{"$f":"IF(M7<>\"-\",IFERROR(VLOOKUP(M7,'4_部屋一覧'!$M$4:$O$79,2,FALSE),\"\"),\"\")","v":""},{"$f":"IF(M7<>\"-\",IFERROR(VLOOKUP(M7,'4_部屋一覧'!$M$4:$O$79,3,FALSE),\"\"),\"\")","v":""},null,null,null,null,null,"-",null,false]
[{"$f":"IF(C8<>\"\",IFERROR(VLOOKUP(C8,'3_平面図一覧'!$C$4:$G$116,5,FALSE),\"\"),\"\")","v":""},{"$f":"IF(A8<>\"\",IFERROR(VLOOKUP(A8,'2_施設一覧'!$A$4:$D$73,3,FALSE),\"\"),\"\")","v":""},null,{"$f":"IF(C8<>\"\",IFERROR(VLOOKUP(C8,'3_平面図一覧'!$C$4:$D$116,2,FALSE),\"\"),\"\")","v":""},null,{"$f":"IF(M8<>\"-\",IFERROR(VLOOKUP(M8,'4_部屋一覧'!$M$4:$O$79,2,FALSE),\"\"),\"\")","v":""},{"$f":"IF(M8<>\"-\",IFERROR(VLOOKUP(M8,'4_部屋一覧'!$M$4:$O$79,3,FALSE),\"\"),\"\")","v":""},null,null,null,null,null,"-",null,false]
[{"$f":"IF(C9<>\"\",IFERROR(VLOOKUP(C9,'3_平面図一覧'!$C$4:$G$116,5,FALSE),\"\"),\"\")","v":""},{"$f":"IF(A9<>\"\",IFERROR(VLOOKUP(A9,'2_施設一覧'!$A$4:$D$73,3,FALSE),\"\"),\"\")","v":""},null,{"$f":"IF(C9<>\"\",IFERROR(VLOOKUP(C9,'3_平面図一覧'!$C$4:$D$116,2,FALSE),\"\"),\"\")","v":""},null,{"$f":"IF(M9<>\"-\",IFERROR(VLOOKUP(M9,'4_部屋一覧'!$M$4:$O$79,2,FALSE),\"\"),\"\")","v":""},{"$f":"IF(M9<>\"-\",IFERROR(VLOOKUP(M9,'4_部屋一覧'!$M$4:$O$79,3,FALSE),\"\"),\"\")","v":""},null,null,null,null,null,"-",null,false]
[{"$f":"IF(C10<>\"\",IFERROR(VLOOKUP(C10,'3_平面図一覧'!$C$4:$G$116,5,FALSE),\"\"),\"\")","v":""},{"$f":"IF(A10<>\"\",IFERROR(VLOOKUP(A10,'2_施設一覧'!$A$4:$D$73,3,FALSE),\"\"),\"\")","v":""},null,{"$f":"IF(C10<>\"\",IFERROR(VLOOKUP(C10,'3_平面図一覧'!$C$4:$D$116,2,FALSE),\"\"),\"\")","v":""},null,{"$f":"IF(M10<>\"-\",IFERROR(VLOOKUP(M10,'4_部屋一覧'!$M$4:$O$79,2,FALSE),\"\"),\"\")","v":""},{"$f":"IF(M10<>\"-\",IFERROR(VLOOKUP(M10,'4_部屋一覧'!$M$4:$O$79,3,FALSE),\"\"),\"\")","v":""},null,null,null,null,null,"-",null,false]
[{"$f":"IF(C11<>\"\",IFERROR(VLOOKUP(C11,'3_平面図一覧'!$C$4:$G$116,5,FALSE),\"\"),\"\")","v":""},{"$f":"IF(A11<>\"\",IFERROR(VLOOKUP(A11,'2_施設一覧'!$A$4:$D$73,3,FALSE),\"\"),\"\")","v":""},null,{"$f":"IF(C11<>\"\",IFERROR(VLOOKUP(C11,'3_平面図一覧'!$C$4:$D$116,2,FALSE),\"\"),\"\")","v":""},null,{"$f":"IF(M11<>\"-\",IFERROR(VLOOKUP(M11,'4_部屋一覧'!$M$4:$O$79,2,FALSE),\"\"),\"\")","v":""},{"$f":"IF(M11<>\"-\",IFERROR(VLOOKUP(M11,'4_部屋一覧'!$M$4:$O$79,3,FALSE),\"\"),\"\")","v":""},null,null,null,null,null,"-",null,false]
[{"$f":"IF(C12<>\"\",IFERROR(VLOOKUP(C12,'3_平面図一覧'!$C$4:$G$116,5,FALSE),\"\"),\"\")","v":""},{"$f":"IF(A12<>\"\",IFERROR(VLOOKUP(A12,'2_施設一覧'!$A$4:$D$73,3,FALSE),\"\"),\"\")","v":""},null,{"$f":"IF(C12<>\"\",IFERROR(VLOOKUP(C12,'3_平面図一覧'!$C$4:$D$116,2,FALSE),\"\"),\"\")","v":""},null,{"$f":"IF(M12<>\"-\",IFERROR(VLOOKUP(M12,'4_部屋一覧'!$M$4:$O$79,2,FALSE),\"\"),\"\")","v":""},{"$f":"IF(M12<>\"-\",IFERROR(VLOOKUP(M12,'4_部屋一覧'!$M$4:$O$79,3,FALSE),\"\"),\"\")","v":""},null,null,null,null,null,"-",null,false]
[{"$f":"IF(C13<>\"\",IFERROR(VLOOKUP(C13,'3_平面図一覧'!$C$4:$G$116,5,FALSE),\"\"),\"\")","v":""},{"$f":"IF(A13<>\"\",IFERROR(VLOOKUP(A13,'2_施設一覧'!$A$4:$D$73,3,FALSE),\"\"),\"\")","v":""},null,{"$f":"IF(C13<>\"\",IFERROR(VLOOKUP(C13,'3_平面図一覧'!$C$4:$D$116,2,FALSE),\"\"),\"\")","v":""},null,{"$f":"IF(M13<>\"-\",IFERROR(VLOOKUP(M13,'4_部屋一覧'!$M$4:$O$79,2,FALSE),\"\"),\"\")","v":""},{"$f":"IF(M13<>\"-\",IFERROR(VLOOKUP(M13,'4_部屋一覧'!$M$4:$O$79,3,FALSE),\"\"),\"\")","v":""},null,null,null,null,null,"-",null,false]
[{"$f":"IF(C14<>\"\",IFERROR(VLOOKUP(C14,'3_平面図一覧'!$C$4:$G$116,5,FALSE),\"\"),\"\")","v":""},{"$f":"IF(A14<>\"\",IFERROR(VLOOKUP(A14,'2_施設一覧'!$A$4:$D$73,3,FALSE),\"\"),\"\")","v":""},null,{"$f":"IF(C14<>\"\",IFERROR(VLOOKUP(C14,'3_平面図一覧'!$C$4:$D$116,2,FALSE),\"\"),\"\")","v":""},null,{"$f":"IF(M14<>\"-\",IFERROR(VLOOKUP(M14,'4_部屋一覧'!$M$4:$O$79,2,FALSE),\"\"),\"\")","v":""},{"$f":"IF(M14<>\"-\",IFERROR(VLOOKUP(M14,'4_部屋一覧'!$M$4:$O$79,3,FALSE),\"\"),\"\")","v":""},null,null,null,null,null,"-",null,false]
[{"$f":"IF(C15<>\"\",IFERROR(VLOOKUP(C15,'3_平面図一覧'!$C$4:$G$116,5,FALSE),\"\"),\"\")","v":""},{"$f":"IF(A15<>\"\",IFERROR(VLOOKUP(A15,'2_施設一覧'!$A$4:$D$73,3,FALSE),\"\"),\"\")","v":""},null,{"$f":"IF(C15<>\"\",IFERROR(VLOOKUP(C15,'3_平面図一覧'!$C$4:$D$116,2,FALSE),\"\"),\"\")","v":""},null,{"$f":"IF(M15<>\"-\",IFERROR(VLOOKUP(M15,'4_部屋一覧'!$M$4:$O$79,2,FALSE),\"\"),\"\")","v":""},{"$f":"IF(M15<>\"-\",IFERROR(VLOOKUP(M15,'4_部屋一覧'!$M$4:$O$79,3,FALSE),\"\"),\"\")","v":""},null,null,null,null,null,"-",null,false]
[{"$f":"IF(C16<>\"\",IFERROR(VLOOKUP(C16,'3_平面図一覧'!$C$4:$G$116,5,FALSE),\"\"),\"\")","v":""},{"$f":"IF(A16<>\"\",IFERROR(VLOOKUP(A16,'2_施設一覧'!$A$4:$D$73,3,FALSE),\"\"),\"\")","v":""},null,{"$f":"IF(C16<>\"\",IFERROR(VLOOKUP(C16,'3_平面図一覧'!$C$4:$D$116,2,FALSE),\"\"),\"\")","v":""},null,{"$f":"IF(M16<>\"-\",IFERROR(VLOOKUP(M16,'4_部屋一覧'!$M$4:$O$79,2,FALSE),\"\"),\"\")","v":""},{"$f":"IF(M16<>\"-\",IFERROR(VLOOKUP(M16,'4_部屋一覧'!$M$4:$O$79,3,FALSE),\"\"),\"\")","v":""},null,null,null,null,null,"-",null,false]
[{"$f":"IF(C17<>\"\",IFERROR(VLOOKUP(C17,'3_平面図一覧'!$C$4:$G$116,5,FALSE),\"\"),\"\")","v":""},{"$f":"IF(A17<>\"\",IFERROR(VLOOKUP(A17,'2_施設一覧'!$A$4:$D$73,3,FALSE),\"\"),\"\")","v":""},null,{"$f":"IF(C17<>\"\",IFERROR(VLOOKUP(C17,'3_平面図一覧'!$C$4:$D$116,2,FALSE),\"\"),\"\")","v":""},null,{"$f":"IF(M17<>\"-\",IFERROR(VLOOKUP(M17,'4_部屋一覧'!$M$4:$O$79,2,FALSE),\"\"),\"\")","v":""},{"$f":"IF(M17<>\"-\",IFERROR(VLOOKUP(M17,'4_部屋一覧'!$M$4:$O$79,3,FALSE),\"\"),\"\")","v":""},null,null,null,null,null,"-",null,false]
[{"$f":"IF(C18<>\"\",IFERROR(VLOOKUP(C18,'3_平面図一覧'!$C$4:$G$116,5,FALSE),\"\"),\"\")","v":""},{"$f":"IF(A18<>\"\",IFERROR(VLOOKUP(A18,'2_施設一覧'!$A$4:$D$73,3,FALSE),\"\"),\"\")","v":""},null,{"$f":"IF(C18<>\"\",IFERROR(VLOOKUP(C18,'3_平面図一覧'!$C$4:$D$116,2,FALSE),\"\"),\"\")","v":""},null,{"$f":"IF(M18<>\"-\",IFERROR(VLOOKUP(M18,'4_部屋一覧'!$M$4:$O$79,2,FALSE),\"\"),\"\")","v":""},{"$f":"IF(M18<>\"-\",IFERROR(VLOOKUP(M18,'4_部屋一覧'!$M$4:$O$79,3,FALSE),\"\"),\"\")","v":""},null,null,null,null,null,"-",null,false]
[{"$f":"IF(C19<>\"\",IFERROR(VLOOKUP(C19,'3_平面図一覧'!$C$4:$G$116,5,FALSE),\"\"),\"\")","v":""},{"$f":"IF(A19<>\"\",IFERROR(VLOOKUP(A19,'2_施設一覧'!$A$4:$D$73,3,FALSE),\"\"),\"\")","v":""},null,{"$f":"IF(C19<>\"\",IFERROR(VLOOKUP(C19,'3_平面図一覧'!$C$4:$D$116,2,FALSE),\"\"),\"\")","v":""},null,{"$f":"IF(M19<>\"-\",IFERROR(VLOOKUP(M19,'4_部屋一覧'!$M$4:$O$79,2,FALSE),\"\"),\"\")","v":""},{"$f":"IF(M19<>\"-\",IFERROR(VLOOKUP(M19,'4_部屋一覧'!$M$4:$O$79,3,FALSE),\"\"),\"\")","v":""},null,null,null,null,null,"-",null,false]
[{"$f":"IF(C20<>\"\",IFERROR(VLOOKUP(C20,'3_平面図一覧'!$C$4:$G$116,5,FALSE),\"\"),\"\")","v":""},{"$f":"IF(A20<>\"\",IFERROR(VLOOKUP(A20,'2_施設一覧'!$A$4:$D$73,3,FALSE),\"\"),\"\")","v":""},null,{"$f":"IF(C20<>\"\",IFERROR(VLOOKUP(C20,'3_平面図一覧'!$C$4:$D$116,2,FALSE),\"\"),\"\")","v":""},null,{"$f":"IF(M20<>\"-\",IFERROR(VLOOKUP(M20,'4_部屋一覧'!$M$4:$O$79,2,FALSE),\"\"),\"\")","v":""},{"$f":"IF(M20<>\"-\",IFERROR(VLOOKUP(M20,'4_部屋一覧'!$M$4:$O$79,3,FALSE),\"\"),\"\")","v":""},null,null,null,null,null,"-",null,false]
[{"$f":"IF(C21<>\"\",IFERROR(VLOOKUP(C21,'3_平面図一覧'!$C$4:$G$116,5,FALSE),\"\"),\"\")","v":""},{"$f":"IF(A21<>\"\",IFERROR(VLOOKUP(A21,'2_施設一覧'!$A$4:$D$73,3,FALSE),\"\"),\"\")","v":""},null,{"$f":"IF(C21<>\"\",IFERROR(VLOOKUP(C21,'3_平面図一覧'!$C$4:$D$116,2,FALSE),\"\"),\"\")","v":""},null,{"$f":"IF(M21<>\"-\",IFERROR(VLOOKUP(M21,'4_部屋一覧'!$M$4:$O$79,2,FALSE),\"\"),\"\")","v":""},{"$f":"IF(M21<>\"-\",IFERROR(VLOOKUP(M21,'4_部屋一覧'!$M$4:$O$79,3,FALSE),\"\"),\"\")","v":""},null,null,null,null,null,"-",null,false]
[{"$f":"IF(C22<>\"\",IFERROR(VLOOKUP(C22,'3_平面図一覧'!$C$4:$G$116,5,FALSE),\"\"),\"\")","v":""},{"$f":"IF(A22<>\"\",IFERROR(VLOOKUP(A22,'2_施設一覧'!$A$4:$D$73,3,FALSE),\"\"),\"\")","v":""},null,{"$f":"IF(C22<>\"\",IFERROR(VLOOKUP(C22,'3_平面図一覧'!$C$4:$D$116,2,FALSE),\"\"),\"\")","v":""},null,{"$f":"IF(M22<>\"-\",IFERROR(VLOOKUP(M22,'4_部屋一覧'!$M$4:$O$79,2,FALSE),\"\"),\"\")","v":""},{"$f":"IF(M22<>\"-\",IFERROR(VLOOKUP(M22,'4_部屋一覧'!$M$4:$O$79,3,FALSE),\"\"),\"\")","v":""},null,null,null,null,null,"-",null,false]
[{"$f":"IF(C23<>\"\",IFERROR(VLOOKUP(C23,'3_平面図一覧'!$C$4:$G$116,5,FALSE),\"\"),\"\")","v":""},{"$f":"IF(A23<>\"\",IFERROR(VLOOKUP(A23,'2_施設一覧'!$A$4:$D$73,3,FALSE),\"\"),\"\")","v":""},null,{"$f":"IF(C23<>\"\",IFERROR(VLOOKUP(C23,'3_平面図一覧'!$C$4:$D$116,2,FALSE),\"\"),\"\")","v":""},null,{"$f":"IF(M23<>\"-\",IFERROR(VLOOKUP(M23,'4_部屋一覧'!$M$4:$O$79,2,FALSE),\"\"),\"\")","v":""},{"$f":"IF(M23<>\"-\",IFERROR(VLOOKUP(M23,'4_部屋一覧'!$M$4:$O$79,3,FALSE),\"\"),\"\")","v":""},null,null,null,null,null,"-",null,false]
[{"$f":"IF(C24<>\"\",IFERROR(VLOOKUP(C24,'3_平面図一覧'!$C$4:$G$116,5,FALSE),\"\"),\"\")","v":""},{"$f":"IF(A24<>\"\",IFERROR(VLOOKUP(A24,'2_施設一覧'!$A$4:$D$73,3,FALSE),\"\"),\"\")","v":""},null,{"$f":"IF(C24<>\"\",IFERROR(VLOOKUP(C24,'3_平面図一覧'!$C$4:$D$116,2,FALSE),\"\"),\"\")","v":""},null,{"$f":"IF(M24<>\"-\",IFERROR(VLOOKUP(M24,'4_部屋一覧'!$M$4:$O$79,2,FALSE),\"\"),\"\")","v":""},{"$f":"IF(M24<>\"-\",IFERROR(VLOOKUP(M24,'4_部屋一覧'!$M$4:$O$79,3,FALSE),\"\"),\"\")","v":""},null,null,null,null,null,"-",null,false]
[{"$f":"IF(C25<>\"\",IFERROR(VLOOKUP(C25,'3_平面図一覧'!$C$4:$G$116,5,FALSE),\"\"),\"\")","v":""},{"$f":"IF(A25<>\"\",IFERROR(VLOOKUP(A25,'2_施設一覧'!$A$4:$D$73,3,FALSE),\"\"),\"\")","v":""},null,{"$f":"IF(C25<>\"\",IFERROR(VLOOKUP(C25,'3_平面図一覧'!$C$4:$D$116,2,FALSE),\"\"),\"\")","v":""},null,{"$f":"IF(M25<>\"-\",IFERROR(VLOOKUP(M25,'4_部屋一覧'!$M$4:$O$79,2,FALSE),\"\"),\"\")","v":""},{"$f":"IF(M25<>\"-\",IFERROR(VLOOKUP(M25,'4_部屋一覧'!$M$4:$O$79,3,FALSE),\"\"),\"\")","v":""},null,null,null,null,null,"-",null,false]
[{"$f":"IF(C26<>\"\",IFERROR(VLOOKUP(C26,'3_平面図一覧'!$C$4:$G$116,5,FALSE),\"\"),\"\")","v":""},{"$f":"IF(A26<>\"\",IFERROR(VLOOKUP(A26,'2_施設一覧'!$A$4:$D$73,3,FALSE),\"\"),\"\")","v":""},null,{"$f":"IF(C26<>\"\",IFERROR(VLOOKUP(C26,'3_平面図一覧'!$C$4:$D$116,2,FALSE),\"\"),\"\")","v":""},null,{"$f":"IF(M26<>\"-\",IFERROR(VLOOKUP(M26,'4_部屋一覧'!$M$4:$O$79,2,FALSE),\"\"),\"\")","v":""},{"$f":"IF(M26<>\"-\",IFERROR(VLOOKUP(M26,'4_部屋一覧'!$M$4:$O$79,3,FALSE),\"\"),\"\")","v":""},null,null,null,null,null,"-",null,false]
[{"$f":"IF(C27<>\"\",IFERROR(VLOOKUP(C27,'3_平面図一覧'!$C$4:$G$116,5,FALSE),\"\"),\"\")","v":""},{"$f":"IF(A27<>\"\",IFERROR(VLOOKUP(A27,'2_施設一覧'!$A$4:$D$73,3,FALSE),\"\"),\"\")","v":""},null,{"$f":"IF(C27<>\"\",IFERROR(VLOOKUP(C27,'3_平面図一覧'!$C$4:$D$116,2,FALSE),\"\"),\"\")","v":""},null,{"$f":"IF(M27<>\"-\",IFERROR(VLOOKUP(M27,'4_部屋一覧'!$M$4:$O$79,2,FALSE),\"\"),\"\")","v":""},{"$f":"IF(M27<>\"-\",IFERROR(VLOOKUP(M27,'4_部屋一覧'!$M$4:$O$79,3,FALSE),\"\"),\"\")","v":""},null,null,null,null,null,"-",null,false]
[{"$f":"IF(C28<>\"\",IFERROR(VLOOKUP(C28,'3_平面図一覧'!$C$4:$G$116,5,FALSE),\"\"),\"\")","v":""},{"$f":"IF(A28<>\"\",IFERROR(VLOOKUP(A28,'2_施設一覧'!$A$4:$D$73,3,FALSE),\"\"),\"\")","v":""},null,{"$f":"IF(C28<>\"\",IFERROR(VLOOKUP(C28,'3_平面図一覧'!$C$4:$D$116,2,FALSE),\"\"),\"\")","v":""},null,{"$f":"IF(M28<>\"-\",IFERROR(VLOOKUP(M28,'4_部屋一覧'!$M$4:$O$79,2,FALSE),\"\"),\"\")","v":""},{"$f":"IF(M28<>\"-\",IFERROR(VLOOKUP(M28,'4_部屋一覧'!$M$4:$O$79,3,FALSE),\"\"),\"\")","v":""},null,null,null,null,null,"-",null,false]
[{"$f":"IF(C29<>\"\",IFERROR(VLOOKUP(C29,'3_平面図一覧'!$C$4:$G$116,5,FALSE),\"\"),\"\")","v":""},{"$f":"IF(A29<>\"\",IFERROR(VLOOKUP(A29,'2_施設一覧'!$A$4:$D$73,3,FALSE),\"\"),\"\")","v":""},null,{"$f":"IF(C29<>\"\",IFERROR(VLOOKUP(C29,'3_平面図一覧'!$C$4:$D$116,2,FALSE),\"\"),\"\")","v":""},null,{"$f":"IF(M29<>\"-\",IFERROR(VLOOKUP(M29,'4_部屋一覧'!$M$4:$O$79,2,FALSE),\"\"),\"\")","v":""},{"$f":"IF(M29<>\"-\",IFERROR(VLOOKUP(M29,'4_部屋一覧'!$M$4:$O$79,3,FALSE),\"\"),\"\")","v":""},null,null,null,null,null,"-",null,false]
[{"$f":"IF(C30<>\"\",IFERROR(VLOOKUP(C30,'3_平面図一覧'!$C$4:$G$116,5,FALSE),\"\"),\"\")","v":""},{"$f":"IF(A30<>\"\",IFERROR(VLOOKUP(A30,'2_施設一覧'!$A$4:$D$73,3,FALSE),\"\"),\"\")","v":""},null,{"$f":"IF(C30<>\"\",IFERROR(VLOOKUP(C30,'3_平面図一覧'!$C$4:$D$116,2,FALSE),\"\"),\"\")","v":""},null,{"$f":"IF(M30<>\"-\",IFERROR(VLOOKUP(M30,'4_部屋一覧'!$M$4:$O$79,2,FALSE),\"\"),\"\")","v":""},{"$f":"IF(M30<>\"-\",IFERROR(VLOOKUP(M30,'4_部屋一覧'!$M$4:$O$79,3,FALSE),\"\"),\"\")","v":""},null,null,null,null,null,"-",null,false]
[{"$f":"IF(C31<>\"\",IFERROR(VLOOKUP(C31,'3_平面図一覧'!$C$4:$G$116,5,FALSE),\"\"),\"\")","v":""},{"$f":"IF(A31<>\"\",IFERROR(VLOOKUP(A31,'2_施設一覧'!$A$4:$D$73,3,FALSE),\"\"),\"\")","v":""},null,{"$f":"IF(C31<>\"\",IFERROR(VLOOKUP(C31,'3_平面図一覧'!$C$4:$D$116,2,FALSE),\"\"),\"\")","v":""},null,{"$f":"IF(M31<>\"-\",IFERROR(VLOOKUP(M31,'4_部屋一覧'!$M$4:$O$79,2,FALSE),\"\"),\"\")","v":""},{"$f":"IF(M31<>\"-\",IFERROR(VLOOKUP(M31,'4_部屋一覧'!$M$4:$O$79,3,FALSE),\"\"),\"\")","v":""},null,null,null,null,null,"-",null,false]
[{"$f":"IF(C32<>\"\",IFERROR(VLOOKUP(C32,'3_平面図一覧'!$C$4:$G$116,5,FALSE),\"\"),\"\")","v":""},{"$f":"IF(A32<>\"\",IFERROR(VLOOKUP(A32,'2_施設一覧'!$A$4:$D$73,3,FALSE),\"\"),\"\")","v":""},null,{"$f":"IF(C32<>\"\",IFERROR(VLOOKUP(C32,'3_平面図一覧'!$C$4:$D$116,2,FALSE),\"\"),\"\")","v":""},null,{"$f":"IF(M32<>\"-\",IFERROR(VLOOKUP(M32,'4_部屋一覧'!$M$4:$O$79,2,FALSE),\"\"),\"\")","v":""},{"$f":"IF(M32<>\"-\",IFERROR(VLOOKUP(M32,'4_部屋一覧'!$M$4:$O$79,3,FALSE),\"\"),\"\")","v":""},null,null,null,null,null,"-",null,false]
[{"$f":"IF(C33<>\"\",IFERROR(VLOOKUP(C33,'3_平面図一覧'!$C$4:$G$116,5,FALSE),\"\"),\"\")","v":""},{"$f":"IF(A33<>\"\",IFERROR(VLOOKUP(A33,'2_施設一覧'!$A$4:$D$73,3,FALSE),\"\"),\"\")","v":""},null,{"$f":"IF(C33<>\"\",IFERROR(VLOOKUP(C33,'3_平面図一覧'!$C$4:$D$116,2,FALSE),\"\"),\"\")","v":""},null,{"$f":"IF(M33<>\"-\",IFERROR(VLOOKUP(M33,'4_部屋一覧'!$M$4:$O$79,2,FALSE),\"\"),\"\")","v":""},{"$f":"IF(M33<>\"-\",IFERROR(VLOOKUP(M33,'4_部屋一覧'!$M$4:$O$79,3,FALSE),\"\"),\"\")","v":""},null,null,null,null,null,{"$f":"C33&\"-\"&E33","v":"-"},null,false]
[{"$f":"IF(C34<>\"\",IFERROR(VLOOKUP(C34,'3_平面図一覧'!$C$4:$G$116,5,FALSE),\"\"),\"\")","v":""},{"$f":"IF(A34<>\"\",IFERROR(VLOOKUP(A34,'2_施設一覧'!$A$4:$D$73,3,FALSE),\"\"),\"\")","v":""},null,{"$f":"IF(C34<>\"\",IFERROR(VLOOKUP(C34,'3_平面図一覧'!$C$4:$D$116,2,FALSE),\"\"),\"\")","v":""},null,{"$f":"IF(M34<>\"-\",IFERROR(VLOOKUP(M34,'4_部屋一覧'!$M$4:$O$79,2,FALSE),\"\"),\"\")","v":""},{"$f":"IF(M34<>\"-\",IFERROR(VLOOKUP(M34,'4_部屋一覧'!$M$4:$O$79,3,FALSE),\"\"),\"\")","v":""},null,null,null,null,null,"-",null,false]
[{"$f":"IF(C35<>\"\",IFERROR(VLOOKUP(C35,'3_平面図一覧'!$C$4:$G$116,5,FALSE),\"\"),\"\")","v":""},{"$f":"IF(A35<>\"\",IFERROR(VLOOKUP(A35,'2_施設一覧'!$A$4:$D$73,3,FALSE),\"\"),\"\")","v":""},null,{"$f":"IF(C35<>\"\",IFERROR(VLOOKUP(C35,'3_平面図一覧'!$C$4:$D$116,2,FALSE),\"\"),\"\")","v":""},null,{"$f":"IF(M35<>\"-\",IFERROR(VLOOKUP(M35,'4_部屋一覧'!$M$4:$O$79,2,FALSE),\"\"),\"\")","v":""},{"$f":"IF(M35<>\"-\",IFERROR(VLOOKUP(M35,'4_部屋一覧'!$M$4:$O$79,3,FALSE),\"\"),\"\")","v":""},null,null,null,null,null,"-",null,false]
[{"$f":"IF(C36<>\"\",IFERROR(VLOOKUP(C36,'3_平面図一覧'!$C$4:$G$116,5,FALSE),\"\"),\"\")","v":""},{"$f":"IF(A36<>\"\",IFERROR(VLOOKUP(A36,'2_施設一覧'!$A$4:$D$73,3,FALSE),\"\"),\"\")","v":""},null,{"$f":"IF(C36<>\"\",IFERROR(VLOOKUP(C36,'3_平面図一覧'!$C$4:$D$116,2,FALSE),\"\"),\"\")","v":""},null,{"$f":"IF(M36<>\"-\",IFERROR(VLOOKUP(M36,'4_部屋一覧'!$M$4:$O$79,2,FALSE),\"\"),\"\")","v":""},{"$f":"IF(M36<>\"-\",IFERROR(VLOOKUP(M36,'4_部屋一覧'!$M$4:$O$79,3,FALSE),\"\"),\"\")","v":""},null,null,null,null,null,"-",null,false]
[{"$f":"IF(C37<>\"\",IFERROR(VLOOKUP(C37,'3_平面図一覧'!$C$4:$G$116,5,FALSE),\"\"),\"\")","v":""},{"$f":"IF(A37<>\"\",IFERROR(VLOOKUP(A37,'2_施設一覧'!$A$4:$D$73,3,FALSE),\"\"),\"\")","v":""},null,{"$f":"IF(C37<>\"\",IFERROR(VLOOKUP(C37,'3_平面図一覧'!$C$4:$D$116,2,FALSE),\"\"),\"\")","v":""},null,{"$f":"IF(M37<>\"-\",IFERROR(VLOOKUP(M37,'4_部屋一覧'!$M$4:$O$79,2,FALSE),\"\"),\"\")","v":""},{"$f":"IF(M37<>\"-\",IFERROR(VLOOKUP(M37,'4_部屋一覧'!$M$4:$O$79,3,FALSE),\"\"),\"\")","v":""},null,null,null,null,null,"-",null,false]
[{"$f":"IF(C38<>\"\",IFERROR(VLOOKUP(C38,'3_平面図一覧'!$C$4:$G$116,5,FALSE),\"\"),\"\")","v":""},{"$f":"IF(A38<>\"\",IFERROR(VLOOKUP(A38,'2_施設一覧'!$A$4:$D$73,3,FALSE),\"\"),\"\")","v":""},null,{"$f":"IF(C38<>\"\",IFERROR(VLOOKUP(C38,'3_平面図一覧'!$C$4:$D$116,2,FALSE),\"\"),\"\")","v":""},null,{"$f":"IF(M38<>\"-\",IFERROR(VLOOKUP(M38,'4_部屋一覧'!$M$4:$O$79,2,FALSE),\"\"),\"\")","v":""},{"$f":"IF(M38<>\"-\",IFERROR(VLOOKUP(M38,'4_部屋一覧'!$M$4:$O$79,3,FALSE),\"\"),\"\")","v":""},null,null,null,null,null,"-",null,false]
[{"$f":"IF(C39<>\"\",IFERROR(VLOOKUP(C39,'3_平面図一覧'!$C$4:$G$116,5,FALSE),\"\"),\"\")","v":""},{"$f":"IF(A39<>\"\",IFERROR(VLOOKUP(A39,'2_施設一覧'!$A$4:$D$73,3,FALSE),\"\"),\"\")","v":""},null,{"$f":"IF(C39<>\"\",IFERROR(VLOOKUP(C39,'3_平面図一覧'!$C$4:$D$116,2,FALSE),\"\"),\"\")","v":""},null,{"$f":"IF(M39<>\"-\",IFERROR(VLOOKUP(M39,'4_部屋一覧'!$M$4:$O$79,2,FALSE),\"\"),\"\")","v":""},{"$f":"IF(M39<>\"-\",IFERROR(VLOOKUP(M39,'4_部屋一覧'!$M$4:$O$79,3,FALSE),\"\"),\"\")","v":""},null,null,null,null,null,"-",null,false]
[{"$f":"IF(C40<>\"\",IFERROR(VLOOKUP(C40,'3_平面図一覧'!$C$4:$G$116,5,FALSE),\"\"),\"\")","v":""},{"$f":"IF(A40<>\"\",IFERROR(VLOOKUP(A40,'2_施設一覧'!$A$4:$D$73,3,FALSE),\"\"),\"\")","v":""},null,{"$f":"IF(C40<>\"\",IFERROR(VLOOKUP(C40,'3_平面図一覧'!$C$4:$D$116,2,FALSE),\"\"),\"\")","v":""},null,{"$f":"IF(M40<>\"-\",IFERROR(VLOOKUP(M40,'4_部屋一覧'!$M$4:$O$79,2,FALSE),\"\"),\"\")","v":""},{"$f":"IF(M40<>\"-\",IFERROR(VLOOKUP(M40,'4_部屋一覧'!$M$4:$O$79,3,FALSE),\"\"),\"\")","v":""},null,null,null,null,null,"-",null,{"$f":"OR(A40<>\"\",B40<>\"\",C40<>\"\",D40<>\"\",E40<>\"\",F40<>\"\",G40<>\"\",H40<>\"\",I40<>\"\",J40<>\"\",K40<>\"\")","v":false}]
[{"$f":"IF(C41<>\"\",IFERROR(VLOOKUP(C41,'3_平面図一覧'!$C$4:$G$116,5,FALSE),\"\"),\"\")","v":""},{"$f":"IF(A41<>\"\",IFERROR(VLOOKUP(A41,'2_施設一覧'!$A$4:$D$73,3,FALSE),\"\"),\"\")","v":""},null,{"$f":"IF(C41<>\"\",IFERROR(VLOOKUP(C41,'3_平面図一覧'!$C$4:$D$116,2,FALSE),\"\"),\"\")","v":""},null,{"$f":"IF(M41<>\"-\",IFERROR(VLOOKUP(M41,'4_部屋一覧'!$M$4:$O$79,2,FALSE),\"\"),\"\")","v":""},{"$f":"IF(M41<>\"-\",IFERROR(VLOOKUP(M41,'4_部屋一覧'!$M$4:$O$79,3,FALSE),\"\"),\"\")","v":""},null,null,null,null,null,"-",null,false]
[{"$f":"IF(C42<>\"\",IFERROR(VLOOKUP(C42,'3_平面図一覧'!$C$4:$G$116,5,FALSE),\"\"),\"\")","v":""},{"$f":"IF(A42<>\"\",IFERROR(VLOOKUP(A42,'2_施設一覧'!$A$4:$D$73,3,FALSE),\"\"),\"\")","v":""},null,{"$f":"IF(C42<>\"\",IFERROR(VLOOKUP(C42,'3_平面図一覧'!$C$4:$D$116,2,FALSE),\"\"),\"\")","v":""},null,{"$f":"IF(M42<>\"-\",IFERROR(VLOOKUP(M42,'4_部屋一覧'!$M$4:$O$79,2,FALSE),\"\"),\"\")","v":""},{"$f":"IF(M42<>\"-\",IFERROR(VLOOKUP(M42,'4_部屋一覧'!$M$4:$O$79,3,FALSE),\"\"),\"\")","v":""},null,null,null,null,null,"-",null,false]
[{"$f":"IF(C43<>\"\",IFERROR(VLOOKUP(C43,'3_平面図一覧'!$C$4:$G$116,5,FALSE),\"\"),\"\")","v":""},{"$f":"IF(A43<>\"\",IFERROR(VLOOKUP(A43,'2_施設一覧'!$A$4:$D$73,3,FALSE),\"\"),\"\")","v":""},null,{"$f":"IF(C43<>\"\",IFERROR(VLOOKUP(C43,'3_平面図一覧'!$C$4:$D$116,2,FALSE),\"\"),\"\")","v":""},null,{"$f":"IF(M43<>\"-\",IFERROR(VLOOKUP(M43,'4_部屋一覧'!$M$4:$O$79,2,FALSE),\"\"),\"\")","v":""},{"$f":"IF(M43<>\"-\",IFERROR(VLOOKUP(M43,'4_部屋一覧'!$M$4:$O$79,3,FALSE),\"\"),\"\")","v":""},null,null,null,null,null,"-",null,false]
[{"$f":"IF(C44<>\"\",IFERROR(VLOOKUP(C44,'3_平面図一覧'!$C$4:$G$116,5,FALSE),\"\"),\"\")","v":""},{"$f":"IF(A44<>\"\",IFERROR(VLOOKUP(A44,'2_施設一覧'!$A$4:$D$73,3,FALSE),\"\"),\"\")","v":""},null,{"$f":"IF(C44<>\"\",IFERROR(VLOOKUP(C44,'3_平面図一覧'!$C$4:$D$116,2,FALSE),\"\"),\"\")","v":""},null,{"$f":"IF(M44<>\"-\",IFERROR(VLOOKUP(M44,'4_部屋一覧'!$M$4:$O$79,2,FALSE),\"\"),\"\")","v":""},{"$f":"IF(M44<>\"-\",IFERROR(VLOOKUP(M44,'4_部屋一覧'!$M$4:$O$79,3,FALSE),\"\"),\"\")","v":""},null,null,null,null,null,"-",null,false]
[{"$f":"IF(C45<>\"\",IFERROR(VLOOKUP(C45,'3_平面図一覧'!$C$4:$G$116,5,FALSE),\"\"),\"\")","v":""},{"$f":"IF(A45<>\"\",IFERROR(VLOOKUP(A45,'2_施設一覧'!$A$4:$D$73,3,FALSE),\"\"),\"\")","v":""},null,{"$f":"IF(C45<>\"\",IFERROR(VLOOKUP(C45,'3_平面図一覧'!$C$4:$D$116,2,FALSE),\"\"),\"\")","v":""},null,{"$f":"IF(M45<>\"-\",IFERROR(VLOOKUP(M45,'4_部屋一覧'!$M$4:$O$79,2,FALSE),\"\"),\"\")","v":""},{"$f":"IF(M45<>\"-\",IFERROR(VLOOKUP(M45,'4_部屋一覧'!$M$4:$O$79,3,FALSE),\"\"),\"\")","v":""},null,null,null,null,null,"-",null,false]
[{"$f":"IF(C46<>\"\",IFERROR(VLOOKUP(C46,'3_平面図一覧'!$C$4:$G$116,5,FALSE),\"\"),\"\")","v":""},{"$f":"IF(A46<>\"\",IFERROR(VLOOKUP(A46,'2_施設一覧'!$A$4:$D$73,3,FALSE),\"\"),\"\")","v":""},null,{"$f":"IF(C46<>\"\",IFERROR(VLOOKUP(C46,'3_平面図一覧'!$C$4:$D$116,2,FALSE),\"\"),\"\")","v":""},null,{"$f":"IF(M46<>\"-\",IFERROR(VLOOKUP(M46,'4_部屋一覧'!$M$4:$O$79,2,FALSE),\"\"),\"\")","v":""},{"$f":"IF(M46<>\"-\",IFERROR(VLOOKUP(M46,'4_部屋一覧'!$M$4:$O$79,3,FALSE),\"\"),\"\")","v":""},null,null,null,null,null,"-",null,false]
[{"$f":"IF(C47<>\"\",IFERROR(VLOOKUP(C47,'3_平面図一覧'!$C$4:$G$116,5,FALSE),\"\"),\"\")","v":""},{"$f":"IF(A47<>\"\",IFERROR(VLOOKUP(A47,'2_施設一覧'!$A$4:$D$73,3,FALSE),\"\"),\"\")","v":""},null,{"$f":"IF(C47<>\"\",IFERROR(VLOOKUP(C47,'3_平面図一覧'!$C$4:$D$116,2,FALSE),\"\"),\"\")","v":""},null,{"$f":"IF(M47<>\"-\",IFERROR(VLOOKUP(M47,'4_部屋一覧'!$M$4:$O$79,2,FALSE),\"\"),\"\")","v":""},{"$f":"IF(M47<>\"-\",IFERROR(VLOOKUP(M47,'4_部屋一覧'!$M$4:$O$79,3,FALSE),\"\"),\"\")","v":""},null,null,null,null,null,"-",null,false]
[{"$f":"IF(C48<>\"\",IFERROR(VLOOKUP(C48,'3_平面図一覧'!$C$4:$G$116,5,FALSE),\"\"),\"\")","v":""},{"$f":"IF(A48<>\"\",IFERROR(VLOOKUP(A48,'2_施設一覧'!$A$4:$D$73,3,FALSE),\"\"),\"\")","v":""},null,{"$f":"IF(C48<>\"\",IFERROR(VLOOKUP(C48,'3_平面図一覧'!$C$4:$D$116,2,FALSE),\"\"),\"\")","v":""},null,{"$f":"IF(M48<>\"-\",IFERROR(VLOOKUP(M48,'4_部屋一覧'!$M$4:$O$79,2,FALSE),\"\"),\"\")","v":""},{"$f":"IF(M48<>\"-\",IFERROR(VLOOKUP(M48,'4_部屋一覧'!$M$4:$O$79,3,FALSE),\"\"),\"\")","v":""},null,null,null,null,null,"-",null,false]
[{"$f":"IF(C49<>\"\",IFERROR(VLOOKUP(C49,'3_平面図一覧'!$C$4:$G$116,5,FALSE),\"\"),\"\")","v":""},{"$f":"IF(A49<>\"\",IFERROR(VLOOKUP(A49,'2_施設一覧'!$A$4:$D$73,3,FALSE),\"\"),\"\")","v":""},null,{"$f":"IF(C49<>\"\",IFERROR(VLOOKUP(C49,'3_平面図一覧'!$C$4:$D$116,2,FALSE),\"\"),\"\")","v":""},null,{"$f":"IF(M49<>\"-\",IFERROR(VLOOKUP(M49,'4_部屋一覧'!$M$4:$O$79,2,FALSE),\"\"),\"\")","v":""},{"$f":"IF(M49<>\"-\",IFERROR(VLOOKUP(M49,'4_部屋一覧'!$M$4:$O$79,3,FALSE),\"\"),\"\")","v":""},null,null,null,null,null,{"$f":"C49&\"-\"&E49","v":"-"},null,false]
[{"$f":"IF(C50<>\"\",IFERROR(VLOOKUP(C50,'3_平面図一覧'!$C$4:$G$116,5,FALSE),\"\"),\"\")","v":""},{"$f":"IF(A50<>\"\",IFERROR(VLOOKUP(A50,'2_施設一覧'!$A$4:$D$73,3,FALSE),\"\"),\"\")","v":""},null,{"$f":"IF(C50<>\"\",IFERROR(VLOOKUP(C50,'3_平面図一覧'!$C$4:$D$116,2,FALSE),\"\"),\"\")","v":""},null,{"$f":"IF(M50<>\"-\",IFERROR(VLOOKUP(M50,'4_部屋一覧'!$M$4:$O$79,2,FALSE),\"\"),\"\")","v":""},{"$f":"IF(M50<>\"-\",IFERROR(VLOOKUP(M50,'4_部屋一覧'!$M$4:$O$79,3,FALSE),\"\"),\"\")","v":""},null,null,null,null,null,"-",null,false]
[{"$f":"IF(C51<>\"\",IFERROR(VLOOKUP(C51,'3_平面図一覧'!$C$4:$G$116,5,FALSE),\"\"),\"\")","v":""},{"$f":"IF(A51<>\"\",IFERROR(VLOOKUP(A51,'2_施設一覧'!$A$4:$D$73,3,FALSE),\"\"),\"\")","v":""},null,{"$f":"IF(C51<>\"\",IFERROR(VLOOKUP(C51,'3_平面図一覧'!$C$4:$D$116,2,FALSE),\"\"),\"\")","v":""},null,{"$f":"IF(M51<>\"-\",IFERROR(VLOOKUP(M51,'4_部屋一覧'!$M$4:$O$79,2,FALSE),\"\"),\"\")","v":""},{"$f":"IF(M51<>\"-\",IFERROR(VLOOKUP(M51,'4_部屋一覧'!$M$4:$O$79,3,FALSE),\"\"),\"\")","v":""},null,null,null,null,null,"-",null,false]
[{"$f":"IF(C52<>\"\",IFERROR(VLOOKUP(C52,'3_平面図一覧'!$C$4:$G$116,5,FALSE),\"\"),\"\")","v":""},{"$f":"IF(A52<>\"\",IFERROR(VLOOKUP(A52,'2_施設一覧'!$A$4:$D$73,3,FALSE),\"\"),\"\")","v":""},null,{"$f":"IF(C52<>\"\",IFERROR(VLOOKUP(C52,'3_平面図一覧'!$C$4:$D$116,2,FALSE),\"\"),\"\")","v":""},null,{"$f":"IF(M52<>\"-\",IFERROR(VLOOKUP(M52,'4_部屋一覧'!$M$4:$O$79,2,FALSE),\"\"),\"\")","v":""},{"$f":"IF(M52<>\"-\",IFERROR(VLOOKUP(M52,'4_部屋一覧'!$M$4:$O$79,3,FALSE),\"\"),\"\")","v":""},null,null,null,null,null,"-",null,false]
[{"$f":"IF(C53<>\"\",IFERROR(VLOOKUP(C53,'3_平面図一覧'!$C$4:$G$116,5,FALSE),\"\"),\"\")","v":""},{"$f":"IF(A53<>\"\",IFERROR(VLOOKUP(A53,'2_施設一覧'!$A$4:$D$73,3,FALSE),\"\"),\"\")","v":""},null,{"$f":"IF(C53<>\"\",IFERROR(VLOOKUP(C53,'3_平面図一覧'!$C$4:$D$116,2,FALSE),\"\"),\"\")","v":""},null,{"$f":"IF(M53<>\"-\",IFERROR(VLOOKUP(M53,'4_部屋一覧'!$M$4:$O$79,2,FALSE),\"\"),\"\")","v":""},{"$f":"IF(M53<>\"-\",IFERROR(VLOOKUP(M53,'4_部屋一覧'!$M$4:$O$79,3,FALSE),\"\"),\"\")","v":""},null,null,null,null,null,"-",null,false]
[{"$f":"IF(C54<>\"\",IFERROR(VLOOKUP(C54,'3_平面図一覧'!$C$4:$G$116,5,FALSE),\"\"),\"\")","v":""},{"$f":"IF(A54<>\"\",IFERROR(VLOOKUP(A54,'2_施設一覧'!$A$4:$D$73,3,FALSE),\"\"),\"\")","v":""},null,{"$f":"IF(C54<>\"\",IFERROR(VLOOKUP(C54,'3_平面図一覧'!$C$4:$D$116,2,FALSE),\"\"),\"\")","v":""},null,{"$f":"IF(M54<>\"-\",IFERROR(VLOOKUP(M54,'4_部屋一覧'!$M$4:$O$79,2,FALSE),\"\"),\"\")","v":""},{"$f":"IF(M54<>\"-\",IFERROR(VLOOKUP(M54,'4_部屋一覧'!$M$4:$O$79,3,FALSE),\"\"),\"\")","v":""},null,null,null,null,null,"-",null,false]
[{"$f":"IF(C55<>\"\",IFERROR(VLOOKUP(C55,'3_平面図一覧'!$C$4:$G$116,5,FALSE),\"\"),\"\")","v":""},{"$f":"IF(A55<>\"\",IFERROR(VLOOKUP(A55,'2_施設一覧'!$A$4:$D$73,3,FALSE),\"\"),\"\")","v":""},null,{"$f":"IF(C55<>\"\",IFERROR(VLOOKUP(C55,'3_平面図一覧'!$C$4:$D$116,2,FALSE),\"\"),\"\")","v":""},null,{"$f":"IF(M55<>\"-\",IFERROR(VLOOKUP(M55,'4_部屋一覧'!$M$4:$O$79,2,FALSE),\"\"),\"\")","v":""},{"$f":"IF(M55<>\"-\",IFERROR(VLOOKUP(M55,'4_部屋一覧'!$M$4:$O$79,3,FALSE),\"\"),\"\")","v":""},null,null,null,null,null,"-",null,false]
[{"$f":"IF(C56<>\"\",IFERROR(VLOOKUP(C56,'3_平面図一覧'!$C$4:$G$116,5,FALSE),\"\"),\"\")","v":""},{"$f":"IF(A56<>\"\",IFERROR(VLOOKUP(A56,'2_施設一覧'!$A$4:$D$73,3,FALSE),\"\"),\"\")","v":""},null,{"$f":"IF(C56<>\"\",IFERROR(VLOOKUP(C56,'3_平面図一覧'!$C$4:$D$116,2,FALSE),\"\"),\"\")","v":""},null,{"$f":"IF(M56<>\"-\",IFERROR(VLOOKUP(M56,'4_部屋一覧'!$M$4:$O$79,2,FALSE),\"\"),\"\")","v":""},{"$f":"IF(M56<>\"-\",IFERROR(VLOOKUP(M56,'4_部屋一覧'!$M$4:$O$79,3,FALSE),\"\"),\"\")","v":""},null,null,null,null,null,"-",null,{"$f":"OR(A56<>\"\",B56<>\"\",C56<>\"\",D56<>\"\",E56<>\"\",F56<>\"\",G56<>\"\",H56<>\"\",I56<>\"\",J56<>\"\",K56<>\"\")","v":false}]
[{"$f":"IF(C57<>\"\",IFERROR(VLOOKUP(C57,'3_平面図一覧'!$C$4:$G$116,5,FALSE),\"\"),\"\")","v":""},{"$f":"IF(A57<>\"\",IFERROR(VLOOKUP(A57,'2_施設一覧'!$A$4:$D$73,3,FALSE),\"\"),\"\")","v":""},null,{"$f":"IF(C57<>\"\",IFERROR(VLOOKUP(C57,'3_平面図一覧'!$C$4:$D$116,2,FALSE),\"\"),\"\")","v":""},null,{"$f":"IF(M57<>\"-\",IFERROR(VLOOKUP(M57,'4_部屋一覧'!$M$4:$O$79,2,FALSE),\"\"),\"\")","v":""},{"$f":"IF(M57<>\"-\",IFERROR(VLOOKUP(M57,'4_部屋一覧'!$M$4:$O$79,3,FALSE),\"\"),\"\")","v":""},null,null,null,null,null,"-",null,false]
[{"$f":"IF(C58<>\"\",IFERROR(VLOOKUP(C58,'3_平面図一覧'!$C$4:$G$116,5,FALSE),\"\"),\"\")","v":""},{"$f":"IF(A58<>\"\",IFERROR(VLOOKUP(A58,'2_施設一覧'!$A$4:$D$73,3,FALSE),\"\"),\"\")","v":""},null,{"$f":"IF(C58<>\"\",IFERROR(VLOOKUP(C58,'3_平面図一覧'!$C$4:$D$116,2,FALSE),\"\"),\"\")","v":""},null,{"$f":"IF(M58<>\"-\",IFERROR(VLOOKUP(M58,'4_部屋一覧'!$M$4:$O$79,2,FALSE),\"\"),\"\")","v":""},{"$f":"IF(M58<>\"-\",IFERROR(VLOOKUP(M58,'4_部屋一覧'!$M$4:$O$79,3,FALSE),\"\"),\"\")","v":""},null,null,null,null,null,"-",null,false]
[{"$f":"IF(C59<>\"\",IFERROR(VLOOKUP(C59,'3_平面図一覧'!$C$4:$G$116,5,FALSE),\"\"),\"\")","v":""},{"$f":"IF(A59<>\"\",IFERROR(VLOOKUP(A59,'2_施設一覧'!$A$4:$D$73,3,FALSE),\"\"),\"\")","v":""},null,{"$f":"IF(C59<>\"\",IFERROR(VLOOKUP(C59,'3_平面図一覧'!$C$4:$D$116,2,FALSE),\"\"),\"\")","v":""},null,{"$f":"IF(M59<>\"-\",IFERROR(VLOOKUP(M59,'4_部屋一覧'!$M$4:$O$79,2,FALSE),\"\"),\"\")","v":""},{"$f":"IF(M59<>\"-\",IFERROR(VLOOKUP(M59,'4_部屋一覧'!$M$4:$O$79,3,FALSE),\"\"),\"\")","v":""},null,null,null,null,null,"-",null,false]
[{"$f":"IF(C60<>\"\",IFERROR(VLOOKUP(C60,'3_平面図一覧'!$C$4:$G$116,5,FALSE),\"\"),\"\")","v":""},{"$f":"IF(A60<>\"\",IFERROR(VLOOKUP(A60,'2_施設一覧'!$A$4:$D$73,3,FALSE),\"\"),\"\")","v":""},null,{"$f":"IF(C60<>\"\",IFERROR(VLOOKUP(C60,'3_平面図一覧'!$C$4:$D$116,2,FALSE),\"\"),\"\")","v":""},null,{"$f":"IF(M60<>\"-\",IFERROR(VLOOKUP(M60,'4_部屋一覧'!$M$4:$O$79,2,FALSE),\"\"),\"\")","v":""},{"$f":"IF(M60<>\"-\",IFERROR(VLOOKUP(M60,'4_部屋一覧'!$M$4:$O$79,3,FALSE),\"\"),\"\")","v":""},null,null,null,null,null,{"$f":"C60&\"-\"&E60","v":"-"},null,{"$f":"OR(A60<>\"\",B60<>\"\",C60<>\"\",D60<>\"\",E60<>\"\",F60<>\"\",G60<>\"\",H60<>\"\",I60<>\"\",J60<>\"\",K60<>\"\")","v":false}]
[{"$f":"IF(C61<>\"\",IFERROR(VLOOKUP(C61,'3_平面図一覧'!$C$4:$G$116,5,FALSE),\"\"),\"\")","v":""},{"$f":"IF(A61<>\"\",IFERROR(VLOOKUP(A61,'2_施設一覧'!$A$4:$D$73,3,FALSE),\"\"),\"\")","v":""},null,{"$f":"IF(C61<>\"\",IFERROR(VLOOKUP(C61,'3_平面図一覧'!$C$4:$D$116,2,FALSE),\"\"),\"\")","v":""},null,{"$f":"IF(M61<>\"-\",IFERROR(VLOOKUP(M61,'4_部屋一覧'!$M$4:$O$79,2,FALSE),\"\"),\"\")","v":""},{"$f":"IF(M61<>\"-\",IFERROR(VLOOKUP(M61,'4_部屋一覧'!$M$4:$O$79,3,FALSE),\"\"),\"\")","v":""},null,null,null,null,null,"-",null,false]
[{"$f":"IF(C62<>\"\",IFERROR(VLOOKUP(C62,'3_平面図一覧'!$C$4:$G$116,5,FALSE),\"\"),\"\")","v":""},{"$f":"IF(A62<>\"\",IFERROR(VLOOKUP(A62,'2_施設一覧'!$A$4:$D$73,3,FALSE),\"\"),\"\")","v":""},null,{"$f":"IF(C62<>\"\",IFERROR(VLOOKUP(C62,'3_平面図一覧'!$C$4:$D$116,2,FALSE),\"\"),\"\")","v":""},null,{"$f":"IF(M62<>\"-\",IFERROR(VLOOKUP(M62,'4_部屋一覧'!$M$4:$O$79,2,FALSE),\"\"),\"\")","v":""},{"$f":"IF(M62<>\"-\",IFERROR(VLOOKUP(M62,'4_部屋一覧'!$M$4:$O$79,3,FALSE),\"\"),\"\")","v":""},null,null,null,null,null,"-",null,false]
[{"$f":"IF(C63<>\"\",IFERROR(VLOOKUP(C63,'3_平面図一覧'!$C$4:$G$116,5,FALSE),\"\"),\"\")","v":""},{"$f":"IF(A63<>\"\",IFERROR(VLOOKUP(A63,'2_施設一覧'!$A$4:$D$73,3,FALSE),\"\"),\"\")","v":""},null,{"$f":"IF(C63<>\"\",IFERROR(VLOOKUP(C63,'3_平面図一覧'!$C$4:$D$116,2,FALSE),\"\"),\"\")","v":""},null,{"$f":"IF(M63<>\"-\",IFERROR(VLOOKUP(M63,'4_部屋一覧'!$M$4:$O$79,2,FALSE),\"\"),\"\")","v":""},{"$f":"IF(M63<>\"-\",IFERROR(VLOOKUP(M63,'4_部屋一覧'!$M$4:$O$79,3,FALSE),\"\"),\"\")","v":""},null,null,null,null,null,"-",null,false]
[{"$f":"IF(C64<>\"\",IFERROR(VLOOKUP(C64,'3_平面図一覧'!$C$4:$G$116,5,FALSE),\"\"),\"\")","v":""},{"$f":"IF(A64<>\"\",IFERROR(VLOOKUP(A64,'2_施設一覧'!$A$4:$D$73,3,FALSE),\"\"),\"\")","v":""},null,{"$f":"IF(C64<>\"\",IFERROR(VLOOKUP(C64,'3_平面図一覧'!$C$4:$D$116,2,FALSE),\"\"),\"\")","v":""},null,{"$f":"IF(M64<>\"-\",IFERROR(VLOOKUP(M64,'4_部屋一覧'!$M$4:$O$79,2,FALSE),\"\"),\"\")","v":""},{"$f":"IF(M64<>\"-\",IFERROR(VLOOKUP(M64,'4_部屋一覧'!$M$4:$O$79,3,FALSE),\"\"),\"\")","v":""},null,null,null,null,null,"-",null,false]
[{"$f":"IF(C65<>\"\",IFERROR(VLOOKUP(C65,'3_平面図一覧'!$C$4:$G$116,5,FALSE),\"\"),\"\")","v":""},{"$f":"IF(A65<>\"\",IFERROR(VLOOKUP(A65,'2_施設一覧'!$A$4:$D$73,3,FALSE),\"\"),\"\")","v":""},null,{"$f":"IF(C65<>\"\",IFERROR(VLOOKUP(C65,'3_平面図一覧'!$C$4:$D$116,2,FALSE),\"\"),\"\")","v":""},null,{"$f":"IF(M65<>\"-\",IFERROR(VLOOKUP(M65,'4_部屋一覧'!$M$4:$O$79,2,FALSE),\"\"),\"\")","v":""},{"$f":"IF(M65<>\"-\",IFERROR(VLOOKUP(M65,'4_部屋一覧'!$M$4:$O$79,3,FALSE),\"\"),\"\")","v":""},null,null,null,null,null,"-",null,false]
[{"$f":"IF(C66<>\"\",IFERROR(VLOOKUP(C66,'3_平面図一覧'!$C$4:$G$116,5,FALSE),\"\"),\"\")","v":""},{"$f":"IF(A66<>\"\",IFERROR(VLOOKUP(A66,'2_施設一覧'!$A$4:$D$73,3,FALSE),\"\"),\"\")","v":""},null,{"$f":"IF(C66<>\"\",IFERROR(VLOOKUP(C66,'3_平面図一覧'!$C$4:$D$116,2,FALSE),\"\"),\"\")","v":""},null,{"$f":"IF(M66<>\"-\",IFERROR(VLOOKUP(M66,'4_部屋一覧'!$M$4:$O$79,2,FALSE),\"\"),\"\")","v":""},{"$f":"IF(M66<>\"-\",IFERROR(VLOOKUP(M66,'4_部屋一覧'!$M$4:$O$79,3,FALSE),\"\"),\"\")","v":""},null,null,null,null,null,"-",null,false]
[{"$f":"IF(C67<>\"\",IFERROR(VLOOKUP(C67,'3_平面図一覧'!$C$4:$G$116,5,FALSE),\"\"),\"\")","v":""},{"$f":"IF(A67<>\"\",IFERROR(VLOOKUP(A67,'2_施設一覧'!$A$4:$D$73,3,FALSE),\"\"),\"\")","v":""},null,{"$f":"IF(C67<>\"\",IFERROR(VLOOKUP(C67,'3_平面図一覧'!$C$4:$D$116,2,FALSE),\"\"),\"\")","v":""},null,{"$f":"IF(M67<>\"-\",IFERROR(VLOOKUP(M67,'4_部屋一覧'!$M$4:$O$79,2,FALSE),\"\"),\"\")","v":""},{"$f":"IF(M67<>\"-\",IFERROR(VLOOKUP(M67,'4_部屋一覧'!$M$4:$O$79,3,FALSE),\"\"),\"\")","v":""},null,null,null,null,null,"-",null,false]
[{"$f":"IF(C68<>\"\",IFERROR(VLOOKUP(C68,'3_平面図一覧'!$C$4:$G$116,5,FALSE),\"\"),\"\")","v":""},{"$f":"IF(A68<>\"\",IFERROR(VLOOKUP(A68,'2_施設一覧'!$A$4:$D$73,3,FALSE),\"\"),\"\")","v":""},null,{"$f":"IF(C68<>\"\",IFERROR(VLOOKUP(C68,'3_平面図一覧'!$C$4:$D$116,2,FALSE),\"\"),\"\")","v":""},null,{"$f":"IF(M68<>\"-\",IFERROR(VLOOKUP(M68,'4_部屋一覧'!$M$4:$O$79,2,FALSE),\"\"),\"\")","v":""},{"$f":"IF(M68<>\"-\",IFERROR(VLOOKUP(M68,'4_部屋一覧'!$M$4:$O$79,3,FALSE),\"\"),\"\")","v":""},null,null,null,null,null,"-",null,false]
[{"$f":"IF(C69<>\"\",IFERROR(VLOOKUP(C69,'3_平面図一覧'!$C$4:$G$116,5,FALSE),\"\"),\"\")","v":""},{"$f":"IF(A69<>\"\",IFERROR(VLOOKUP(A69,'2_施設一覧'!$A$4:$D$73,3,FALSE),\"\"),\"\")","v":""},null,{"$f":"IF(C69<>\"\",IFERROR(VLOOKUP(C69,'3_平面図一覧'!$C$4:$D$116,2,FALSE),\"\"),\"\")","v":""},null,{"$f":"IF(M69<>\"-\",IFERROR(VLOOKUP(M69,'4_部屋一覧'!$M$4:$O$79,2,FALSE),\"\"),\"\")","v":""},{"$f":"IF(M69<>\"-\",IFERROR(VLOOKUP(M69,'4_部屋一覧'!$M$4:$O$79,3,FALSE),\"\"),\"\")","v":""},null,null,null,null,null,"-",null,false]
[{"$f":"IF(C70<>\"\",IFERROR(VLOOKUP(C70,'3_平面図一覧'!$C$4:$G$116,5,FALSE),\"\"),\"\")","v":""},{"$f":"IF(A70<>\"\",IFERROR(VLOOKUP(A70,'2_施設一覧'!$A$4:$D$73,3,FALSE),\"\"),\"\")","v":""},null,{"$f":"IF(C70<>\"\",IFERROR(VLOOKUP(C70,'3_平面図一覧'!$C$4:$D$116,2,FALSE),\"\"),\"\")","v":""},null,{"$f":"IF(M70<>\"-\",IFERROR(VLOOKUP(M70,'4_部屋一覧'!$M$4:$O$79,2,FALSE),\"\"),\"\")","v":""},{"$f":"IF(M70<>\"-\",IFERROR(VLOOKUP(M70,'4_部屋一覧'!$M$4:$O$79,3,FALSE),\"\"),\"\")","v":""},null,null,null,null,null,"-",null,false]
[{"$f":"IF(C71<>\"\",IFERROR(VLOOKUP(C71,'3_平面図一覧'!$C$4:$G$116,5,FALSE),\"\"),\"\")","v":""},{"$f":"IF(A71<>\"\",IFERROR(VLOOKUP(A71,'2_施設一覧'!$A$4:$D$73,3,FALSE),\"\"),\"\")","v":""},null,{"$f":"IF(C71<>\"\",IFERROR(VLOOKUP(C71,'3_平面図一覧'!$C$4:$D$116,2,FALSE),\"\"),\"\")","v":""},null,{"$f":"IF(M71<>\"-\",IFERROR(VLOOKUP(M71,'4_部屋一覧'!$M$4:$O$79,2,FALSE),\"\"),\"\")","v":""},{"$f":"IF(M71<>\"-\",IFERROR(VLOOKUP(M71,'4_部屋一覧'!$M$4:$O$79,3,FALSE),\"\"),\"\")","v":""},null,null,null,null,null,"-",null,false]
[{"$f":"IF(C72<>\"\",IFERROR(VLOOKUP(C72,'3_平面図一覧'!$C$4:$G$116,5,FALSE),\"\"),\"\")","v":""},{"$f":"IF(A72<>\"\",IFERROR(VLOOKUP(A72,'2_施設一覧'!$A$4:$D$73,3,FALSE),\"\"),\"\")","v":""},null,{"$f":"IF(C72<>\"\",IFERROR(VLOOKUP(C72,'3_平面図一覧'!$C$4:$D$116,2,FALSE),\"\"),\"\")","v":""},null,{"$f":"IF(M72<>\"-\",IFERROR(VLOOKUP(M72,'4_部屋一覧'!$M$4:$O$79,2,FALSE),\"\"),\"\")","v":""},{"$f":"IF(M72<>\"-\",IFERROR(VLOOKUP(M72,'4_部屋一覧'!$M$4:$O$79,3,FALSE),\"\"),\"\")","v":""},null,null,null,null,null,"-",null,false]
[{"$f":"IF(C73<>\"\",IFERROR(VLOOKUP(C73,'3_平面図一覧'!$C$4:$G$116,5,FALSE),\"\"),\"\")","v":""},{"$f":"IF(A73<>\"\",IFERROR(VLOOKUP(A73,'2_施設一覧'!$A$4:$D$73,3,FALSE),\"\"),\"\")","v":""},null,{"$f":"IF(C73<>\"\",IFERROR(VLOOKUP(C73,'3_平面図一覧'!$C$4:$D$116,2,FALSE),\"\"),\"\")","v":""},null,{"$f":"IF(M73<>\"-\",IFERROR(VLOOKUP(M73,'4_部屋一覧'!$M$4:$O$79,2,FALSE),\"\"),\"\")","v":""},{"$f":"IF(M73<>\"-\",IFERROR(VLOOKUP(M73,'4_部屋一覧'!$M$4:$O$79,3,FALSE),\"\"),\"\")","v":""},null,null,null,null,null,"-",null,false]
[{"$f":"IF(C74<>\"\",IFERROR(VLOOKUP(C74,'3_平面図一覧'!$C$4:$G$116,5,FALSE),\"\"),\"\")","v":""},{"$f":"IF(A74<>\"\",IFERROR(VLOOKUP(A74,'2_施設一覧'!$A$4:$D$73,3,FALSE),\"\"),\"\")","v":""},null,{"$f":"IF(C74<>\"\",IFERROR(VLOOKUP(C74,'3_平面図一覧'!$C$4:$D$116,2,FALSE),\"\"),\"\")","v":""},null,{"$f":"IF(M74<>\"-\",IFERROR(VLOOKUP(M74,'4_部屋一覧'!$M$4:$O$79,2,FALSE),\"\"),\"\")","v":""},{"$f":"IF(M74<>\"-\",IFERROR(VLOOKUP(M74,'4_部屋一覧'!$M$4:$O$79,3,FALSE),\"\"),\"\")","v":""},null,null,null,null,null,"-",null,false]
[{"$f":"IF(C75<>\"\",IFERROR(VLOOKUP(C75,'3_平面図一覧'!$C$4:$G$116,5,FALSE),\"\"),\"\")","v":""},{"$f":"IF(A75<>\"\",IFERROR(VLOOKUP(A75,'2_施設一覧'!$A$4:$D$73,3,FALSE),\"\"),\"\")","v":""},null,{"$f":"IF(C75<>\"\",IFERROR(VLOOKUP(C75,'3_平面図一覧'!$C$4:$D$116,2,FALSE),\"\"),\"\")","v":""},null,{"$f":"IF(M75<>\"-\",IFERROR(VLOOKUP(M75,'4_部屋一覧'!$M$4:$O$79,2,FALSE),\"\"),\"\")","v":""},{"$f":"IF(M75<>\"-\",IFERROR(VLOOKUP(M75,'4_部屋一覧'!$M$4:$O$79,3,FALSE),\"\"),\"\")","v":""},null,null,null,null,null,"-",null,false]

{"sheet":"6_領収証等一覧","index":5,"n_rows":119,"n_cols":8,"rows_kept":119,"cut":false,"hidden":false,"merged":[]}
["（様式６）領収証等一覧"]
[]
["領収証№","領収証金額","所要額合計","納品日","納品書有無"]
[null,null,{"$f":"IF(SUMIF('5_機器一覧'!$K$4:$K$75,'6_領収証等一覧'!A4,'5_機器一覧'!$J$4:$J$75)<>0,SUMIF('5_機器一覧'!$K$4:$K$75,'6_領収証等一覧'!A4,'5_機器一覧'!$J$4:$J$75),\"\")","v":""},null,null,null,null,{"$f":"OR(A4<>\"\",B4<>\"\",C4<>\"\",D4<>\"\",E4<>\"\")","v":false}]
[null,null,{"$f":"IF(SUMIF('5_機器一覧'!$K$4:$K$75,'6_領収証等一覧'!A5,'5_機器一覧'!$J$4:$J$75)<>0,SUMIF('5_機器一覧'!$K$4:$K$75,'6_領収証等一覧'!A5,'5_機器一覧'!$J$4:$J$75),\"\")","v":""},null,null,null,null,{"$f":"OR(A5<>\"\",B5<>\"\",C5<>\"\",D5<>\"\",E5<>\"\")","v":false}]
[null,null,{"$f":"IF(SUMIF('5_機器一覧'!$K$4:$K$75,'6_領収証等一覧'!A6,'5_機器一覧'!$J$4:$J$75)<>0,SUMIF('5_機器一覧'!$K$4:$K$75,'6_領収証等一覧'!A6,'5_機器一覧'!$J$4:$J$75),\"\")","v":""},null,null,null,null,false]
[null,null,{"$f":"IF(SUMIF('5_機器一覧'!$K$4:$K$75,'6_領収証等一覧'!A7,'5_機器一覧'!$J$4:$J$75)<>0,SUMIF('5_機器一覧'!$K$4:$K$75,'6_領収証等一覧'!A7,'5_機器一覧'!$J$4:$J$75),\"\")","v":""},null,null,null,null,false]
[null,null,{"$f":"IF(SUMIF('5_機器一覧'!$K$4:$K$75,'6_領収証等一覧'!A8,'5_機器一覧'!$J$4:$J$75)<>0,SUMIF('5_機器一覧'!$K$4:$K$75,'6_領収証等一覧'!A8,'5_機器一覧'!$J$4:$J$75),\"\")","v":""},null,null,null,null,false]
[null,null,{"$f":"IF(SUMIF('5_機器一覧'!$K$4:$K$75,'6_領収証等一覧'!A9,'5_機器一覧'!$J$4:$J$75)<>0,SUMIF('5_機器一覧'!$K$4:$K$75,'6_領収証等一覧'!A9,'5_機器一覧'!$J$4:$J$75),\"\")","v":""},null,null,null,null,false]
[null,null,{"$f":"IF(SUMIF('5_機器一覧'!$K$4:$K$75,'6_領収証等一覧'!A10,'5_機器一覧'!$J$4:$J$75)<>0,SUMIF('5_機器一覧'!$K$4:$K$75,'6_領収証等一覧'!A10,'5_機器一覧'!$J$4:$J$75),\"\")","v":""},null,null,null,null,false]
[null,null,{"$f":"IF(SUMIF('5_機器一覧'!$K$4:$K$75,'6_領収証等一覧'!A11,'5_機器一覧'!$J$4:$J$75)<>0,SUMIF('5_機器一覧'!$K$4:$K$75,'6_領収証等一覧'!A11,'5_機器一覧'!$J$4:$J$75),\"\")","v":""},null,null,null,null,false]
[null,null,{"$f":"IF(SUMIF('5_機器一覧'!$K$4:$K$75,'6_領収証等一覧'!A12,'5_機器一覧'!$J$4:$J$75)<>0,SUMIF('5_機器一覧'!$K$4:$K$75,'6_領収証等一覧'!A12,'5_機器一覧'!$J$4:$J$75),\"\")","v":""},null,null,null,null,false]
[null,null,{"$f":"IF(SUMIF('5_機器一覧'!$K$4:$K$75,'6_領収証等一覧'!A13,'5_機器一覧'!$J$4:$J$75)<>0,SUMIF('5_機器一覧'!$K$4:$K$75,'6_領収証等一覧'!A13,'5_機器一覧'!$J$4:$J$75),\"\")","v":""},null,null,null,null,false]
[null,null,{"$f":"IF(SUMIF('5_機器一覧'!$K$4:$K$75,'6_領収証等一覧'!A14,'5_機器一覧'!$J$4:$J$75)<>0,SUMIF('5_機器一覧'!$K$4:$K$75,'6_領収証等一覧'!A14,'5_機器一覧'!$J$4:$J$75),\"\")","v":""},null,null,null,null,false]
[null,null,{"$f":"IF(SUMIF('5_機器一覧'!$K$4:$K$75,'6_領収証等一覧'!A15,'5_機器一覧'!$J$4:$J$75)<>0,SUMIF('5_機器一覧'!$K$4:$K$75,'6_領収証等一覧'!A15,'5_機器一覧'!$J$4:$J$75),\"\")","v":""},null,null,null,null,false]
[null,null,{"$f":"IF(SUMIF('5_機器一覧'!$K$4:$K$75,'6_領収証等一覧'!A16,'5_機器一覧'!$J$4:$J$75)<>0,SUMIF('5_機器一覧'!$K$4:$K$75,'6_領収証等一覧'!A16,'5_機器一覧'!$J$4:$J$75),\"\")","v":""},null,null,null,null,false]
[null,null,{"$f":"IF(SUMIF('5_機器一覧'!$K$4:$K$75,'6_領収証等一覧'!A17,'5_機器一覧'!$J$4:$J$75)<>0,SUMIF('5_機器一覧'!$K$4:$K$75,'6_領収証等一覧'!A17,'5_機器一覧'!$J$4:$J$75),\"\")","v":""},null,null,null,null,false]
[null,null,{"$f":"IF(SUMIF('5_機器一覧'!$K$4:$K$75,'6_領収証等一覧'!A18,'5_機器一覧'!$J$4:$J$75)<>0,SUMIF('5_機器一覧'!$K$4:$K$75,'6_領収証等一覧'!A18,'5_機器一覧'!$J$4:$J$75),\"\")","v":""},null,null,null,null,false]
[null,null,{"$f":"IF(SUMIF('5_機器一覧'!$K$4:$K$75,'6_領収証等一覧'!A19,'5_機器一覧'!$J$4:$J$75)<>0,SUMIF('5_機器一覧'!$K$4:$K$75,'6_領収証等一覧'!A19,'5_機器一覧'!$J$4:$J$75),\"\")","v":""},null,null,null,null,false]
[null,null,{"$f":"IF(SUMIF('5_機器一覧'!$K$4:$K$75,'6_領収証等一覧'!A20,'5_機器一覧'!$J$4:$J$75)<>0,SUMIF('5_機器一覧'!$K$4:$K$75,'6_領収証等一覧'!A20,'5_機器一覧'!$J$4:$J$75),\"\")","v":""},null,null,null,null,false]
[null,null,{"$f":"IF(SUMIF('5_機器一覧'!$K$4:$K$75,'6_領収証等一覧'!A21,'5_機器一覧'!$J$4:$J$75)<>0,SUMIF('5_機器一覧'!$K$4:$K$75,'6_領収証等一覧'!A21,'5_機器一覧'!$J$4:$J$75),\"\")","v":""},null,null,null,null,false]
[null,null,{"$f":"IF(SUMIF('5_機器一覧'!$K$4:$K$75,'6_領収証等一覧'!A22,'5_機器一覧'!$J$4:$J$75)<>0,SUMIF('5_機器一覧'!$K$4:$K$75,'6_領収証等一覧'!A22,'5_機器一覧'!$J$4:$J$75),\"\")","v":""},null,null,null,null,false]
[null,null,{"$f":"IF(SUMIF('5_機器一覧'!$K$4:$K$75,'6_領収証等一覧'!A23,'5_機器一覧'!$J$4:$J$75)<>0,SUMIF('5_機器一覧'!$K$4:$K$75,'6_領収証等一覧'!A23,'5_機器一覧'!$J$4:$J$75),\"\")","v":""},null,null,null,null,false]
[null,null,{"$f":"IF(SUMIF('5_機器一覧'!$K$4:$K$75,'6_領収証等一覧'!A24,'5_機器一覧'!$J$4:$J$75)<>0,SUMIF('5_機器一覧'!$K$4:$K$75,'6_領収証等一覧'!A24,'5_機器一覧'!$J$4:$J$75),\"\")","v":""},null,null,null,null,false]
[null,null,{"$f":"IF(SUMIF('5_機器一覧'!$K$4:$K$75,'6_領収証等一覧'!A25,'5_機器一覧'!$J$4:$J$75)<>0,SUMIF('5_機器一覧'!$K$4:$K$75,'6_領収証等一覧'!A25,'5_機器一覧'!$J$4:$J$75),\"\")","v":""},null,null,null,null,false]
[null,null,{"$f":"IF(SUMIF('5_機器一覧'!$K$4:$K$75,'6_領収証等一覧'!A26,'5_機器一覧'!$J$4:$J$75)<>0,SUMIF('5_機器一覧'!$K$4:$K$75,'6_領収証等一覧'!A26,'5_機器一覧'!$J$4:$J$75),\"\")","v":""},null,null,null,null,false]
[null,null,{"$f":"IF(SUMIF('5_機器一覧'!$K$4:$K$75,'6_領収証等一覧'!A27,'5_機器一覧'!$J$4:$J$75)<>0,SUMIF('5_機器一覧'!$K$4:$K$75,'6_領収証等一覧'!A27,'5_機器一覧'!$J$4:$J$75),\"\")","v":""},null,null,null,null,{"$f":"OR(A27<>\"\",B27<>\"\",C27<>\"\",D27<>\"\",E27<>\"\")","v":false}]
[null,null,{"$f":"IF(SUMIF('5_機器一覧'!$K$4:$K$75,'6_領収証等一覧'!A28,'5_機器一覧'!$J$4:$J$75)<>0,SUMIF('5_機器一覧'!$K$4:$K$75,'6_領収証等一覧'!A28,'5_機器一覧'!$J$4:$J$75),\"\")","v":""},null,null,null,null,false]
[null,null,{"$f":"IF(SUMIF('5_機器一覧'!$K$4:$K$75,'6_領収証等一覧'!A29,'5_機器一覧'!$J$4:$J$75)<>0,SUMIF('5_機器一覧'!$K$4:$K$75,'6_領収証等一覧'!A29,'5_機器一覧'!$J$4:$J$75),\"\")","v":""},null,null,null,null,false]
[null,null,{"$f":"IF(SUMIF('5_機器一覧'!$K$4:$K$75,'6_領収証等一覧'!A30,'5_機器一覧'!$J$4:$J$75)<>0,SUMIF('5_機器一覧'!$K$4:$K$75,'6_領収証等一覧'!A30,'5_機器一覧'!$J$4:$J$75),\"\")","v":""},null,null,null,null,false]
[null,null,{"$f":"IF(SUMIF('5_機器一覧'!$K$4:$K$75,'6_領収証等一覧'!A31,'5_機器一覧'!$J$4:$J$75)<>0,SUMIF('5_機器一覧'!$K$4:$K$75,'6_領収証等一覧'!A31,'5_機器一覧'!$J$4:$J$75),\"\")","v":""},null,null,null,null,false]
[null,null,{"$f":"IF(SUMIF('5_機器一覧'!$K$4:$K$75,'6_領収証等一覧'!A32,'5_機器一覧'!$J$4:$J$75)<>0,SUMIF('5_機器一覧'!$K$4:$K$75,'6_領収証等一覧'!A32,'5_機器一覧'!$J$4:$J$75),\"\")","v":""},null,null,null,null,false]
[null,null,{"$f":"IF(SUMIF('5_機器一覧'!$K$4:$K$75,'6_領収証等一覧'!A33,'5_機器一覧'!$J$4:$J$75)<>0,SUMIF('5_機器一覧'!$K$4:$K$75,'6_領収証等一覧'!A33,'5_機器一覧'!$J$4:$J$75),\"\")","v":""},null,null,null,null,false]
[null,null,{"$f":"IF(SUMIF('5_機器一覧'!$K$4:$K$75,'6_領収証等一覧'!A34,'5_機器一覧'!$J$4:$J$75)<>0,SUMIF('5_機器一覧'!$K$4:$K$75,'6_領収証等一覧'!A34,'5_機器一覧'!$J$4:$J$75),\"\")","v":""},null,null,null,null,false]
[null,null,{"$f":"IF(SUMIF('5_機器一覧'!$K$4:$K$75,'6_領収証等一覧'!A35,'5_機器一覧'!$J$4:$J$75)<>0,SUMIF('5_機器一覧'!$K$4:$K$75,'6_領収証等一覧'!A35,'5_機器一覧'!$J$4:$J$75),\"\")","v":""},null,null,null,null,false]
[null,null,{"$f":"IF(SUMIF('5_機器一覧'!$K$4:$K$75,'6_領収証等一覧'!A36,'5_機器一覧'!$J$4:$J$75)<>0,SUMIF('5_機器一覧'!$K$4:$K$75,'6_領収証等一覧'!A36,'5_機器一覧'!$J$4:$J$75),\"\")","v":""},null,null,null,null,false]
[null,null,{"$f":"IF(SUMIF('5_機器一覧'!$K$4:$K$75,'6_領収証等一覧'!A37,'5_機器一覧'!$J$4:$J$75)<>0,SUMIF('5_機器一覧'!$K$4:$K$75,'6_領収証等一覧'!A37,'5_機器一覧'!$J$4:$J$75),\"\")","v":""},null,null,null,null,false]
[null,null,{"$f":"IF(SUMIF('5_機器一覧'!$K$4:$K$75,'6_領収証等一覧'!A38,'5_機器一覧'!$J$4:$J$75)<>0,SUMIF('5_機器一覧'!$K$4:$K$75,'6_領収証等一覧'!A38,'5_機器一覧'!$J$4:$J$75),\"\")","v":""},null,null,null,null,false]
[null,null,{"$f":"IF(SUMIF('5_機器一覧'!$K$4:$K$75,'6_領収証等一覧'!A39,'5_機器一覧'!$J$4:$J$75)<>0,SUMIF('5_機器一覧'!$K$4:$K$75,'6_領収証等一覧'!A39,'5_機器一覧'!$J$4:$J$75),\"\")","v":""},null,null,null,null,false]
[null,null,{"$f":"IF(SUMIF('5_機器一覧'!$K$4:$K$75,'6_領収証等一覧'!A40,'5_機器一覧'!$J$4:$J$75)<>0,SUMIF('5_機器一覧'!$K$4:$K$75,'6_領収証等一覧'!A40,'5_機器一覧'!$J$4:$J$75),\"\")","v":""},null,null,null,null,false]
[null,null,{"$f":"IF(SUMIF('5_機器一覧'!$K$4:$K$75,'6_領収証等一覧'!A41,'5_機器一覧'!$J$4:$J$75)<>0,SUMIF('5_機器一覧'!$K$4:$K$75,'6_領収証等一覧'!A41,'5_機器一覧'!$J$4:$J$75),\"\")","v":""},null,null,null,null,false]
[null,null,{"$f":"IF(SUMIF('5_機器一覧'!$K$4:$K$75,'6_領収証等一覧'!A42,'5_機器一覧'!$J$4:$J$75)<>0,SUMIF('5_機器一覧'!$K$4:$K$75,'6_領収証等一覧'!A42,'5_機器一覧'!$J$4:$J$75),\"\")","v":""},null,null,null,null,false]
[null,null,{"$f":"IF(SUMIF('5_機器一覧'!$K$4:$K$75,'6_領収証等一覧'!A43,'5_機器一覧'!$J$4:$J$75)<>0,SUMIF('5_機器一覧'!$K$4:$K$75,'6_領収証等一覧'!A43,'5_機器一覧'!$J$4:$J$75),\"\")","v":""},null,null,null,null,false]
[null,null,{"$f":"IF(SUMIF('5_機器一覧'!$K$4:$K$75,'6_領収証等一覧'!A44,'5_機器一覧'!$J$4:$J$75)<>0,SUMIF('5_機器一覧'!$K$4:$K$75,'6_領収証等一覧'!A44,'5_機器一覧'!$J$4:$J$75),\"\")","v":""},null,null,null,null,false]
[null,null,{"$f":"IF(SUMIF('5_機器一覧'!$K$4:$K$75,'6_領収証等一覧'!A45,'5_機器一覧'!$J$4:$J$75)<>0,SUMIF('5_機器一覧'!$K$4:$K$75,'6_領収証等一覧'!A45,'5_機器一覧'!$J$4:$J$75),\"\")","v":""},null,null,null,null,false]
[null,null,{"$f":"IF(SUMIF('5_機器一覧'!$K$4:$K$75,'6_領収証等一覧'!A46,'5_機器一覧'!$J$4:$J$75)<>0,SUMIF('5_機器一覧'!$K$4:$K$75,'6_領収証等一覧'!A46,'5_機器一覧'!$J$4:$J$75),\"\")","v":""},null,null,null,null,false]
[null,null,{"$f":"IF(SUMIF('5_機器一覧'!$K$4:$K$75,'6_領収証等一覧'!A47,'5_機器一覧'!$J$4:$J$75)<>0,SUMIF('5_機器一覧'!$K$4:$K$75,'6_領収証等一覧'!A47,'5_機器一覧'!$J$4:$J$75),\"\")","v":""},null,null,null,null,false]
[null,null,{"$f":"IF(SUMIF('5_機器一覧'!$K$4:$K$75,'6_領収証等一覧'!A48,'5_機器一覧'!$J$4:$J$75)<>0,SUMIF('5_機器一覧'!$K$4:$K$75,'6_領収証等一覧'!A48,'5_機器一覧'!$J$4:$J$75),\"\")","v":""},null,null,null,null,false]
[null,null,{"$f":"IF(SUMIF('5_機器一覧'!$K$4:$K$75,'6_領収証等一覧'!A49,'5_機器一覧'!$J$4:$J$75)<>0,SUMIF('5_機器一覧'!$K$4:$K$75,'6_領収証等一覧'!A49,'5_機器一覧'!$J$4:$J$75),\"\")","v":""},null,null,null,null,false]
[null,null,{"$f":"IF(SUMIF('5_機器一覧'!$K$4:$K$75,'6_領収証等一覧'!A50,'5_機器一覧'!$J$4:$J$75)<>0,SUMIF('5_機器一覧'!$K$4:$K$75,'6_領収証等一覧'!A50,'5_機器一覧'!$J$4:$J$75),\"\")","v":""},null,null,null,null,false]
[null,null,{"$f":"IF(SUMIF('5_機器一覧'!$K$4:$K$75,'6_領収証等一覧'!A51,'5_機器一覧'!$J$4:$J$75)<>0,SUMIF('5_機器一覧'!$K$4:$K$75,'6_領収証等一覧'!A51,'5_機器一覧'!$J$4:$J$75),\"\")","v":""},null,null,null,null,false]
[null,null,{"$f":"IF(SUMIF('5_機器一覧'!$K$4:$K$75,'6_領収証等一覧'!A52,'5_機器一覧'!$J$4:$J$75)<>0,SUMIF('5_機器一覧'!$K$4:$K$75,'6_領収証等一覧'!A52,'5_機器一覧'!$J$4:$J$75),\"\")","v":""},null,null,null,null,false]
[null,null,{"$f":"IF(SUMIF('5_機器一覧'!$K$4:$K$75,'6_領収証等一覧'!A53,'5_機器一覧'!$J$4:$J$75)<>0,SUMIF('5_機器一覧'!$K$4:$K$75,'6_領収証等一覧'!A53,'5_機器一覧'!$J$4:$J$75),\"\")","v":""},null,null,null,null,false]
[null,null,{"$f":"IF(SUMIF('5_機器一覧'!$K$4:$K$75,'6_領収証等一覧'!A54,'5_機器一覧'!$J$4:$J$75)<>0,SUMIF('5_機器一覧'!$K$4:$K$75,'6_領収証等一覧'!A54,'5_機器一覧'!$J$4:$J$75),\"\")","v":""},null,null,null,null,false]
[null,null,{"$f":"IF(SUMIF('5_機器一覧'!$K$4:$K$75,'6_領収証等一覧'!A55,'5_機器一覧'!$J$4:$J$75)<>0,SUMIF('5_機器一覧'!$K$4:$K$75,'6_領収証等一覧'!A55,'5_機器一覧'!$J$4:$J$75),\"\")","v":""},null,null,null,null,false]
[null,null,{"$f":"IF(SUMIF('5_機器一覧'!$K$4:$K$75,'6_領収証等一覧'!A56,'5_機器一覧'!$J$4:$J$75)<>0,SUMIF('5_機器一覧'!$K$4:$K$75,'6_領収証等一覧'!A56,'5_機器一覧'!$J$4:$J$75),\"\")","v":""},null,null,null,null,false]
[null,null,{"$f":"IF(SUMIF('5_機器一覧'!$K$4:$K$75,'6_領収証等一覧'!A57,'5_機器一覧'!$J$4:$J$75)<>0,SUMIF('5_機器一覧'!$K$4:$K$75,'6_領収証等一覧'!A57,'5_機器一覧'!$J$4:$J$75),\"\")","v":""},null,null,null,null,false]
[null,null,{"$f":"IF(SUMIF('5_機器一覧'!$K$4:$K$75,'6_領収証等一覧'!A58,'5_機器一覧'!$J$4:$J$75)<>0,SUMIF('5_機器一覧'!$K$4:$K$75,'6_領収証等一覧'!A58,'5_機器一覧'!$J$4:$J$75),\"\")","v":""},null,null,null,null,false]
[null,null,{"$f":"IF(SUMIF('5_機器一覧'!$K$4:$K$75,'6_領収証等一覧'!A59,'5_機器一覧'!$J$4:$J$75)<>0,SUMIF('5_機器一覧'!$K$4:$K$75,'6_領収証等一覧'!A59,'5_機器一覧'!$J$4:$J$75),\"\")","v":""},null,null,null,null,false]
[null,null,{"$f":"IF(SUMIF('5_機器一覧'!$K$4:$K$75,'6_領収証等一覧'!A60,'5_機器一覧'!$J$4:$J$75)<>0,SUMIF('5_機器一覧'!$K$4:$K$75,'6_領収証等一覧'!A60,'5_機器一覧'!$J$4:$J$75),\"\")","v":""},null,null,null,null,false]
[null,null,{"$f":"IF(SUMIF('5_機器一覧'!$K$4:$K$75,'6_領収証等一覧'!A61,'5_機器一覧'!$J$4:$J$75)<>0,SUMIF('5_機器一覧'!$K$4:$K$75,'6_領収証等一覧'!A61,'5_機器一覧'!$J$4:$J$75),\"\")","v":""},null,null,null,null,false]
[null,null,{"$f":"IF(SUMIF('5_機器一覧'!$K$4:$K$75,'6_領収証等一覧'!A62,'5_機器一覧'!$J$4:$J$75)<>0,SUMIF('5_機器一覧'!$K$4:$K$75,'6_領収証等一覧'!A62,'5_機器一覧'!$J$4:$J$75),\"\")","v":""},null,null,null,null,false]
[null,null,{"$f":"IF(SUMIF('5_機器一覧'!$K$4:$K$75,'6_領収証等一覧'!A63,'5_機器一覧'!$J$4:$J$75)<>0,SUMIF('5_機器一覧'!$K$4:$K$75,'6_領収証等一覧'!A63,'5_機器一覧'!$J$4:$J$75),\"\")","v":""},null,null,null,null,{"$f":"OR(A63<>\"\",B63<>\"\",C63<>\"\",D63<>\"\",E63<>\"\")","v":false}]
[null,null,{"$f":"IF(SUMIF('5_機器一覧'!$K$4:$K$75,'6_領収証等一覧'!A64,'5_機器一覧'!$J$4:$J$75)<>0,SUMIF('5_機器一覧'!$K$4:$K$75,'6_領収証等一覧'!A64,'5_機器一覧'!$J$4:$J$75),\"\")","v":""},null,null,null,null,false]
[null,null,{"$f":"IF(SUMIF('5_機器一覧'!$K$4:$K$75,'6_領収証等一覧'!A65,'5_機器一覧'!$J$4:$J$75)<>0,SUMIF('5_機器一覧'!$K$4:$K$75,'6_領収証等一覧'!A65,'5_機器一覧'!$J$4:$J$75),\"\")","v":""},null,null,null,null,false]
[null,null,{"$f":"IF(SUMIF('5_機器一覧'!$K$4:$K$75,'6_領収証等一覧'!A66,'5_機器一覧'!$J$4:$J$75)<>0,SUMIF('5_機器一覧'!$K$4:$K$75,'6_領収証等一覧'!A66,'5_機器一覧'!$J$4:$J$75),\"\")","v":""},null,null,null,null,false]
[null,null,{"$f":"IF(SUMIF('5_機器一覧'!$K$4:$K$75,'6_領収証等一覧'!A67,'5_機器一覧'!$J$4:$J$75)<>0,SUMIF('5_機器一覧'!$K$4:$K$75,'6_領収証等一覧'!A67,'5_機器一覧'!$J$4:$J$75),\"\")","v":""},null,null,null,null,false]
[null,null,{"$f":"IF(SUMIF('5_機器一覧'!$K$4:$K$75,'6_領収証等一覧'!A68,'5_機器一覧'!$J$4:$J$75)<>0,SUMIF('5_機器一覧'!$K$4:$K$75,'6_領収証等一覧'!A68,'5_機器一覧'!$J$4:$J$75),\"\")","v":""},null,null,null,null,false]
[null,null,{"$f":"IF(SUMIF('5_機器一覧'!$K$4:$K$75,'6_領収証等一覧'!A69,'5_機器一覧'!$J$4:$J$75)<>0,SUMIF('5_機器一覧'!$K$4:$K$75,'6_領収証等一覧'!A69,'5_機器一覧'!$J$4:$J$75),\"\")","v":""},null,null,null,null,false]
[null,null,{"$f":"IF(SUMIF('5_機器一覧'!$K$4:$K$75,'6_領収証等一覧'!A70,'5_機器一覧'!$J$4:$J$75)<>0,SUMIF('5_機器一覧'!$K$4:$K$75,'6_領収証等一覧'!A70,'5_機器一覧'!$J$4:$J$75),\"\")","v":""},null,null,null,null,false]
[null,null,{"$f":"IF(SUMIF('5_機器一覧'!$K$4:$K$75,'6_領収証等一覧'!A71,'5_機器一覧'!$J$4:$J$75)<>0,SUMIF('5_機器一覧'!$K$4:$K$75,'6_領収証等一覧'!A71,'5_機器一覧'!$J$4:$J$75),\"\")","v":""},null,null,null,null,false]
[null,null,{"$f":"IF(SUMIF('5_機器一覧'!$K$4:$K$75,'6_領収証等一覧'!A72,'5_機器一覧'!$J$4:$J$75)<>0,SUMIF('5_機器一覧'!$K$4:$K$75,'6_領収証等一覧'!A72,'5_機器一覧'!$J$4:$J$75),\"\")","v":""},null,null,null,null,false]
[null,null,{"$f":"IF(SUMIF('5_機器一覧'!$K$4:$K$75,'6_領収証等一覧'!A73,'5_機器一覧'!$J$4:$J$75)<>0,SUMIF('5_機器一覧'!$K$4:$K$75,'6_領収証等一覧'!A73,'5_機器一覧'!$J$4:$J$75),\"\")","v":""},null,null,null,null,false]
[null,null,{"$f":"IF(SUMIF('5_機器一覧'!$K$4:$K$75,'6_領収証等一覧'!A74,'5_機器一覧'!$J$4:$J$75)<>0,SUMIF('5_機器一覧'!$K$4:$K$75,'6_領収証等一覧'!A74,'5_機器一覧'!$J$4:$J$75),\"\")","v":""},null,null,null,null,false]
[null,null,{"$f":"IF(SUMIF('5_機器一覧'!$K$4:$K$75,'6_領収証等一覧'!A75,'5_機器一覧'!$J$4:$J$75)<>0,SUMIF('5_機器一覧'!$K$4:$K$75,'6_領収証等一覧'!A75,'5_機器一覧'!$J$4:$J$75),\"\")","v":""},null,null,null,null,false]
[null,null,{"$f":"IF(SUMIF('5_機器一覧'!$K$4:$K$75,'6_領収証等一覧'!A76,'5_機器一覧'!$J$4:$J$75)<>0,SUMIF('5_機器一覧'!$K$4:$K$75,'6_領収証等一覧'!A76,'5_機器一覧'!$J$4:$J$75),\"\")","v":""},null,null,null,null,false]
[null,null,{"$f":"IF(SUMIF('5_機器一覧'!$K$4:$K$75,'6_領収証等一覧'!A77,'5_機器一覧'!$J$4:$J$75)<>0,SUMIF('5_機器一覧'!$K$4:$K$75,'6_領収証等一覧'!A77,'5_機器一覧'!$J$4:$J$75),\"\")","v":""},null,null,null,null,false]
[null,null,{"$f":"IF(SUMIF('5_機器一覧'!$K$4:$K$75,'6_領収証等一覧'!A78,'5_機器一覧'!$J$4:$J$75)<>0,SUMIF('5_機器一覧'!$K$4:$K$75,'6_領収証等一覧'!A78,'5_機器一覧'!$J$4:$J$75),\"\")","v":""},null,null,null,null,false]
[null,null,{"$f":"IF(SUMIF('5_機器一覧'!$K$4:$K$75,'6_領収証等一覧'!A79,'5_機器一覧'!$J$4:$J$75)<>0,SUMIF('5_機器一覧'!$K$4:$K$75,'6_領収証等一覧'!A79,'5_機器一覧'!$J$4:$J$75),\"\")","v":""},null,null,null,null,false]
[null,null,{"$f":"IF(SUMIF('5_機器一覧'!$K$4:$K$75,'6_領収証等一覧'!A80,'5_機器一覧'!$J$4:$J$75)<>0,SUMIF('5_機器一覧'!$K$4:$K$75,'6_領収証等一覧'!A80,'5_機器一覧'!$J$4:$J$75),\"\")","v":""},null,null,null,null,false]
[null,null,{"$f":"IF(SUMIF('5_機器一覧'!$K$4:$K$75,'6_領収証等一覧'!A81,'5_機器一覧'!$J$4:$J$75)<>0,SUMIF('5_機器一覧'!$K$4:$K$75,'6_領収証等一覧'!A81,'5_機器一覧'!$J$4:$J$75),\"\")","v":""},null,null,null,null,false]
[null,null,{"$f":"IF(SUMIF('5_機器一覧'!$K$4:$K$75,'6_領収証等一覧'!A82,'5_機器一覧'!$J$4:$J$75)<>0,SUMIF('5_機器一覧'!$K$4:$K$75,'6_領収証等一覧'!A82,'5_機器一覧'!$J$4:$J$75),\"\")","v":""},null,null,null,null,false]
[null,null,{"$f":"IF(SUMIF('5_機器一覧'!$K$4:$K$75,'6_領収証等一覧'!A83,'5_機器一覧'!$J$4:$J$75)<>0,SUMIF('5_機器一覧'!$K$4:$K$75,'6_領収証等一覧'!A83,'5_機器一覧'!$J$4:$J$75),\"\")","v":""},null,null,null,null,false]
[null,null,{"$f":"IF(SUMIF('5_機器一覧'!$K$4:$K$75,'6_領収証等一覧'!A84,'5_機器一覧'!$J$4:$J$75)<>0,SUMIF('5_機器一覧'!$K$4:$K$75,'6_領収証等一覧'!A84,'5_機器一覧'!$J$4:$J$75),\"\")","v":""},null,null,null,null,false]
[null,null,{"$f":"IF(SUMIF('5_機器一覧'!$K$4:$K$75,'6_領収証等一覧'!A85,'5_機器一覧'!$J$4:$J$75)<>0,SUMIF('5_機器一覧'!$K$4:$K$75,'6_領収証等一覧'!A85,'5_機器一覧'!$J$4:$J$75),\"\")","v":""},null,null,null,null,false]
[null,null,{"$f":"IF(SUMIF('5_機器一覧'!$K$4:$K$75,'6_領収証等一覧'!A86,'5_機器一覧'!$J$4:$J$75)<>0,SUMIF('5_機器一覧'!$K$4:$K$75,'6_領収証等一覧'!A86,'5_機器一覧'!$J$4:$J$75),\"\")","v":""},null,null,null,null,false]
[null,null,{"$f":"IF(SUMIF('5_機器一覧'!$K$4:$K$75,'6_領収証等一覧'!A87,'5_機器一覧'!$J$4:$J$75)<>0,SUMIF('5_機器一覧'!$K$4:$K$75,'6_領収証等一覧'!A87,'5_機器一覧'!$J$4:$J$75),\"\")","v":""},null,null,null,null,false]
[null,null,{"$f":"IF(SUMIF('5_機器一覧'!$K$4:$K$75,'6_領収証等一覧'!A88,'5_機器一覧'!$J$4:$J$75)<>0,SUMIF('5_機器一覧'!$K$4:$K$75,'6_領収証等一覧'!A88,'5_機器一覧'!$J$4:$J$75),\"\")","v":""},null,null,null,null,false]
[null,null,{"$f":"IF(SUMIF('5_機器一覧'!$K$4:$K$75,'6_領収証等一覧'!A89,'5_機器一覧'!$J$4:$J$75)<>0,SUMIF('5_機器一覧'!$K$4:$K$75,'6_領収証等一覧'!A89,'5_機器一覧'!$J$4:$J$75),\"\")","v":""},null,null,null,null,false]
[null,null,{"$f":"IF(SUMIF('5_機器一覧'!$K$4:$K$75,'6_領収証等一覧'!A90,'5_機器一覧'!$J$4:$J$75)<>0,SUMIF('5_機器一覧'!$K$4:$K$75,'6_領収証等一覧'!A90,'5_機器一覧'!$J$4:$J$75),\"\")","v":""},null,null,null,null,false]
[null,null,{"$f":"IF(SUMIF('5_機器一覧'!$K$4:$K$75,'6_領収証等一覧'!A91,'5_機器一覧'!$J$4:$J$75)<>0,SUMIF('5_機器一覧'!$K$4:$K$75,'6_領収証等一覧'!A91,'5_機器一覧'!$J$4:$J$75),\"\")","v":""},null,null,null,null,false]
[null,null,{"$f":"IF(SUMIF('5_機器一覧'!$K$4:$K$75,'6_領収証等一覧'!A92,'5_機器一覧'!$J$4:$J$75)<>0,SUMIF('5_機器一覧'!$K$4:$K$75,'6_領収証等一覧'!A92,'5_機器一覧'!$J$4:$J$75),\"\")","v":""},null,null,null,null,false]
[null,null,{"$f":"IF(SUMIF('5_機器一覧'!$K$4:$K$75,'6_領収証等一覧'!A93,'5_機器一覧'!$J$4:$J$75)<>0,SUMIF('5_機器一覧'!$K$4:$K$75,'6_領収証等一覧'!A93,'5_機器一覧'!$J$4:$J$75),\"\")","v":""},null,null,null,null,false]
[null,null,{"$f":"IF(SUMIF('5_機器一覧'!$K$4:$K$75,'6_領収証等一覧'!A94,'5_機器一覧'!$J$4:$J$75)<>0,SUMIF('5_機器一覧'!$K$4:$K$75,'6_領収証等一覧'!A94,'5_機器一覧'!$J$4:$J$75),\"\")","v":""},null,null,null,null,false]
[null,null,{"$f":"IF(SUMIF('5_機器一覧'!$K$4:$K$75,'6_領収証等一覧'!A95,'5_機器一覧'!$J$4:$J$75)<>0,SUMIF('5_機器一覧'!$K$4:$K$75,'6_領収証等一覧'!A95,'5_機器一覧'!$J$4:$J$75),\"\")","v":""},null,null,null,null,false]
[null,null,{"$f":"IF(SUMIF('5_機器一覧'!$K$4:$K$75,'6_領収証等一覧'!A96,'5_機器一覧'!$J$4:$J$75)<>0,SUMIF('5_機器一覧'!$K$4:$K$75,'6_領収証等一覧'!A96,'5_機器一覧'!$J$4:$J$75),\"\")","v":""},null,null,null,null,false]
[null,null,{"$f":"IF(SUMIF('5_機器一覧'!$K$4:$K$75,'6_領収証等一覧'!A97,'5_機器一覧'!$J$4:$J$75)<>0,SUMIF('5_機器一覧'!$K$4:$K$75,'6_領収証等一覧'!A97,'5_機器一覧'!$J$4:$J$75),\"\")","v":""},null,null,null,null,false]
[null,null,{"$f":"IF(SUMIF('5_機器一覧'!$K$4:$K$75,'6_領収証等一覧'!A98,'5_機器一覧'!$J$4:$J$75)<>0,SUMIF('5_機器一覧'!$K$4:$K$75,'6_領収証等一覧'!A98,'5_機器一覧'!$J$4:$J$75),\"\")","v":""},null,null,null,null,false]
[null,null,{"$f":"IF(SUMIF('5_機器一覧'!$K$4:$K$75,'6_領収証等一覧'!A99,'5_機器一覧'!$J$4:$J$75)<>0,SUMIF('5_機器一覧'!$K$4:$K$75,'6_領収証等一覧'!A99,'5_機器一覧'!$J$4:$J$75),\"\")","v":""},null,null,null,null,false]
[null,null,{"$f":"IF(SUMIF('5_機器一覧'!$K$4:$K$75,'6_領収証等一覧'!A100,'5_機器一覧'!$J$4:$J$75)<>0,SUMIF('5_機器一覧'!$K$4:$K$75,'6_領収証等一覧'!A100,'5_機器一覧'!$J$4:$J$75),\"\")","v":""},null,null,null,null,false]
[null,null,{"$f":"IF(SUMIF('5_機器一覧'!$K$4:$K$75,'6_領収証等一覧'!A101,'5_機器一覧'!$J$4:$J$75)<>0,SUMIF('5_機器一覧'!$K$4:$K$75,'6_領収証等一覧'!A101,'5_機器一覧'!$J$4:$J$75),\"\")","v":""},null,null,null,null,false]
[null,null,{"$f":"IF(SUMIF('5_機器一覧'!$K$4:$K$75,'6_領収証等一覧'!A102,'5_機器一覧'!$J$4:$J$75)<>0,SUMIF('5_機器一覧'!$K$4:$K$75,'6_領収証等一覧'!A102,'5_機器一覧'!$J$4:$J$75),\"\")","v":""},null,null,null,null,false]
[null,null,{"$f":"IF(SUMIF('5_機器一覧'!$K$4:$K$75,'6_領収証等一覧'!A103,'5_機器一覧'!$J$4:$J$75)<>0,SUMIF('5_機器一覧'!$K$4:$K$75,'6_領収証等一覧'!A103,'5_機器一覧'!$J$4:$J$75),\"\")","v":""},null,null,null,null,false]
[null,null,{"$f":"IF(SUMIF('5_機器一覧'!$K$4:$K$75,'6_領収証等一覧'!A104,'5_機器一覧'!$J$4:$J$75)<>0,SUMIF('5_機器一覧'!$K$4:$K$75,'6_領収証等一覧'!A104,'5_機器一覧'!$J$4:$J$75),\"\")","v":""},null,null,null,null,false]
[null,null,{"$f":"IF(SUMIF('5_機器一覧'!$K$4:$K$75,'6_領収証等一覧'!A105,'5_機器一覧'!$J$4:$J$75)<>0,SUMIF('5_機器一覧'!$K$4:$K$75,'6_領収証等一覧'!A105,'5_機器一覧'!$J$4:$J$75),\"\")","v":""},null,null,null,null,false]
[null,null,{"$f":"IF(SUMIF('5_機器一覧'!$K$4:$K$75,'6_領収証等一覧'!A106,'5_機器一覧'!$J$4:$J$75)<>0,SUMIF('5_機器一覧'!$K$4:$K$75,'6_領収証等一覧'!A106,'5_機器一覧'!$J$4:$J$75),\"\")","v":""},null,null,null,null,false]
[null,null,{"$f":"IF(SUMIF('5_機器一覧'!$K$4:$K$75,'6_領収証等一覧'!A107,'5_機器一覧'!$J$4:$J$75)<>0,SUMIF('5_機器一覧'!$K$4:$K$75,'6_領収証等一覧'!A107,'5_機器一覧'!$J$4:$J$75),\"\")","v":""},null,null,null,null,false]
[null,null,{"$f":"IF(SUMIF('5_機器一覧'!$K$4:$K$75,'6_領収証等一覧'!A108,'5_機器一覧'!$J$4:$J$75)<>0,SUMIF('5_機器一覧'!$K$4:$K$75,'6_領収証等一覧'!A108,'5_機器一覧'!$J$4:$J$75),\"\")","v":""},null,null,null,null,false]
[null,null,{"$f":"IF(SUMIF('5_機器一覧'!$K$4:$K$75,'6_領収証等一覧'!A109,'5_機器一覧'!$J$4:$J$75)<>0,SUMIF('5_機器一覧'!$K$4:$K$75,'6_領収証等一覧'!A109,'5_機器一覧'!$J$4:$J$75),\"\")","v":""},null,null,null,null,false]
[null,null,{"$f":"IF(SUMIF('5_機器一覧'!$K$4:$K$75,'6_領収証等一覧'!A110,'5_機器一覧'!$J$4:$J$75)<>0,SUMIF('5_機器一覧'!$K$4:$K$75,'6_領収証等一覧'!A110,'5_機器一覧'!$J$4:$J$75),\"\")","v":""},null,null,null,null,false]
[null,null,{"$f":"IF(SUMIF('5_機器一覧'!$K$4:$K$75,'6_領収証等一覧'!A111,'5_機器一覧'!$J$4:$J$75)<>0,SUMIF('5_機器一覧'!$K$4:$K$75,'6_領収証等一覧'!A111,'5_機器一覧'!$J$4:$J$75),\"\")","v":""},null,null,null,null,false]
[null,null,{"$f":"IF(SUMIF('5_機器一覧'!$K$4:$K$75,'6_領収証等一覧'!A112,'5_機器一覧'!$J$4:$J$75)<>0,SUMIF('5_機器一覧'!$K$4:$K$75,'6_領収証等一覧'!A112,'5_機器一覧'!$J$4:$J$75),\"\")","v":""},null,null,null,null,false]
[null,null,{"$f":"IF(SUMIF('5_機器一覧'!$K$4:$K$75,'6_領収証等一覧'!A113,'5_機器一覧'!$J$4:$J$75)<>0,SUMIF('5_機器一覧'!$K$4:$K$75,'6_領収証等一覧'!A113,'5_機器一覧'!$J$4:$J$75),\"\")","v":""},null,null,null,null,false]
[null,null,{"$f":"IF(SUMIF('5_機器一覧'!$K$4:$K$75,'6_領収証等一覧'!A114,'5_機器一覧'!$J$4:$J$75)<>0,SUMIF('5_機器一覧'!$K$4:$K$75,'6_領収証等一覧'!A114,'5_機器一覧'!$J$4:$J$75),\"\")","v":""},null,null,null,null,false]
[null,null,{"$f":"IF(SUMIF('5_機器一覧'!$K$4:$K$75,'6_領収証等一覧'!A115,'5_機器一覧'!$J$4:$J$75)<>0,SUMIF('5_機器一覧'!$K$4:$K$75,'6_領収証等一覧'!A115,'5_機器一覧'!$J$4:$J$75),\"\")","v":""},null,null,null,null,false]
[null,null,{"$f":"IF(SUMIF('5_機器一覧'!$K$4:$K$75,'6_領収証等一覧'!A116,'5_機器一覧'!$J$4:$J$75)<>0,SUMIF('5_機器一覧'!$K$4:$K$75,'6_領収証等一覧'!A116,'5_機器一覧'!$J$4:$J$75),\"\")","v":""},null,null,null,null,false]
[null,null,{"$f":"IF(SUMIF('5_機器一覧'!$K$4:$K$75,'6_領収証等一覧'!A117,'5_機器一覧'!$J$4:$J$75)<>0,SUMIF('5_機器一覧'!$K$4:$K$75,'6_領収証等一覧'!A117,'5_機器一覧'!$J$4:$J$75),\"\")","v":""},null,null,null,null,false]
[null,null,{"$f":"IF(SUMIF('5_機器一覧'!$K$4:$K$75,'6_領収証等一覧'!A118,'5_機器一覧'!$J$4:$J$75)<>0,SUMIF('5_機器一覧'!$K$4:$K$75,'6_領収証等一覧'!A118,'5_機器一覧'!$J$4:$J$75),\"\")","v":""},null,null,null,null,false]
[null,null,{"$f":"IF(SUMIF('5_機器一覧'!$K$4:$K$75,'6_領収証等一覧'!A119,'5_機器一覧'!$J$4:$J$75)<>0,SUMIF('5_機器一覧'!$K$4:$K$75,'6_領収証等一覧'!A119,'5_機器一覧'!$J$4:$J$75),\"\")","v":""},null,null,null,null,false]

{"sheet":"7_台紙","index":6,"n_rows":62,"n_cols":32,"rows_kept":62,"cut":false,"hidden":false,"merged":[[58,0,58,1],[58,2,58,6],[58,7,58,9],[58,10,58,12],[58,13,58,15],[56,27,56,30],[58,16,58,19],[58,20,58,24],[58,25,58,26],[58,27,58,30],[56,2,56,6],[56,7,56,9],[56,10,56,12],[56,13,56,15],[56,16,56,19],[56,20,56,24],[56,25,56,26],[54,31,54,34],[58,31,58,34],[57,16,57,19],[57,20,57,24],[57,25,57,26],[57,27,57,30],[57,31,57,34],[55,0,55,1],[55,2,55,6],[55,7,55,9],[55,10,55,12],[55,13,55,15],[56,31,56,34],[57,0,57,1],[57,2,57,6],[57,7,57,9],[57,10,57,12],[57,13,57,15],[55,16,55,19],[55,20,55,24],[55,25,55,26],[55,27,55,30],[55,31,55,34],[56,0,56,1],[54,0,54,1],[54,2,54,6],[54,7,54,9],[54,10,54,12],[54,13,54,15],[54,16,54,19],[54,20,54,24],[54,25,54,26],[54,27,54,30],[52,31,52,34],[53,0,53,1],[53,2,53,6],[53,7,53,9],[53,10,53,12],[53,13,53,15],[53,16,53,19],[53,20,53,24],[53,25,53,26],[53,27,53,30],[53,31,53,34],[52,0,52,1],[52,2,52,6],[52,7,52,9],[52,10,52,12],[52,13,52,15],[52,16,52,19],[52,20,52,24],[52,25,52,26],[52,27,52,30],[50,31,50,34],[51,0,51,1],[51,2,51,6],[51,7,51,9],[51,10,51,12],[51,13,51,15],[51,16,51,19],[51,20,51,24],[51,25,51,26],[51,27,51,30],[51,31,51,34],[50,0,50,1],[50,2,50,6],[50,7,50,9],[50,10,50,12],[50,13,50,15],[50,16,50,19],[50,20,50,24],[50,25,50,26],[50,27,50,30],[48,31,48,34],[49,0,49,1],[49,2,49,6],[49,7,49,9],[49,10,49,12],[49,13,49,15],[49,16,49,19],[49,20,49,24],[49,25,49,26],[49,27,49,30],[49,31,49,34],[48,0,48,1],[48,2,48,6],[48,7,48,9],[48,10,48,12],[48,13,48,15],[48,16,48,19],[48,20,48,24],[48,25,48,26],[48,27,48,30],[46,31,46,34],[47,0,47,1],[47,2,47,6],[47,7,47,9],[47,10,47,12],[47,13,47,15],[47,16,47,19],[47,20,47,24],[47,25,47,26],[47,27,47,30],[47,31,47,34],[46,0,46,1],[46,2,46,6],[46,7,46,9],[46,10,46,12],[46,13,46,15],[46,16,46,19],[46,20,46,24],[46,25,46,26],[46,27,46,30],[44,31,44,34],[45,0,45,1],[45,2,45,6],[45,7,45,9],[45,10,45,12],[45,13,45,15],[45,16,45,19],[45,20,45,24],[45,25,45,26],[45,27,45,30],[45,31,45,34],[44,0,44,1],[44,2,44,6],[44,7,44,9],[44,10,44,12],[44,13,44,15],[44,16,44,19],[44,20,44,24],[44,25,44,26],[44,27,44,30],[42,31,42,34],[43,0,43,1],[43,2,43,6],[43,7,43,9],[43,10,43,12],[43,13,43,15],[43,16,43,19],[43,20,43,24],[43,25,43,26],[43,27,43,30],[43,31,43,34],[42,0,42,1],[42,2,42,6],[42,7,42,9],[42,10,42,12],[42,13,42,15],[42,16,42,19],[42,20,42,24],[42,25,42,26],[42,27,42,30],[40,31,40,34],[41,0,41,1],[41,2,41,6],[41,7,41,9],[41,10,41,12],[41,13,41,15],[41,16,41,19],[41,20,41,24],[41,25,41,26],[41,27,41,30],[41,31,41,34],[40,0,40,1],[40,2,40,6],[40,7,40,9],[40,10,40,12],[40,13,40,15],[40,16,40,19],[40,20,40,24],[40,25,40,26],[40,27,40,30],[38,31,38,34],[39,0,39,1],[39,2,39,6],[39,7,39,9],[39,10,39,12],[39,13,39,15],[39,16,39,19],[39,20,39,24],[39,25,39,26],[39,27,39,30],[39,31,39,34],[38,0,38,1],[38,2,38,6],[38,7,38,9],[38,10,38,12],[38,13,38,15],[38,16,38,19],[38,20,38,24],[38,25,38,26],[38,27,38,30],[36,31,36,34],[37,0,37,1],[37,2,37,6],[37,7,37,9],[37,10,37,12],[37,13,37,15],[37,16,37,19],[37,20,37,24],[37,25,37,26],[37,27,37,30],[37,31,37,34],[36,0,36,1],[36,2,36,6],[36,7,36,9],[36,10,36,12],[36,13,36,15],[36,16,36,19],[36,20,36,24],[36,25,36,26],[36,27,36,30],[34,31,34,34],[35,0,35,1],[35,2,35,6],[35,7,35,9],[35,10,35,12],[35,13,35,15],[35,16,35,19],[35,20,35,24],[35,25,35,26],[35,27,35,30],[35,31,35,34],[34,0,34,1],[34,2,34,6],[34,7,34,9],[34,10,34,12],[34,13,34,15],[34,16,34,19],[34,20,34,24],[34,25,34,26],[34,27,34,30],[32,31,32,34],[33,0,33,1],[33,2,33,6],[33,7,33,9],[33,10,33,12],[33,13,33,15],[33,16,33,19],[33,20,33,24],[33,25,33,26],[33,27,33,30],[33,31,33,34],[32,0,32,1],[32,2,32,6],[32,7,32,9],[32,10,32,12],[32,13,32,15],[32,16,32,19],[32,20,32,24],[32,25,32,26],[32,27,32,30],[30,31,30,34],[31,0,31,1],[31,2,31,6],[31,7,31,9],[31,10,31,12],[31,13,31,15],[31,16,31,19],[31,20,31,24],[31,25,31,26],[31,27,31,30],[31,31,31,34],[30,0,30,1],[30,2,30,6],[30,7,30,9],[30,10,30,12],[30,13,30,15],[30,16,30,19],[30,20,30,24],[30,25,30,26],[30,27,30,30],[28,31,28,34],[29,0,29,1],[29,2,29,6],[29,7,29,9],[29,10,29,12],[29,13,29,15],[29,16,29,19],[29,20,29,24],[29,25,29,26],[29,27,29,30],[29,31,29,34],[28,0,28,1],[28,2,28,6],[28,7,28,9],[28,10,28,12],[28,13,28,15],[28,16,28,19],[28,20,28,24],[28,25,28,26],[28,27,28,30],[26,31,26,34],[27,0,27,1],[27,2,27,6],[27,7,27,9],[27,10,27,12],[27,13,27,15],[27,16,27,19],[27,20,27,24],[27,25,27,26],[27,27,27,30],[27,31,27,34],[26,0,26,1],[26,2,26,6],[26,7,26,9],[26,10,26,12],[26,13,26,15],[26,16,26,19],[26,20,26,24],[26,25,26,26],[26,27,26,30],[24,31,24,34],[25,0,25,1],[25,2,25,6],[25,7,25,9],[25,10,25,12],[25,13,25,15],[25,16,25,19],[25,20,25,24],[25,25,25,26],[25,27,25,30],[25,31,25,34],[24,0,24,1],[24,2,24,6],[24,7,24,9],[24,10,24,12],[24,13,24,15],[24,16,24,19],[24,20,24,24],[24,25,24,26],[24,27,24,30],[22,31,22,34],[23,0,23,1],[23,2,23,6],[23,7,23,9],[23,10,23,12],[23,13,23,15],[23,16,23,19],[23,20,23,24],[23,25,23,26],[23,27,23,30],[23,31,23,34],[22,0,22,1],[22,2,22,6],[22,7,22,9],[22,10,22,12],[22,13,22,15],[22,16,22,19],[22,20,22,24],[22,25,22,26],[22,27,22,30],[20,31,20,34],[21,0,21,1],[21,2,21,6],[21,7,21,9],[21,10,21,12],[21,13,21,15],[21,16,21,19],[21,20,21,24],[21,25,21,26],[21,27,21,30],[21,31,21,34],[20,0,20,1],[20,2,20,6],[20,7,20,9],[20,10,20,12],[20,13,20,15],[20,16,20,19],[20,20,20,24],[20,25,20,26],[20,27,20,30],[18,31,18,34],[19,0,19,1],[19,2,19,6],[19,7,19,9],[19,10,19,12],[19,13,19,15],[19,16,19,19],[19,20,19,24],[19,25,19,26],[19,27,19,30],[19,31,19,34],[18,0,18,1],[18,2,18,6],[18,7,18,9],[18,10,18,12],[18,13,18,15],[18,16,18,19],[18,20,18,24],[18,25,18,26],[18,27,18,30],[16,31,16,34],[17,0,17,1],[17,2,17,6],[17,7,17,9],[17,10,17,12],[17,13,17,15],[17,16,17,19],[17,20,17,24],[17,25,17,26],[17,27,17,30],[17,31,17,34],[16,0,16,1],[16,2,16,6],[16,7,16,9],[16,10,16,12],[16,13,16,15],[16,16,16,19],[16,20,16,24],[16,25,16,26],[16,27,16,30],[14,31,14,34],[15,0,15,1],[15,2,15,6],[15,7,15,9],[15,10,15,12],[15,13,15,15],[15,16,15,19],[15,20,15,24],[15,25,15,26],[15,27,15,30],[15,31,15,34],[14,0,14,1],[14,2,14,6],[14,7,14,9],[14,10,14,12],[14,13,14,15],[14,16,14,19],[14,20,14,24],[14,25,14,26],[14,27,14,30],[12,31,12,34],[13,0,13,1],[13,2,13,6],[13,7,13,9],[13,10,13,12],[13,13,13,15],[13,16,13,19],[13,20,13,24],[13,25,13,26],[13,27,13,30],[13,31,13,34],[12,0,12,1],[12,2,12,6],[12,7,12,9],[12,10,12,12],[12,13,12,15],[12,16,12,19],[12,20,12,24],[12,25,12,26],[12,27,12,30],[10,31,10,34],[11,0,11,1],[11,2,11,6],[11,7,11,9],[11,10,11,12],[11,13,11,15],[11,16,11,19],[11,20,11,24],[11,25,11,26],[11,27,11,30],[11,31,11,34],[10,0,10,1],[10,2,10,6],[10,7,10,9],[10,10,10,12],[10,13,10,15],[10,16,10,19],[10,20,10,24],[10,25,10,26],[10,27,10,30],[8,31,8,34],[9,0,9,1],[9,2,9,6],[9,7,9,9],[9,10,9,12],[9,13,9,15],[9,16,9,19],[9,20,9,24],[9,25,9,26],[9,27,9,30],[9,31,9,34],[8,0,8,1],[8,2,8,6],[8,7,8,9],[8,10,8,12],[8,13,8,15],[8,16,8,19],[8,20,8,24],[8,25,8,26],[8,27,8,30],[6,31,6,34],[7,0,7,1],[7,2,7,6],[7,7,7,9],[7,10,7,12],[7,13,7,15],[7,16,7,19],[7,20,7,24],[7,25,7,26],[7,27,7,30],[7,31,7,34],[6,0,6,1],[6,2,6,6],[6,7,6,9],[6,10,6,12],[6,13,6,15],[6,16,6,19],[6,20,6,24],[6,25,6,26],[6,27,6,30],[3,0,3,3],[3,17,3,20],[3,21,3,34],[4,0,4,34],[5,0,5,1],[5,2,5,6],[5,7,5,9],[5,10,5,12],[5,13,5,15],[5,16,5,19],[5,20,5,24],[5,25,5,26],[5,27,5,30],[5,31,5,34],[3,4,3,10],[3,11,3,13],[3,14,3,16],[1,0,1,3],[1,4,1,16],[1,17,1,20],[1,21,1,34],[2,0,2,3],[2,4,2,16],[2,17,2,20],[2,21,2,34],[0,0,0,34]]}
["（様式７）領収証等貼付台紙"]
["ファイル名",null,null,null,null,null,null,null,null,null,null,null,null,null,null,null,null,"法人名"]
["領収書№",null,null,null,null,null,null,null,null,null,null,null,null,null,null,null,null,"領収書金額"]
["納品日",null,null,null,null,null,null,null,null,null,null,"納品書有無",null,null,null,null,null,"所要額合計"]
[1]
["施設№",null,"施設名",null,null,null,null,"平面図№",null,null,"階など",null,null,"部屋№",null,null,"部屋名",null,null,null,"部屋区分",null,null,null,null,"機器№",null,"機器区分",null,null,null,"所要額"]
[null,null,null,null,null,null,null,""]
[null,null,null,null,null,null,null,""]
[]
[]
[]
[]
[]
[]
[]
[]
[]
[]
[]
[]
[]
[]
[]
[]
[]
[]
[]
[]
[]
[]
[]
[]
[]
[]
[]
[]
[]
[]
[]
[]
[]
[]
[]
[]
[]
[]
[]
[]
[]
[]
[]
[]
[]
[]
[]
[]
[]
[]
[]
["注１　領収証等貼付欄に領収証のコピーを貼り付けてください。"]
["       納品書がある場合は、領収証のコピーと納品書のコピーを貼り付けてください。"]
["注２　コピーの大きさが貼付欄に収まらないときは、コピーを折り曲げるか、この台紙とコピーをホチキス止めしてください。"]

{"sheet":"リスト","index":7,"n_rows":38,"n_cols":7,"rows_kept":38,"cut":false,"hidden":true,"merged":[]}
[]
["施設分類","保護施設","高齢者施設","障害者施設","保育所・幼稚園等","児童養護施設等","放課後子供教室"]
["所管課","福祉保健総務課","健康長寿推進課","障害福祉課","子育て政策課","子ども福祉課","生涯学習課"]
["所定の番号","なし","介護保険事業所番号","事業所番号","なし","なし","なし"]
["申請先","山梨県知事","山梨県知事","山梨県知事","山梨県知事","山梨県知事","山梨県教育長"]
["施設種別数",{"$f":"COUNTA(B7:B24)","v":1},{"$f":"COUNTA(C7:C24)","v":18},12,7,4,1]
["施設種別","救護施設","介護老人福祉施設","施設入所支援","認可保育所","児童養護施設","放課後子供教室（小学校の教室等を使用している場合を除く。）"]
[null,null,"介護老人保健施設","療養介護事業所","幼稚園","乳児院"]
[null,null,"介護療養型医療施設","短期入所事業所","認定こども園","自立援助ホーム"]
[null,null,"介護医療院","共同生活援助事業所（グループホーム）","地域型保育施設","ファミリーホーム"]
[null,null,"短期入所生活介護事業所","自立訓練（宿泊型）事業所","へき地保育所"]
[null,null,"短期入所療養介護事業所","生活介護事業所","認可外保育施設"]
[null,null,"地域密着型介護老人福祉施設入所者生活介護事業所","就労継続支援Ａ型事業所","放課後児童クラブ（小学校の教室等を使用している場合を除く。）"]
[null,null,"認知症対応型共同生活介護事業所","就労継続支援Ｂ型事業所"]
[null,null,"養護老人ホーム","就労移行支援事業所"]
[null,null,"軽費老人ホーム","児童発達支援事業所"]
[null,null,"有料老人ホーム","放課後等デイサービス事業所"]
[null,null,"サービス付き高齢者向け住宅","自立訓練事業所"]
[null,null,"通所介護事業所"]
[null,null,"通所リハビリテーション事業所"]
[null,null,"地域密着型通所介護事業所"]
[null,null,"認知症対応型通所介護事業所"]
[null,null,"小規模多機能型居宅介護事業所"]
[null,null,"看護小規模多機能型居宅介護事業所"]
[]
["部屋区分","上限額"]
["多床室",100000]
["共有スペース(小)",100000]
["共有スペース(中)",200000]
["共有スペース(大)",300000]
[]
["機器区分"]
["空気清浄機"]
["サーキュレータ"]
["二酸化炭素濃度測定器"]
["換気扇"]
["扇風機"]
["その他換気機能を有する機器"]